BEGIN:VCALENDAR
VERSION:2.0
PRODID:-//Adirondack Folk School - ECPv6.15.12.2//NONSGML v1.0//EN
CALSCALE:GREGORIAN
METHOD:PUBLISH
X-WR-CALNAME:Adirondack Folk School
X-ORIGINAL-URL:https://adirondackfolkschool.org
X-WR-CALDESC:Events for Adirondack Folk School
REFRESH-INTERVAL;VALUE=DURATION:PT1H
X-Robots-Tag:noindex
X-PUBLISHED-TTL:PT1H
BEGIN:VTIMEZONE
TZID:America/New_York
BEGIN:DAYLIGHT
TZOFFSETFROM:-0500
TZOFFSETTO:-0400
TZNAME:EDT
DTSTART:20250309T070000
END:DAYLIGHT
BEGIN:STANDARD
TZOFFSETFROM:-0400
TZOFFSETTO:-0500
TZNAME:EST
DTSTART:20251102T060000
END:STANDARD
BEGIN:DAYLIGHT
TZOFFSETFROM:-0500
TZOFFSETTO:-0400
TZNAME:EDT
DTSTART:20260308T070000
END:DAYLIGHT
BEGIN:STANDARD
TZOFFSETFROM:-0400
TZOFFSETTO:-0500
TZNAME:EST
DTSTART:20261101T060000
END:STANDARD
BEGIN:DAYLIGHT
TZOFFSETFROM:-0500
TZOFFSETTO:-0400
TZNAME:EDT
DTSTART:20270314T070000
END:DAYLIGHT
BEGIN:STANDARD
TZOFFSETFROM:-0400
TZOFFSETTO:-0500
TZNAME:EST
DTSTART:20271107T060000
END:STANDARD
END:VTIMEZONE
BEGIN:VEVENT
DTSTART;TZID=America/New_York:20260423T090000
DTEND;TZID=America/New_York:20260423T123000
DTSTAMP:20260423T013919
CREATED:20251204T183630Z
LAST-MODIFIED:20251204T183630Z
UID:10003469-1776934800-1776947400@adirondackfolkschool.org
SUMMARY:Stained Glass Solar Jars
DESCRIPTION:In this class we will be cutting and applying stained glass mosaic pieces to a clear glass jar to create a solar jar light or candle jar. Inspiration patterns and/or photos will be provided or students may bring their own. These should be relatively simple images\, and must be exactly 3? high by 10.5? wide.
URL:https://adirondackfolkschool.org/event/stained-glass-solar-jars/
LOCATION:Adirondack Folk School\, 51 Main St.\, Lake Luzerne\, NY\, 12846\, United States
CATEGORIES:Glass Arts
ATTACH;FMTTYPE=image/jpeg:https://adirondackfolkschool.org/wp-content/uploads/2025/11/Stained-Glass-Solar-Jar-Vaughn-scaled.jpeg
END:VEVENT
BEGIN:VEVENT
DTSTART;TZID=America/New_York:20260423T090000
DTEND;TZID=America/New_York:20260423T130000
DTSTAMP:20260423T013919
CREATED:20251204T163110Z
LAST-MODIFIED:20251204T163110Z
UID:10003028-1776934800-1776949200@adirondackfolkschool.org
SUMMARY:Introduction to Weaving on a Floor Loom
DESCRIPTION:Learn to weave on a floor loom. With instruction and hands on experience\, you will perform each step of the process – winding a warp\, dressing a loom\, and weaving a cotton towel to take home and use for years to come.
URL:https://adirondackfolkschool.org/event/introduction-to-weaving-on-a-floor-loom-41/
LOCATION:NY
CATEGORIES:Fiber Arts
ATTACH;FMTTYPE=image/jpeg:https://adirondackfolkschool.org/wp-content/uploads/2023/12/Intro-to-Floor-Loom-Weaving-Teri-Dvorak.jpeg
END:VEVENT
END:VCALENDAR