BEGIN:VCALENDAR
VERSION:2.0
PRODID:-//Adirondack Folk School - ECPv6.15.12.2//NONSGML v1.0//EN
CALSCALE:GREGORIAN
METHOD:PUBLISH
X-ORIGINAL-URL:https://adirondackfolkschool.org
X-WR-CALDESC:Events for Adirondack Folk School
REFRESH-INTERVAL;VALUE=DURATION:PT1H
X-Robots-Tag:noindex
X-PUBLISHED-TTL:PT1H
BEGIN:VTIMEZONE
TZID:America/New_York
BEGIN:DAYLIGHT
TZOFFSETFROM:-0500
TZOFFSETTO:-0400
TZNAME:EDT
DTSTART:20220313T070000
END:DAYLIGHT
BEGIN:STANDARD
TZOFFSETFROM:-0400
TZOFFSETTO:-0500
TZNAME:EST
DTSTART:20221106T060000
END:STANDARD
BEGIN:DAYLIGHT
TZOFFSETFROM:-0500
TZOFFSETTO:-0400
TZNAME:EDT
DTSTART:20230312T070000
END:DAYLIGHT
BEGIN:STANDARD
TZOFFSETFROM:-0400
TZOFFSETTO:-0500
TZNAME:EST
DTSTART:20231105T060000
END:STANDARD
BEGIN:DAYLIGHT
TZOFFSETFROM:-0500
TZOFFSETTO:-0400
TZNAME:EDT
DTSTART:20240310T070000
END:DAYLIGHT
BEGIN:STANDARD
TZOFFSETFROM:-0400
TZOFFSETTO:-0500
TZNAME:EST
DTSTART:20241103T060000
END:STANDARD
END:VTIMEZONE
BEGIN:VEVENT
DTSTART;TZID=America/New_York:20231002T083000
DTEND;TZID=America/New_York:20231002T173000
DTSTAMP:20260425T220824
CREATED:20221214T231423Z
LAST-MODIFIED:20221214T231423Z
UID:10001951-1696235400-1696267800@adirondackfolkschool.org
SUMMARY:Build a Wee Lassie Canoe
DESCRIPTION:The original Wee Lassie was a lapstrake-built open cedar canoe made in 1863 by J. Henry Rushton of Canton\, NY. Rushton was one of the most famous canoe builders of his era. George Washington Sears\, who wrote of his adventures under his pen name of Nessmuk as he recorded his paddling adventures throughout the Adirondacks\, popularized these small\, finely crafted canoes. Come spend 11 wonderful days with master instructor Larry Benjamin building your own Wee Lassie. You will be guided through every step of the building process. Leave with a beautiful\, lightweight canoe that handles well in the water. Open to all level of student.
URL:https://adirondackfolkschool.org/event/build-a-wee-lassie-canoe-67/
CATEGORIES:Boats & Paddles
ATTACH;FMTTYPE=image/jpeg:https://adirondackfolkschool.org/wp-content/uploads/2022/01/Build-a-Wee-Lassie-Canoe.jpg
END:VEVENT
BEGIN:VEVENT
DTSTART;TZID=America/New_York:20231003T083000
DTEND;TZID=America/New_York:20231003T173000
DTSTAMP:20260425T220824
CREATED:20221214T231424Z
LAST-MODIFIED:20221214T231424Z
UID:10001952-1696321800-1696354200@adirondackfolkschool.org
SUMMARY:Build a Wee Lassie Canoe
DESCRIPTION:The original Wee Lassie was a lapstrake-built open cedar canoe made in 1863 by J. Henry Rushton of Canton\, NY. Rushton was one of the most famous canoe builders of his era. George Washington Sears\, who wrote of his adventures under his pen name of Nessmuk as he recorded his paddling adventures throughout the Adirondacks\, popularized these small\, finely crafted canoes. Come spend 11 wonderful days with master instructor Larry Benjamin building your own Wee Lassie. You will be guided through every step of the building process. Leave with a beautiful\, lightweight canoe that handles well in the water. Open to all level of student.
URL:https://adirondackfolkschool.org/event/build-a-wee-lassie-canoe-68/
CATEGORIES:Boats & Paddles
ATTACH;FMTTYPE=image/jpeg:https://adirondackfolkschool.org/wp-content/uploads/2022/01/Build-a-Wee-Lassie-Canoe.jpg
END:VEVENT
BEGIN:VEVENT
DTSTART;TZID=America/New_York:20231004T083000
DTEND;TZID=America/New_York:20231004T173000
DTSTAMP:20260425T220824
CREATED:20221214T231436Z
LAST-MODIFIED:20221214T231436Z
UID:10001953-1696408200-1696440600@adirondackfolkschool.org
SUMMARY:Build a Wee Lassie Canoe
DESCRIPTION:The original Wee Lassie was a lapstrake-built open cedar canoe made in 1863 by J. Henry Rushton of Canton\, NY. Rushton was one of the most famous canoe builders of his era. George Washington Sears\, who wrote of his adventures under his pen name of Nessmuk as he recorded his paddling adventures throughout the Adirondacks\, popularized these small\, finely crafted canoes. Come spend 11 wonderful days with master instructor Larry Benjamin building your own Wee Lassie. You will be guided through every step of the building process. Leave with a beautiful\, lightweight canoe that handles well in the water. Open to all level of student.
URL:https://adirondackfolkschool.org/event/build-a-wee-lassie-canoe-69/
CATEGORIES:Boats & Paddles
ATTACH;FMTTYPE=image/jpeg:https://adirondackfolkschool.org/wp-content/uploads/2022/01/Build-a-Wee-Lassie-Canoe.jpg
END:VEVENT
BEGIN:VEVENT
DTSTART;TZID=America/New_York:20231005T083000
DTEND;TZID=America/New_York:20231005T173000
DTSTAMP:20260425T220824
CREATED:20221214T231437Z
LAST-MODIFIED:20221214T231437Z
UID:10001954-1696494600-1696527000@adirondackfolkschool.org
SUMMARY:Build a Wee Lassie Canoe
DESCRIPTION:The original Wee Lassie was a lapstrake-built open cedar canoe made in 1863 by J. Henry Rushton of Canton\, NY. Rushton was one of the most famous canoe builders of his era. George Washington Sears\, who wrote of his adventures under his pen name of Nessmuk as he recorded his paddling adventures throughout the Adirondacks\, popularized these small\, finely crafted canoes. Come spend 11 wonderful days with master instructor Larry Benjamin building your own Wee Lassie. You will be guided through every step of the building process. Leave with a beautiful\, lightweight canoe that handles well in the water. Open to all level of student.
URL:https://adirondackfolkschool.org/event/build-a-wee-lassie-canoe-70/
CATEGORIES:Boats & Paddles
ATTACH;FMTTYPE=image/jpeg:https://adirondackfolkschool.org/wp-content/uploads/2022/01/Build-a-Wee-Lassie-Canoe.jpg
END:VEVENT
BEGIN:VEVENT
DTSTART;TZID=America/New_York:20231006T083000
DTEND;TZID=America/New_York:20231006T173000
DTSTAMP:20260425T220824
CREATED:20221214T231437Z
LAST-MODIFIED:20221214T231437Z
UID:10001955-1696581000-1696613400@adirondackfolkschool.org
SUMMARY:Build a Wee Lassie Canoe
DESCRIPTION:The original Wee Lassie was a lapstrake-built open cedar canoe made in 1863 by J. Henry Rushton of Canton\, NY. Rushton was one of the most famous canoe builders of his era. George Washington Sears\, who wrote of his adventures under his pen name of Nessmuk as he recorded his paddling adventures throughout the Adirondacks\, popularized these small\, finely crafted canoes. Come spend 11 wonderful days with master instructor Larry Benjamin building your own Wee Lassie. You will be guided through every step of the building process. Leave with a beautiful\, lightweight canoe that handles well in the water. Open to all level of student.
URL:https://adirondackfolkschool.org/event/build-a-wee-lassie-canoe-71/
CATEGORIES:Boats & Paddles
ATTACH;FMTTYPE=image/jpeg:https://adirondackfolkschool.org/wp-content/uploads/2022/01/Build-a-Wee-Lassie-Canoe.jpg
END:VEVENT
BEGIN:VEVENT
DTSTART;TZID=America/New_York:20231007T083000
DTEND;TZID=America/New_York:20231007T173000
DTSTAMP:20260425T220824
CREATED:20221214T231438Z
LAST-MODIFIED:20221214T231438Z
UID:10001956-1696667400-1696699800@adirondackfolkschool.org
SUMMARY:Build a Wee Lassie Canoe
DESCRIPTION:The original Wee Lassie was a lapstrake-built open cedar canoe made in 1863 by J. Henry Rushton of Canton\, NY. Rushton was one of the most famous canoe builders of his era. George Washington Sears\, who wrote of his adventures under his pen name of Nessmuk as he recorded his paddling adventures throughout the Adirondacks\, popularized these small\, finely crafted canoes. Come spend 11 wonderful days with master instructor Larry Benjamin building your own Wee Lassie. You will be guided through every step of the building process. Leave with a beautiful\, lightweight canoe that handles well in the water. Open to all level of student.
URL:https://adirondackfolkschool.org/event/build-a-wee-lassie-canoe-72/
CATEGORIES:Boats & Paddles
ATTACH;FMTTYPE=image/jpeg:https://adirondackfolkschool.org/wp-content/uploads/2022/01/Build-a-Wee-Lassie-Canoe.jpg
END:VEVENT
BEGIN:VEVENT
DTSTART;TZID=America/New_York:20231009T083000
DTEND;TZID=America/New_York:20231009T173000
DTSTAMP:20260425T220824
CREATED:20221214T231439Z
LAST-MODIFIED:20221214T231439Z
UID:10001957-1696840200-1696872600@adirondackfolkschool.org
SUMMARY:Build a Wee Lassie Canoe
DESCRIPTION:The original Wee Lassie was a lapstrake-built open cedar canoe made in 1863 by J. Henry Rushton of Canton\, NY. Rushton was one of the most famous canoe builders of his era. George Washington Sears\, who wrote of his adventures under his pen name of Nessmuk as he recorded his paddling adventures throughout the Adirondacks\, popularized these small\, finely crafted canoes. Come spend 11 wonderful days with master instructor Larry Benjamin building your own Wee Lassie. You will be guided through every step of the building process. Leave with a beautiful\, lightweight canoe that handles well in the water. Open to all level of student.
URL:https://adirondackfolkschool.org/event/build-a-wee-lassie-canoe-73/
CATEGORIES:Boats & Paddles
ATTACH;FMTTYPE=image/jpeg:https://adirondackfolkschool.org/wp-content/uploads/2022/01/Build-a-Wee-Lassie-Canoe.jpg
END:VEVENT
BEGIN:VEVENT
DTSTART;TZID=America/New_York:20231010T083000
DTEND;TZID=America/New_York:20231010T173000
DTSTAMP:20260425T220824
CREATED:20221214T231451Z
LAST-MODIFIED:20221214T231451Z
UID:10001958-1696926600-1696959000@adirondackfolkschool.org
SUMMARY:Build a Wee Lassie Canoe
DESCRIPTION:The original Wee Lassie was a lapstrake-built open cedar canoe made in 1863 by J. Henry Rushton of Canton\, NY. Rushton was one of the most famous canoe builders of his era. George Washington Sears\, who wrote of his adventures under his pen name of Nessmuk as he recorded his paddling adventures throughout the Adirondacks\, popularized these small\, finely crafted canoes. Come spend 11 wonderful days with master instructor Larry Benjamin building your own Wee Lassie. You will be guided through every step of the building process. Leave with a beautiful\, lightweight canoe that handles well in the water. Open to all level of student.
URL:https://adirondackfolkschool.org/event/build-a-wee-lassie-canoe-74/
CATEGORIES:Boats & Paddles
ATTACH;FMTTYPE=image/jpeg:https://adirondackfolkschool.org/wp-content/uploads/2022/01/Build-a-Wee-Lassie-Canoe.jpg
END:VEVENT
BEGIN:VEVENT
DTSTART;TZID=America/New_York:20231011T083000
DTEND;TZID=America/New_York:20231011T173000
DTSTAMP:20260425T220824
CREATED:20221214T231452Z
LAST-MODIFIED:20221214T231452Z
UID:10001959-1697013000-1697045400@adirondackfolkschool.org
SUMMARY:Build a Wee Lassie Canoe
DESCRIPTION:The original Wee Lassie was a lapstrake-built open cedar canoe made in 1863 by J. Henry Rushton of Canton\, NY. Rushton was one of the most famous canoe builders of his era. George Washington Sears\, who wrote of his adventures under his pen name of Nessmuk as he recorded his paddling adventures throughout the Adirondacks\, popularized these small\, finely crafted canoes. Come spend 11 wonderful days with master instructor Larry Benjamin building your own Wee Lassie. You will be guided through every step of the building process. Leave with a beautiful\, lightweight canoe that handles well in the water. Open to all level of student.
URL:https://adirondackfolkschool.org/event/build-a-wee-lassie-canoe-75/
CATEGORIES:Boats & Paddles
ATTACH;FMTTYPE=image/jpeg:https://adirondackfolkschool.org/wp-content/uploads/2022/01/Build-a-Wee-Lassie-Canoe.jpg
END:VEVENT
BEGIN:VEVENT
DTSTART;TZID=America/New_York:20231012T083000
DTEND;TZID=America/New_York:20231012T173000
DTSTAMP:20260425T220824
CREATED:20221214T231452Z
LAST-MODIFIED:20221214T231452Z
UID:10001960-1697099400-1697131800@adirondackfolkschool.org
SUMMARY:Build a Wee Lassie Canoe
DESCRIPTION:The original Wee Lassie was a lapstrake-built open cedar canoe made in 1863 by J. Henry Rushton of Canton\, NY. Rushton was one of the most famous canoe builders of his era. George Washington Sears\, who wrote of his adventures under his pen name of Nessmuk as he recorded his paddling adventures throughout the Adirondacks\, popularized these small\, finely crafted canoes. Come spend 11 wonderful days with master instructor Larry Benjamin building your own Wee Lassie. You will be guided through every step of the building process. Leave with a beautiful\, lightweight canoe that handles well in the water. Open to all level of student.
URL:https://adirondackfolkschool.org/event/build-a-wee-lassie-canoe-76/
CATEGORIES:Boats & Paddles
ATTACH;FMTTYPE=image/jpeg:https://adirondackfolkschool.org/wp-content/uploads/2022/01/Build-a-Wee-Lassie-Canoe.jpg
END:VEVENT
BEGIN:VEVENT
DTSTART;TZID=America/New_York:20231013T083000
DTEND;TZID=America/New_York:20231013T173000
DTSTAMP:20260425T220824
CREATED:20221214T231453Z
LAST-MODIFIED:20221214T231453Z
UID:10001961-1697185800-1697218200@adirondackfolkschool.org
SUMMARY:Build a Wee Lassie Canoe
DESCRIPTION:The original Wee Lassie was a lapstrake-built open cedar canoe made in 1863 by J. Henry Rushton of Canton\, NY. Rushton was one of the most famous canoe builders of his era. George Washington Sears\, who wrote of his adventures under his pen name of Nessmuk as he recorded his paddling adventures throughout the Adirondacks\, popularized these small\, finely crafted canoes. Come spend 11 wonderful days with master instructor Larry Benjamin building your own Wee Lassie. You will be guided through every step of the building process. Leave with a beautiful\, lightweight canoe that handles well in the water. Open to all level of student.
URL:https://adirondackfolkschool.org/event/build-a-wee-lassie-canoe-77/
CATEGORIES:Boats & Paddles
ATTACH;FMTTYPE=image/jpeg:https://adirondackfolkschool.org/wp-content/uploads/2022/01/Build-a-Wee-Lassie-Canoe.jpg
END:VEVENT
END:VCALENDAR