BEGIN:VCALENDAR
VERSION:2.0
PRODID:-//Adirondack Folk School - ECPv6.15.12.2//NONSGML v1.0//EN
CALSCALE:GREGORIAN
METHOD:PUBLISH
X-ORIGINAL-URL:https://adirondackfolkschool.org
X-WR-CALDESC:Events for Adirondack Folk School
REFRESH-INTERVAL;VALUE=DURATION:PT1H
X-Robots-Tag:noindex
X-PUBLISHED-TTL:PT1H
BEGIN:VTIMEZONE
TZID:America/New_York
BEGIN:DAYLIGHT
TZOFFSETFROM:-0500
TZOFFSETTO:-0400
TZNAME:EDT
DTSTART:20230312T070000
END:DAYLIGHT
BEGIN:STANDARD
TZOFFSETFROM:-0400
TZOFFSETTO:-0500
TZNAME:EST
DTSTART:20231105T060000
END:STANDARD
BEGIN:DAYLIGHT
TZOFFSETFROM:-0500
TZOFFSETTO:-0400
TZNAME:EDT
DTSTART:20240310T070000
END:DAYLIGHT
BEGIN:STANDARD
TZOFFSETFROM:-0400
TZOFFSETTO:-0500
TZNAME:EST
DTSTART:20241103T060000
END:STANDARD
BEGIN:DAYLIGHT
TZOFFSETFROM:-0500
TZOFFSETTO:-0400
TZNAME:EDT
DTSTART:20250309T070000
END:DAYLIGHT
BEGIN:STANDARD
TZOFFSETFROM:-0400
TZOFFSETTO:-0500
TZNAME:EST
DTSTART:20251102T060000
END:STANDARD
END:VTIMEZONE
BEGIN:VEVENT
DTSTART;TZID=America/New_York:20240610T083000
DTEND;TZID=America/New_York:20240610T173000
DTSTAMP:20260425T103513
CREATED:20231207T195842Z
LAST-MODIFIED:20231207T195842Z
UID:10002251-1718008200-1718040600@adirondackfolkschool.org
SUMMARY:Build a Wee Lassie Canoe
DESCRIPTION:The original Wee Lassie was a lapstrake-built open cedar canoe made in 1863 by J. Henry Rushton of Canton\, NY. Rushton was one of the most famous canoe builders of his era. George Washington Sears\, who wrote of his adventures under his pen name of Nessmuk as he recorded his paddling adventures throughout the Adirondacks\, popularized these small\, finely crafted canoes. Come spend 11 wonderful days with master instructor Larry Benjamin building your own Wee Lassie. You will be guided through every step of the building process. Leave with a beautiful\, lightweight canoe that handles well in the water. Open to all level of student.
URL:https://adirondackfolkschool.org/event/build-a-wee-lassie-canoe-89/
CATEGORIES:Boats & Paddles
ATTACH;FMTTYPE=image/jpeg:https://adirondackfolkschool.org/wp-content/uploads/2022/01/Build-a-Wee-Lassie-Canoe.jpg
END:VEVENT
BEGIN:VEVENT
DTSTART;TZID=America/New_York:20240611T083000
DTEND;TZID=America/New_York:20240611T173000
DTSTAMP:20260425T103513
CREATED:20231207T195852Z
LAST-MODIFIED:20231207T195852Z
UID:10002252-1718094600-1718127000@adirondackfolkschool.org
SUMMARY:Build a Wee Lassie Canoe
DESCRIPTION:The original Wee Lassie was a lapstrake-built open cedar canoe made in 1863 by J. Henry Rushton of Canton\, NY. Rushton was one of the most famous canoe builders of his era. George Washington Sears\, who wrote of his adventures under his pen name of Nessmuk as he recorded his paddling adventures throughout the Adirondacks\, popularized these small\, finely crafted canoes. Come spend 11 wonderful days with master instructor Larry Benjamin building your own Wee Lassie. You will be guided through every step of the building process. Leave with a beautiful\, lightweight canoe that handles well in the water. Open to all level of student.
URL:https://adirondackfolkschool.org/event/build-a-wee-lassie-canoe-90/
CATEGORIES:Boats & Paddles
ATTACH;FMTTYPE=image/jpeg:https://adirondackfolkschool.org/wp-content/uploads/2022/01/Build-a-Wee-Lassie-Canoe.jpg
END:VEVENT
BEGIN:VEVENT
DTSTART;TZID=America/New_York:20240612T083000
DTEND;TZID=America/New_York:20240612T173000
DTSTAMP:20260425T103513
CREATED:20231207T195854Z
LAST-MODIFIED:20231207T195854Z
UID:10002253-1718181000-1718213400@adirondackfolkschool.org
SUMMARY:Build a Wee Lassie Canoe
DESCRIPTION:The original Wee Lassie was a lapstrake-built open cedar canoe made in 1863 by J. Henry Rushton of Canton\, NY. Rushton was one of the most famous canoe builders of his era. George Washington Sears\, who wrote of his adventures under his pen name of Nessmuk as he recorded his paddling adventures throughout the Adirondacks\, popularized these small\, finely crafted canoes. Come spend 11 wonderful days with master instructor Larry Benjamin building your own Wee Lassie. You will be guided through every step of the building process. Leave with a beautiful\, lightweight canoe that handles well in the water. Open to all level of student.
URL:https://adirondackfolkschool.org/event/build-a-wee-lassie-canoe-91/
CATEGORIES:Boats & Paddles
ATTACH;FMTTYPE=image/jpeg:https://adirondackfolkschool.org/wp-content/uploads/2022/01/Build-a-Wee-Lassie-Canoe.jpg
END:VEVENT
BEGIN:VEVENT
DTSTART;TZID=America/New_York:20240613T083000
DTEND;TZID=America/New_York:20240613T173000
DTSTAMP:20260425T103513
CREATED:20231207T195855Z
LAST-MODIFIED:20231207T195855Z
UID:10002254-1718267400-1718299800@adirondackfolkschool.org
SUMMARY:Build a Wee Lassie Canoe
DESCRIPTION:The original Wee Lassie was a lapstrake-built open cedar canoe made in 1863 by J. Henry Rushton of Canton\, NY. Rushton was one of the most famous canoe builders of his era. George Washington Sears\, who wrote of his adventures under his pen name of Nessmuk as he recorded his paddling adventures throughout the Adirondacks\, popularized these small\, finely crafted canoes. Come spend 11 wonderful days with master instructor Larry Benjamin building your own Wee Lassie. You will be guided through every step of the building process. Leave with a beautiful\, lightweight canoe that handles well in the water. Open to all level of student.
URL:https://adirondackfolkschool.org/event/build-a-wee-lassie-canoe-92/
CATEGORIES:Boats & Paddles
ATTACH;FMTTYPE=image/jpeg:https://adirondackfolkschool.org/wp-content/uploads/2022/01/Build-a-Wee-Lassie-Canoe.jpg
END:VEVENT
BEGIN:VEVENT
DTSTART;TZID=America/New_York:20240614T083000
DTEND;TZID=America/New_York:20240614T173000
DTSTAMP:20260425T103513
CREATED:20231207T195856Z
LAST-MODIFIED:20231207T195856Z
UID:10002255-1718353800-1718386200@adirondackfolkschool.org
SUMMARY:Build a Wee Lassie Canoe
DESCRIPTION:The original Wee Lassie was a lapstrake-built open cedar canoe made in 1863 by J. Henry Rushton of Canton\, NY. Rushton was one of the most famous canoe builders of his era. George Washington Sears\, who wrote of his adventures under his pen name of Nessmuk as he recorded his paddling adventures throughout the Adirondacks\, popularized these small\, finely crafted canoes. Come spend 11 wonderful days with master instructor Larry Benjamin building your own Wee Lassie. You will be guided through every step of the building process. Leave with a beautiful\, lightweight canoe that handles well in the water. Open to all level of student.
URL:https://adirondackfolkschool.org/event/build-a-wee-lassie-canoe-93/
CATEGORIES:Boats & Paddles
ATTACH;FMTTYPE=image/jpeg:https://adirondackfolkschool.org/wp-content/uploads/2022/01/Build-a-Wee-Lassie-Canoe.jpg
END:VEVENT
BEGIN:VEVENT
DTSTART;TZID=America/New_York:20240615T083000
DTEND;TZID=America/New_York:20240615T173000
DTSTAMP:20260425T103513
CREATED:20231207T195857Z
LAST-MODIFIED:20231207T195857Z
UID:10002256-1718440200-1718472600@adirondackfolkschool.org
SUMMARY:Build a Wee Lassie Canoe
DESCRIPTION:The original Wee Lassie was a lapstrake-built open cedar canoe made in 1863 by J. Henry Rushton of Canton\, NY. Rushton was one of the most famous canoe builders of his era. George Washington Sears\, who wrote of his adventures under his pen name of Nessmuk as he recorded his paddling adventures throughout the Adirondacks\, popularized these small\, finely crafted canoes. Come spend 11 wonderful days with master instructor Larry Benjamin building your own Wee Lassie. You will be guided through every step of the building process. Leave with a beautiful\, lightweight canoe that handles well in the water. Open to all level of student.
URL:https://adirondackfolkschool.org/event/build-a-wee-lassie-canoe-94/
CATEGORIES:Boats & Paddles
ATTACH;FMTTYPE=image/jpeg:https://adirondackfolkschool.org/wp-content/uploads/2022/01/Build-a-Wee-Lassie-Canoe.jpg
END:VEVENT
BEGIN:VEVENT
DTSTART;TZID=America/New_York:20240617T083000
DTEND;TZID=America/New_York:20240617T173000
DTSTAMP:20260425T103513
CREATED:20231207T195908Z
LAST-MODIFIED:20231207T195908Z
UID:10002257-1718613000-1718645400@adirondackfolkschool.org
SUMMARY:Build a Wee Lassie Canoe
DESCRIPTION:The original Wee Lassie was a lapstrake-built open cedar canoe made in 1863 by J. Henry Rushton of Canton\, NY. Rushton was one of the most famous canoe builders of his era. George Washington Sears\, who wrote of his adventures under his pen name of Nessmuk as he recorded his paddling adventures throughout the Adirondacks\, popularized these small\, finely crafted canoes. Come spend 11 wonderful days with master instructor Larry Benjamin building your own Wee Lassie. You will be guided through every step of the building process. Leave with a beautiful\, lightweight canoe that handles well in the water. Open to all level of student.
URL:https://adirondackfolkschool.org/event/build-a-wee-lassie-canoe-95/
CATEGORIES:Boats & Paddles
ATTACH;FMTTYPE=image/jpeg:https://adirondackfolkschool.org/wp-content/uploads/2022/01/Build-a-Wee-Lassie-Canoe.jpg
END:VEVENT
BEGIN:VEVENT
DTSTART;TZID=America/New_York:20240618T083000
DTEND;TZID=America/New_York:20240618T173000
DTSTAMP:20260425T103513
CREATED:20231207T195909Z
LAST-MODIFIED:20231207T195909Z
UID:10002258-1718699400-1718731800@adirondackfolkschool.org
SUMMARY:Build a Wee Lassie Canoe
DESCRIPTION:The original Wee Lassie was a lapstrake-built open cedar canoe made in 1863 by J. Henry Rushton of Canton\, NY. Rushton was one of the most famous canoe builders of his era. George Washington Sears\, who wrote of his adventures under his pen name of Nessmuk as he recorded his paddling adventures throughout the Adirondacks\, popularized these small\, finely crafted canoes. Come spend 11 wonderful days with master instructor Larry Benjamin building your own Wee Lassie. You will be guided through every step of the building process. Leave with a beautiful\, lightweight canoe that handles well in the water. Open to all level of student.
URL:https://adirondackfolkschool.org/event/build-a-wee-lassie-canoe-96/
CATEGORIES:Boats & Paddles
ATTACH;FMTTYPE=image/jpeg:https://adirondackfolkschool.org/wp-content/uploads/2022/01/Build-a-Wee-Lassie-Canoe.jpg
END:VEVENT
BEGIN:VEVENT
DTSTART;TZID=America/New_York:20240619T083000
DTEND;TZID=America/New_York:20240619T173000
DTSTAMP:20260425T103513
CREATED:20231207T195910Z
LAST-MODIFIED:20231207T195910Z
UID:10002259-1718785800-1718818200@adirondackfolkschool.org
SUMMARY:Build a Wee Lassie Canoe
DESCRIPTION:The original Wee Lassie was a lapstrake-built open cedar canoe made in 1863 by J. Henry Rushton of Canton\, NY. Rushton was one of the most famous canoe builders of his era. George Washington Sears\, who wrote of his adventures under his pen name of Nessmuk as he recorded his paddling adventures throughout the Adirondacks\, popularized these small\, finely crafted canoes. Come spend 11 wonderful days with master instructor Larry Benjamin building your own Wee Lassie. You will be guided through every step of the building process. Leave with a beautiful\, lightweight canoe that handles well in the water. Open to all level of student.
URL:https://adirondackfolkschool.org/event/build-a-wee-lassie-canoe-97/
CATEGORIES:Boats & Paddles
ATTACH;FMTTYPE=image/jpeg:https://adirondackfolkschool.org/wp-content/uploads/2022/01/Build-a-Wee-Lassie-Canoe.jpg
END:VEVENT
BEGIN:VEVENT
DTSTART;TZID=America/New_York:20240620T083000
DTEND;TZID=America/New_York:20240620T173000
DTSTAMP:20260425T103513
CREATED:20231207T195911Z
LAST-MODIFIED:20231207T195911Z
UID:10002260-1718872200-1718904600@adirondackfolkschool.org
SUMMARY:Build a Wee Lassie Canoe
DESCRIPTION:The original Wee Lassie was a lapstrake-built open cedar canoe made in 1863 by J. Henry Rushton of Canton\, NY. Rushton was one of the most famous canoe builders of his era. George Washington Sears\, who wrote of his adventures under his pen name of Nessmuk as he recorded his paddling adventures throughout the Adirondacks\, popularized these small\, finely crafted canoes. Come spend 11 wonderful days with master instructor Larry Benjamin building your own Wee Lassie. You will be guided through every step of the building process. Leave with a beautiful\, lightweight canoe that handles well in the water. Open to all level of student.
URL:https://adirondackfolkschool.org/event/build-a-wee-lassie-canoe-98/
CATEGORIES:Boats & Paddles
ATTACH;FMTTYPE=image/jpeg:https://adirondackfolkschool.org/wp-content/uploads/2022/01/Build-a-Wee-Lassie-Canoe.jpg
END:VEVENT
BEGIN:VEVENT
DTSTART;TZID=America/New_York:20240621T083000
DTEND;TZID=America/New_York:20240621T173000
DTSTAMP:20260425T103513
CREATED:20231207T195912Z
LAST-MODIFIED:20231207T195912Z
UID:10002261-1718958600-1718991000@adirondackfolkschool.org
SUMMARY:Build a Wee Lassie Canoe
DESCRIPTION:The original Wee Lassie was a lapstrake-built open cedar canoe made in 1863 by J. Henry Rushton of Canton\, NY. Rushton was one of the most famous canoe builders of his era. George Washington Sears\, who wrote of his adventures under his pen name of Nessmuk as he recorded his paddling adventures throughout the Adirondacks\, popularized these small\, finely crafted canoes. Come spend 11 wonderful days with master instructor Larry Benjamin building your own Wee Lassie. You will be guided through every step of the building process. Leave with a beautiful\, lightweight canoe that handles well in the water. Open to all level of student.
URL:https://adirondackfolkschool.org/event/build-a-wee-lassie-canoe-99/
CATEGORIES:Boats & Paddles
ATTACH;FMTTYPE=image/jpeg:https://adirondackfolkschool.org/wp-content/uploads/2022/01/Build-a-Wee-Lassie-Canoe.jpg
END:VEVENT
END:VCALENDAR