BEGIN:VCALENDAR
VERSION:2.0
PRODID:-//Adirondack Folk School - ECPv6.15.12.2//NONSGML v1.0//EN
CALSCALE:GREGORIAN
METHOD:PUBLISH
X-WR-CALNAME:Adirondack Folk School
X-ORIGINAL-URL:https://adirondackfolkschool.org
X-WR-CALDESC:Events for Adirondack Folk School
REFRESH-INTERVAL;VALUE=DURATION:PT1H
X-Robots-Tag:noindex
X-PUBLISHED-TTL:PT1H
BEGIN:VTIMEZONE
TZID:America/New_York
BEGIN:DAYLIGHT
TZOFFSETFROM:-0500
TZOFFSETTO:-0400
TZNAME:EDT
DTSTART:20230312T070000
END:DAYLIGHT
BEGIN:STANDARD
TZOFFSETFROM:-0400
TZOFFSETTO:-0500
TZNAME:EST
DTSTART:20231105T060000
END:STANDARD
BEGIN:DAYLIGHT
TZOFFSETFROM:-0500
TZOFFSETTO:-0400
TZNAME:EDT
DTSTART:20240310T070000
END:DAYLIGHT
BEGIN:STANDARD
TZOFFSETFROM:-0400
TZOFFSETTO:-0500
TZNAME:EST
DTSTART:20241103T060000
END:STANDARD
BEGIN:DAYLIGHT
TZOFFSETFROM:-0500
TZOFFSETTO:-0400
TZNAME:EDT
DTSTART:20250309T070000
END:DAYLIGHT
BEGIN:STANDARD
TZOFFSETFROM:-0400
TZOFFSETTO:-0500
TZNAME:EST
DTSTART:20251102T060000
END:STANDARD
END:VTIMEZONE
BEGIN:VEVENT
DTSTART;TZID=America/New_York:20240916T083000
DTEND;TZID=America/New_York:20240916T173000
DTSTAMP:20260425T061818
CREATED:20231207T195922Z
LAST-MODIFIED:20231207T195922Z
UID:10002262-1726475400-1726507800@adirondackfolkschool.org
SUMMARY:Build a Wee Lassie Canoe
DESCRIPTION:The original Wee Lassie was a lapstrake-built open cedar canoe made in 1863 by J. Henry Rushton of Canton\, NY. Rushton was one of the most famous canoe builders of his era. George Washington Sears\, who wrote of his adventures under his pen name of Nessmuk as he recorded his paddling adventures throughout the Adirondacks\, popularized these small\, finely crafted canoes. Come spend 11 wonderful days with master instructor Larry Benjamin building your own Wee Lassie. You will be guided through every step of the building process. Leave with a beautiful\, lightweight canoe that handles well in the water. Open to all level of student.
URL:https://adirondackfolkschool.org/event/build-a-wee-lassie-canoe-100/
CATEGORIES:Boats & Paddles
ATTACH;FMTTYPE=image/jpeg:https://adirondackfolkschool.org/wp-content/uploads/2022/01/Build-a-Wee-Lassie-Canoe.jpg
END:VEVENT
BEGIN:VEVENT
DTSTART;TZID=America/New_York:20240917T083000
DTEND;TZID=America/New_York:20240917T173000
DTSTAMP:20260425T061818
CREATED:20231207T195924Z
LAST-MODIFIED:20231207T195924Z
UID:10002263-1726561800-1726594200@adirondackfolkschool.org
SUMMARY:Build a Wee Lassie Canoe
DESCRIPTION:The original Wee Lassie was a lapstrake-built open cedar canoe made in 1863 by J. Henry Rushton of Canton\, NY. Rushton was one of the most famous canoe builders of his era. George Washington Sears\, who wrote of his adventures under his pen name of Nessmuk as he recorded his paddling adventures throughout the Adirondacks\, popularized these small\, finely crafted canoes. Come spend 11 wonderful days with master instructor Larry Benjamin building your own Wee Lassie. You will be guided through every step of the building process. Leave with a beautiful\, lightweight canoe that handles well in the water. Open to all level of student.
URL:https://adirondackfolkschool.org/event/build-a-wee-lassie-canoe-101/
CATEGORIES:Boats & Paddles
ATTACH;FMTTYPE=image/jpeg:https://adirondackfolkschool.org/wp-content/uploads/2022/01/Build-a-Wee-Lassie-Canoe.jpg
END:VEVENT
BEGIN:VEVENT
DTSTART;TZID=America/New_York:20240918T083000
DTEND;TZID=America/New_York:20240918T173000
DTSTAMP:20260425T061818
CREATED:20231207T195925Z
LAST-MODIFIED:20231207T195925Z
UID:10002264-1726648200-1726680600@adirondackfolkschool.org
SUMMARY:Build a Wee Lassie Canoe
DESCRIPTION:The original Wee Lassie was a lapstrake-built open cedar canoe made in 1863 by J. Henry Rushton of Canton\, NY. Rushton was one of the most famous canoe builders of his era. George Washington Sears\, who wrote of his adventures under his pen name of Nessmuk as he recorded his paddling adventures throughout the Adirondacks\, popularized these small\, finely crafted canoes. Come spend 11 wonderful days with master instructor Larry Benjamin building your own Wee Lassie. You will be guided through every step of the building process. Leave with a beautiful\, lightweight canoe that handles well in the water. Open to all level of student.
URL:https://adirondackfolkschool.org/event/build-a-wee-lassie-canoe-102/
CATEGORIES:Boats & Paddles
ATTACH;FMTTYPE=image/jpeg:https://adirondackfolkschool.org/wp-content/uploads/2022/01/Build-a-Wee-Lassie-Canoe.jpg
END:VEVENT
BEGIN:VEVENT
DTSTART;TZID=America/New_York:20240919T083000
DTEND;TZID=America/New_York:20240919T173000
DTSTAMP:20260425T061818
CREATED:20231207T195926Z
LAST-MODIFIED:20231207T195926Z
UID:10002265-1726734600-1726767000@adirondackfolkschool.org
SUMMARY:Build a Wee Lassie Canoe
DESCRIPTION:The original Wee Lassie was a lapstrake-built open cedar canoe made in 1863 by J. Henry Rushton of Canton\, NY. Rushton was one of the most famous canoe builders of his era. George Washington Sears\, who wrote of his adventures under his pen name of Nessmuk as he recorded his paddling adventures throughout the Adirondacks\, popularized these small\, finely crafted canoes. Come spend 11 wonderful days with master instructor Larry Benjamin building your own Wee Lassie. You will be guided through every step of the building process. Leave with a beautiful\, lightweight canoe that handles well in the water. Open to all level of student.
URL:https://adirondackfolkschool.org/event/build-a-wee-lassie-canoe-103/
CATEGORIES:Boats & Paddles
ATTACH;FMTTYPE=image/jpeg:https://adirondackfolkschool.org/wp-content/uploads/2022/01/Build-a-Wee-Lassie-Canoe.jpg
END:VEVENT
BEGIN:VEVENT
DTSTART;TZID=America/New_York:20240920T083000
DTEND;TZID=America/New_York:20240920T173000
DTSTAMP:20260425T061818
CREATED:20231207T195927Z
LAST-MODIFIED:20231207T195927Z
UID:10002266-1726821000-1726853400@adirondackfolkschool.org
SUMMARY:Build a Wee Lassie Canoe
DESCRIPTION:The original Wee Lassie was a lapstrake-built open cedar canoe made in 1863 by J. Henry Rushton of Canton\, NY. Rushton was one of the most famous canoe builders of his era. George Washington Sears\, who wrote of his adventures under his pen name of Nessmuk as he recorded his paddling adventures throughout the Adirondacks\, popularized these small\, finely crafted canoes. Come spend 11 wonderful days with master instructor Larry Benjamin building your own Wee Lassie. You will be guided through every step of the building process. Leave with a beautiful\, lightweight canoe that handles well in the water. Open to all level of student.
URL:https://adirondackfolkschool.org/event/build-a-wee-lassie-canoe-104/
CATEGORIES:Boats & Paddles
ATTACH;FMTTYPE=image/jpeg:https://adirondackfolkschool.org/wp-content/uploads/2022/01/Build-a-Wee-Lassie-Canoe.jpg
END:VEVENT
BEGIN:VEVENT
DTSTART;TZID=America/New_York:20240921T083000
DTEND;TZID=America/New_York:20240921T173000
DTSTAMP:20260425T061818
CREATED:20231207T195938Z
LAST-MODIFIED:20231207T195938Z
UID:10002267-1726907400-1726939800@adirondackfolkschool.org
SUMMARY:Build a Wee Lassie Canoe
DESCRIPTION:The original Wee Lassie was a lapstrake-built open cedar canoe made in 1863 by J. Henry Rushton of Canton\, NY. Rushton was one of the most famous canoe builders of his era. George Washington Sears\, who wrote of his adventures under his pen name of Nessmuk as he recorded his paddling adventures throughout the Adirondacks\, popularized these small\, finely crafted canoes. Come spend 11 wonderful days with master instructor Larry Benjamin building your own Wee Lassie. You will be guided through every step of the building process. Leave with a beautiful\, lightweight canoe that handles well in the water. Open to all level of student.
URL:https://adirondackfolkschool.org/event/build-a-wee-lassie-canoe-105/
CATEGORIES:Boats & Paddles
ATTACH;FMTTYPE=image/jpeg:https://adirondackfolkschool.org/wp-content/uploads/2022/01/Build-a-Wee-Lassie-Canoe.jpg
END:VEVENT
BEGIN:VEVENT
DTSTART;TZID=America/New_York:20240923T083000
DTEND;TZID=America/New_York:20240923T173000
DTSTAMP:20260425T061818
CREATED:20231207T195939Z
LAST-MODIFIED:20231207T195939Z
UID:10002268-1727080200-1727112600@adirondackfolkschool.org
SUMMARY:Build a Wee Lassie Canoe
DESCRIPTION:The original Wee Lassie was a lapstrake-built open cedar canoe made in 1863 by J. Henry Rushton of Canton\, NY. Rushton was one of the most famous canoe builders of his era. George Washington Sears\, who wrote of his adventures under his pen name of Nessmuk as he recorded his paddling adventures throughout the Adirondacks\, popularized these small\, finely crafted canoes. Come spend 11 wonderful days with master instructor Larry Benjamin building your own Wee Lassie. You will be guided through every step of the building process. Leave with a beautiful\, lightweight canoe that handles well in the water. Open to all level of student.
URL:https://adirondackfolkschool.org/event/build-a-wee-lassie-canoe-106/
CATEGORIES:Boats & Paddles
ATTACH;FMTTYPE=image/jpeg:https://adirondackfolkschool.org/wp-content/uploads/2022/01/Build-a-Wee-Lassie-Canoe.jpg
END:VEVENT
BEGIN:VEVENT
DTSTART;TZID=America/New_York:20240924T083000
DTEND;TZID=America/New_York:20240924T173000
DTSTAMP:20260425T061818
CREATED:20231207T195940Z
LAST-MODIFIED:20231207T195940Z
UID:10002269-1727166600-1727199000@adirondackfolkschool.org
SUMMARY:Build a Wee Lassie Canoe
DESCRIPTION:The original Wee Lassie was a lapstrake-built open cedar canoe made in 1863 by J. Henry Rushton of Canton\, NY. Rushton was one of the most famous canoe builders of his era. George Washington Sears\, who wrote of his adventures under his pen name of Nessmuk as he recorded his paddling adventures throughout the Adirondacks\, popularized these small\, finely crafted canoes. Come spend 11 wonderful days with master instructor Larry Benjamin building your own Wee Lassie. You will be guided through every step of the building process. Leave with a beautiful\, lightweight canoe that handles well in the water. Open to all level of student.
URL:https://adirondackfolkschool.org/event/build-a-wee-lassie-canoe-107/
CATEGORIES:Boats & Paddles
ATTACH;FMTTYPE=image/jpeg:https://adirondackfolkschool.org/wp-content/uploads/2022/01/Build-a-Wee-Lassie-Canoe.jpg
END:VEVENT
BEGIN:VEVENT
DTSTART;TZID=America/New_York:20240925T083000
DTEND;TZID=America/New_York:20240925T173000
DTSTAMP:20260425T061818
CREATED:20231207T195941Z
LAST-MODIFIED:20231207T195941Z
UID:10002270-1727253000-1727285400@adirondackfolkschool.org
SUMMARY:Build a Wee Lassie Canoe
DESCRIPTION:The original Wee Lassie was a lapstrake-built open cedar canoe made in 1863 by J. Henry Rushton of Canton\, NY. Rushton was one of the most famous canoe builders of his era. George Washington Sears\, who wrote of his adventures under his pen name of Nessmuk as he recorded his paddling adventures throughout the Adirondacks\, popularized these small\, finely crafted canoes. Come spend 11 wonderful days with master instructor Larry Benjamin building your own Wee Lassie. You will be guided through every step of the building process. Leave with a beautiful\, lightweight canoe that handles well in the water. Open to all level of student.
URL:https://adirondackfolkschool.org/event/build-a-wee-lassie-canoe-108/
CATEGORIES:Boats & Paddles
ATTACH;FMTTYPE=image/jpeg:https://adirondackfolkschool.org/wp-content/uploads/2022/01/Build-a-Wee-Lassie-Canoe.jpg
END:VEVENT
BEGIN:VEVENT
DTSTART;TZID=America/New_York:20240926T083000
DTEND;TZID=America/New_York:20240926T173000
DTSTAMP:20260425T061818
CREATED:20231207T195942Z
LAST-MODIFIED:20231207T195942Z
UID:10002271-1727339400-1727371800@adirondackfolkschool.org
SUMMARY:Build a Wee Lassie Canoe
DESCRIPTION:The original Wee Lassie was a lapstrake-built open cedar canoe made in 1863 by J. Henry Rushton of Canton\, NY. Rushton was one of the most famous canoe builders of his era. George Washington Sears\, who wrote of his adventures under his pen name of Nessmuk as he recorded his paddling adventures throughout the Adirondacks\, popularized these small\, finely crafted canoes. Come spend 11 wonderful days with master instructor Larry Benjamin building your own Wee Lassie. You will be guided through every step of the building process. Leave with a beautiful\, lightweight canoe that handles well in the water. Open to all level of student.
URL:https://adirondackfolkschool.org/event/build-a-wee-lassie-canoe-109/
CATEGORIES:Boats & Paddles
ATTACH;FMTTYPE=image/jpeg:https://adirondackfolkschool.org/wp-content/uploads/2022/01/Build-a-Wee-Lassie-Canoe.jpg
END:VEVENT
BEGIN:VEVENT
DTSTART;TZID=America/New_York:20240927T083000
DTEND;TZID=America/New_York:20240927T173000
DTSTAMP:20260425T061818
CREATED:20231207T195952Z
LAST-MODIFIED:20231207T195952Z
UID:10002272-1727425800-1727458200@adirondackfolkschool.org
SUMMARY:Build a Wee Lassie Canoe
DESCRIPTION:The original Wee Lassie was a lapstrake-built open cedar canoe made in 1863 by J. Henry Rushton of Canton\, NY. Rushton was one of the most famous canoe builders of his era. George Washington Sears\, who wrote of his adventures under his pen name of Nessmuk as he recorded his paddling adventures throughout the Adirondacks\, popularized these small\, finely crafted canoes. Come spend 11 wonderful days with master instructor Larry Benjamin building your own Wee Lassie. You will be guided through every step of the building process. Leave with a beautiful\, lightweight canoe that handles well in the water. Open to all level of student.
URL:https://adirondackfolkschool.org/event/build-a-wee-lassie-canoe-110/
CATEGORIES:Boats & Paddles
ATTACH;FMTTYPE=image/jpeg:https://adirondackfolkschool.org/wp-content/uploads/2022/01/Build-a-Wee-Lassie-Canoe.jpg
END:VEVENT
END:VCALENDAR