BEGIN:VCALENDAR
VERSION:2.0
PRODID:-//Adirondack Folk School - ECPv6.15.12.2//NONSGML v1.0//EN
CALSCALE:GREGORIAN
METHOD:PUBLISH
X-ORIGINAL-URL:https://adirondackfolkschool.org
X-WR-CALDESC:Events for Adirondack Folk School
REFRESH-INTERVAL;VALUE=DURATION:PT1H
X-Robots-Tag:noindex
X-PUBLISHED-TTL:PT1H
BEGIN:VTIMEZONE
TZID:America/New_York
BEGIN:DAYLIGHT
TZOFFSETFROM:-0500
TZOFFSETTO:-0400
TZNAME:EDT
DTSTART:20240310T070000
END:DAYLIGHT
BEGIN:STANDARD
TZOFFSETFROM:-0400
TZOFFSETTO:-0500
TZNAME:EST
DTSTART:20241103T060000
END:STANDARD
BEGIN:DAYLIGHT
TZOFFSETFROM:-0500
TZOFFSETTO:-0400
TZNAME:EDT
DTSTART:20250309T070000
END:DAYLIGHT
BEGIN:STANDARD
TZOFFSETFROM:-0400
TZOFFSETTO:-0500
TZNAME:EST
DTSTART:20251102T060000
END:STANDARD
BEGIN:DAYLIGHT
TZOFFSETFROM:-0500
TZOFFSETTO:-0400
TZNAME:EDT
DTSTART:20260308T070000
END:DAYLIGHT
BEGIN:STANDARD
TZOFFSETFROM:-0400
TZOFFSETTO:-0500
TZNAME:EST
DTSTART:20261101T060000
END:STANDARD
END:VTIMEZONE
BEGIN:VEVENT
DTSTART;TZID=America/New_York:20250317T083000
DTEND;TZID=America/New_York:20250317T173000
DTSTAMP:20260424T205613
CREATED:20241211T170251Z
LAST-MODIFIED:20241211T170251Z
UID:10002686-1742200200-1742232600@adirondackfolkschool.org
SUMMARY:Build a Wee Lassie Canoe
DESCRIPTION:The original Wee Lassie was a lapstrake-built open cedar canoe made in 1863 by J. Henry Rushton of Canton\, NY. Rushton was one of the most famous canoe builders of his era. George Washington Sears\, who wrote of his adventures under his pen name of Nessmuk as he recorded his paddling adventures throughout the Adirondacks\, popularized these small\, finely crafted canoes. Come spend 11 wonderful days with master instructor Larry Benjamin building your own Wee Lassie. You will be guided through every step of the building process. Leave with a beautiful\, lightweight canoe that handles well in the water. Open to all level of student.
URL:https://adirondackfolkschool.org/event/build-a-wee-lassie-canoe-111/
CATEGORIES:Boats & Paddles
ATTACH;FMTTYPE=image/jpeg:https://adirondackfolkschool.org/wp-content/uploads/2022/01/Build-a-Wee-Lassie-Canoe.jpg
END:VEVENT
BEGIN:VEVENT
DTSTART;TZID=America/New_York:20250318T083000
DTEND;TZID=America/New_York:20250318T173000
DTSTAMP:20260424T205613
CREATED:20241211T170251Z
LAST-MODIFIED:20241211T170251Z
UID:10002687-1742286600-1742319000@adirondackfolkschool.org
SUMMARY:Build a Wee Lassie Canoe
DESCRIPTION:The original Wee Lassie was a lapstrake-built open cedar canoe made in 1863 by J. Henry Rushton of Canton\, NY. Rushton was one of the most famous canoe builders of his era. George Washington Sears\, who wrote of his adventures under his pen name of Nessmuk as he recorded his paddling adventures throughout the Adirondacks\, popularized these small\, finely crafted canoes. Come spend 11 wonderful days with master instructor Larry Benjamin building your own Wee Lassie. You will be guided through every step of the building process. Leave with a beautiful\, lightweight canoe that handles well in the water. Open to all level of student.
URL:https://adirondackfolkschool.org/event/build-a-wee-lassie-canoe-112/
CATEGORIES:Boats & Paddles
ATTACH;FMTTYPE=image/jpeg:https://adirondackfolkschool.org/wp-content/uploads/2022/01/Build-a-Wee-Lassie-Canoe.jpg
END:VEVENT
BEGIN:VEVENT
DTSTART;TZID=America/New_York:20250319T083000
DTEND;TZID=America/New_York:20250319T173000
DTSTAMP:20260424T205613
CREATED:20241211T170252Z
LAST-MODIFIED:20241211T170252Z
UID:10002688-1742373000-1742405400@adirondackfolkschool.org
SUMMARY:Build a Wee Lassie Canoe
DESCRIPTION:The original Wee Lassie was a lapstrake-built open cedar canoe made in 1863 by J. Henry Rushton of Canton\, NY. Rushton was one of the most famous canoe builders of his era. George Washington Sears\, who wrote of his adventures under his pen name of Nessmuk as he recorded his paddling adventures throughout the Adirondacks\, popularized these small\, finely crafted canoes. Come spend 11 wonderful days with master instructor Larry Benjamin building your own Wee Lassie. You will be guided through every step of the building process. Leave with a beautiful\, lightweight canoe that handles well in the water. Open to all level of student.
URL:https://adirondackfolkschool.org/event/build-a-wee-lassie-canoe-113/
CATEGORIES:Boats & Paddles
ATTACH;FMTTYPE=image/jpeg:https://adirondackfolkschool.org/wp-content/uploads/2022/01/Build-a-Wee-Lassie-Canoe.jpg
END:VEVENT
BEGIN:VEVENT
DTSTART;TZID=America/New_York:20250320T083000
DTEND;TZID=America/New_York:20250320T173000
DTSTAMP:20260424T205613
CREATED:20241211T170252Z
LAST-MODIFIED:20241211T170252Z
UID:10002689-1742459400-1742491800@adirondackfolkschool.org
SUMMARY:Build a Wee Lassie Canoe
DESCRIPTION:The original Wee Lassie was a lapstrake-built open cedar canoe made in 1863 by J. Henry Rushton of Canton\, NY. Rushton was one of the most famous canoe builders of his era. George Washington Sears\, who wrote of his adventures under his pen name of Nessmuk as he recorded his paddling adventures throughout the Adirondacks\, popularized these small\, finely crafted canoes. Come spend 11 wonderful days with master instructor Larry Benjamin building your own Wee Lassie. You will be guided through every step of the building process. Leave with a beautiful\, lightweight canoe that handles well in the water. Open to all level of student.
URL:https://adirondackfolkschool.org/event/build-a-wee-lassie-canoe-114/
CATEGORIES:Boats & Paddles
ATTACH;FMTTYPE=image/jpeg:https://adirondackfolkschool.org/wp-content/uploads/2022/01/Build-a-Wee-Lassie-Canoe.jpg
END:VEVENT
BEGIN:VEVENT
DTSTART;TZID=America/New_York:20250321T083000
DTEND;TZID=America/New_York:20250321T173000
DTSTAMP:20260424T205613
CREATED:20241211T170306Z
LAST-MODIFIED:20241211T170306Z
UID:10002690-1742545800-1742578200@adirondackfolkschool.org
SUMMARY:Build a Wee Lassie Canoe
DESCRIPTION:The original Wee Lassie was a lapstrake-built open cedar canoe made in 1863 by J. Henry Rushton of Canton\, NY. Rushton was one of the most famous canoe builders of his era. George Washington Sears\, who wrote of his adventures under his pen name of Nessmuk as he recorded his paddling adventures throughout the Adirondacks\, popularized these small\, finely crafted canoes. Come spend 11 wonderful days with master instructor Larry Benjamin building your own Wee Lassie. You will be guided through every step of the building process. Leave with a beautiful\, lightweight canoe that handles well in the water. Open to all level of student.
URL:https://adirondackfolkschool.org/event/build-a-wee-lassie-canoe-115/
CATEGORIES:Boats & Paddles
ATTACH;FMTTYPE=image/jpeg:https://adirondackfolkschool.org/wp-content/uploads/2022/01/Build-a-Wee-Lassie-Canoe.jpg
END:VEVENT
BEGIN:VEVENT
DTSTART;TZID=America/New_York:20250322T083000
DTEND;TZID=America/New_York:20250322T173000
DTSTAMP:20260424T205613
CREATED:20241211T170307Z
LAST-MODIFIED:20241211T170307Z
UID:10002691-1742632200-1742664600@adirondackfolkschool.org
SUMMARY:Build a Wee Lassie Canoe
DESCRIPTION:The original Wee Lassie was a lapstrake-built open cedar canoe made in 1863 by J. Henry Rushton of Canton\, NY. Rushton was one of the most famous canoe builders of his era. George Washington Sears\, who wrote of his adventures under his pen name of Nessmuk as he recorded his paddling adventures throughout the Adirondacks\, popularized these small\, finely crafted canoes. Come spend 11 wonderful days with master instructor Larry Benjamin building your own Wee Lassie. You will be guided through every step of the building process. Leave with a beautiful\, lightweight canoe that handles well in the water. Open to all level of student.
URL:https://adirondackfolkschool.org/event/build-a-wee-lassie-canoe-116/
CATEGORIES:Boats & Paddles
ATTACH;FMTTYPE=image/jpeg:https://adirondackfolkschool.org/wp-content/uploads/2022/01/Build-a-Wee-Lassie-Canoe.jpg
END:VEVENT
BEGIN:VEVENT
DTSTART;TZID=America/New_York:20250324T083000
DTEND;TZID=America/New_York:20250324T173000
DTSTAMP:20260424T205613
CREATED:20241211T170307Z
LAST-MODIFIED:20241211T170307Z
UID:10002692-1742805000-1742837400@adirondackfolkschool.org
SUMMARY:Build a Wee Lassie Canoe
DESCRIPTION:The original Wee Lassie was a lapstrake-built open cedar canoe made in 1863 by J. Henry Rushton of Canton\, NY. Rushton was one of the most famous canoe builders of his era. George Washington Sears\, who wrote of his adventures under his pen name of Nessmuk as he recorded his paddling adventures throughout the Adirondacks\, popularized these small\, finely crafted canoes. Come spend 11 wonderful days with master instructor Larry Benjamin building your own Wee Lassie. You will be guided through every step of the building process. Leave with a beautiful\, lightweight canoe that handles well in the water. Open to all level of student.
URL:https://adirondackfolkschool.org/event/build-a-wee-lassie-canoe-117/
CATEGORIES:Boats & Paddles
ATTACH;FMTTYPE=image/jpeg:https://adirondackfolkschool.org/wp-content/uploads/2022/01/Build-a-Wee-Lassie-Canoe.jpg
END:VEVENT
BEGIN:VEVENT
DTSTART;TZID=America/New_York:20250325T083000
DTEND;TZID=America/New_York:20250325T173000
DTSTAMP:20260424T205613
CREATED:20241211T170307Z
LAST-MODIFIED:20241211T170307Z
UID:10002693-1742891400-1742923800@adirondackfolkschool.org
SUMMARY:Build a Wee Lassie Canoe
DESCRIPTION:The original Wee Lassie was a lapstrake-built open cedar canoe made in 1863 by J. Henry Rushton of Canton\, NY. Rushton was one of the most famous canoe builders of his era. George Washington Sears\, who wrote of his adventures under his pen name of Nessmuk as he recorded his paddling adventures throughout the Adirondacks\, popularized these small\, finely crafted canoes. Come spend 11 wonderful days with master instructor Larry Benjamin building your own Wee Lassie. You will be guided through every step of the building process. Leave with a beautiful\, lightweight canoe that handles well in the water. Open to all level of student.
URL:https://adirondackfolkschool.org/event/build-a-wee-lassie-canoe-118/
CATEGORIES:Boats & Paddles
ATTACH;FMTTYPE=image/jpeg:https://adirondackfolkschool.org/wp-content/uploads/2022/01/Build-a-Wee-Lassie-Canoe.jpg
END:VEVENT
BEGIN:VEVENT
DTSTART;TZID=America/New_York:20250326T083000
DTEND;TZID=America/New_York:20250326T173000
DTSTAMP:20260424T205613
CREATED:20241211T170308Z
LAST-MODIFIED:20241211T170308Z
UID:10002694-1742977800-1743010200@adirondackfolkschool.org
SUMMARY:Build a Wee Lassie Canoe
DESCRIPTION:The original Wee Lassie was a lapstrake-built open cedar canoe made in 1863 by J. Henry Rushton of Canton\, NY. Rushton was one of the most famous canoe builders of his era. George Washington Sears\, who wrote of his adventures under his pen name of Nessmuk as he recorded his paddling adventures throughout the Adirondacks\, popularized these small\, finely crafted canoes. Come spend 11 wonderful days with master instructor Larry Benjamin building your own Wee Lassie. You will be guided through every step of the building process. Leave with a beautiful\, lightweight canoe that handles well in the water. Open to all level of student.
URL:https://adirondackfolkschool.org/event/build-a-wee-lassie-canoe-119/
CATEGORIES:Boats & Paddles
ATTACH;FMTTYPE=image/jpeg:https://adirondackfolkschool.org/wp-content/uploads/2022/01/Build-a-Wee-Lassie-Canoe.jpg
END:VEVENT
BEGIN:VEVENT
DTSTART;TZID=America/New_York:20250327T083000
DTEND;TZID=America/New_York:20250327T173000
DTSTAMP:20260424T205613
CREATED:20241211T170507Z
LAST-MODIFIED:20241211T170507Z
UID:10002695-1743064200-1743096600@adirondackfolkschool.org
SUMMARY:Build a Wee Lassie Canoe
DESCRIPTION:The original Wee Lassie was a lapstrake-built open cedar canoe made in 1863 by J. Henry Rushton of Canton\, NY. Rushton was one of the most famous canoe builders of his era. George Washington Sears\, who wrote of his adventures under his pen name of Nessmuk as he recorded his paddling adventures throughout the Adirondacks\, popularized these small\, finely crafted canoes. Come spend 11 wonderful days with master instructor Larry Benjamin building your own Wee Lassie. You will be guided through every step of the building process. Leave with a beautiful\, lightweight canoe that handles well in the water. Open to all level of student.
URL:https://adirondackfolkschool.org/event/build-a-wee-lassie-canoe-120/
CATEGORIES:Boats & Paddles
ATTACH;FMTTYPE=image/jpeg:https://adirondackfolkschool.org/wp-content/uploads/2022/01/Build-a-Wee-Lassie-Canoe.jpg
END:VEVENT
BEGIN:VEVENT
DTSTART;TZID=America/New_York:20250328T083000
DTEND;TZID=America/New_York:20250328T173000
DTSTAMP:20260424T205613
CREATED:20241211T170508Z
LAST-MODIFIED:20241211T170508Z
UID:10002696-1743150600-1743183000@adirondackfolkschool.org
SUMMARY:Build a Wee Lassie Canoe
DESCRIPTION:The original Wee Lassie was a lapstrake-built open cedar canoe made in 1863 by J. Henry Rushton of Canton\, NY. Rushton was one of the most famous canoe builders of his era. George Washington Sears\, who wrote of his adventures under his pen name of Nessmuk as he recorded his paddling adventures throughout the Adirondacks\, popularized these small\, finely crafted canoes. Come spend 11 wonderful days with master instructor Larry Benjamin building your own Wee Lassie. You will be guided through every step of the building process. Leave with a beautiful\, lightweight canoe that handles well in the water. Open to all level of student.
URL:https://adirondackfolkschool.org/event/build-a-wee-lassie-canoe-121/
CATEGORIES:Boats & Paddles
ATTACH;FMTTYPE=image/jpeg:https://adirondackfolkschool.org/wp-content/uploads/2022/01/Build-a-Wee-Lassie-Canoe.jpg
END:VEVENT
END:VCALENDAR