BEGIN:VCALENDAR
VERSION:2.0
PRODID:-//Adirondack Folk School - ECPv6.15.12.2//NONSGML v1.0//EN
CALSCALE:GREGORIAN
METHOD:PUBLISH
X-ORIGINAL-URL:https://adirondackfolkschool.org
X-WR-CALDESC:Events for Adirondack Folk School
REFRESH-INTERVAL;VALUE=DURATION:PT1H
X-Robots-Tag:noindex
X-PUBLISHED-TTL:PT1H
BEGIN:VTIMEZONE
TZID:America/New_York
BEGIN:DAYLIGHT
TZOFFSETFROM:-0500
TZOFFSETTO:-0400
TZNAME:EDT
DTSTART:20250309T070000
END:DAYLIGHT
BEGIN:STANDARD
TZOFFSETFROM:-0400
TZOFFSETTO:-0500
TZNAME:EST
DTSTART:20251102T060000
END:STANDARD
BEGIN:DAYLIGHT
TZOFFSETFROM:-0500
TZOFFSETTO:-0400
TZNAME:EDT
DTSTART:20260308T070000
END:DAYLIGHT
BEGIN:STANDARD
TZOFFSETFROM:-0400
TZOFFSETTO:-0500
TZNAME:EST
DTSTART:20261101T060000
END:STANDARD
BEGIN:DAYLIGHT
TZOFFSETFROM:-0500
TZOFFSETTO:-0400
TZNAME:EDT
DTSTART:20270314T070000
END:DAYLIGHT
BEGIN:STANDARD
TZOFFSETFROM:-0400
TZOFFSETTO:-0500
TZNAME:EST
DTSTART:20271107T060000
END:STANDARD
END:VTIMEZONE
BEGIN:VEVENT
DTSTART;TZID=America/New_York:20260503T090000
DTEND;TZID=America/New_York:20260503T170000
DTSTAMP:20260422T055324
CREATED:20251204T164542Z
LAST-MODIFIED:20251204T164542Z
UID:10003204-1777798800-1777827600@adirondackfolkschool.org
SUMMARY:Paddle Making
DESCRIPTION:Come and create your own willow leaf shaped\, traditional cherry wood canoe paddle or make a native double kayak/sit in the bottom canoe paddle. After some history and an explanation of the shapes\, you will pick your blank and get started using only hand tools to create your paddle! The process will be demonstrated from beginning to end to ensure that you come away with a perfect paddle. Two different sizes will be available for canoe paddles – standard (29″ shaft) and long (32″ shaft). Kayak paddles are one size fits all (54″ shaft). This one-day class will give you a sense of accomplishment as you complete a paddle that will accompany you on the water. Students will need to specify their paddle choice at the time of registration. All materials are provided\, material fees are included in the tuition of this class. Due to time constraints\, students are encouraged to bring their own lunch.
URL:https://adirondackfolkschool.org/event/paddle-making-5/
CATEGORIES:Boats & Paddles
ATTACH;FMTTYPE=image/jpeg:https://adirondackfolkschool.org/wp-content/uploads/2022/01/Paddle-Making-scaled.jpg
END:VEVENT
END:VCALENDAR