BEGIN:VCALENDAR
VERSION:2.0
PRODID:-//Adirondack Folk School - ECPv6.15.12.2//NONSGML v1.0//EN
CALSCALE:GREGORIAN
METHOD:PUBLISH
X-ORIGINAL-URL:https://adirondackfolkschool.org
X-WR-CALDESC:Events for Adirondack Folk School
REFRESH-INTERVAL;VALUE=DURATION:PT1H
X-Robots-Tag:noindex
X-PUBLISHED-TTL:PT1H
BEGIN:VTIMEZONE
TZID:America/New_York
BEGIN:DAYLIGHT
TZOFFSETFROM:-0500
TZOFFSETTO:-0400
TZNAME:EDT
DTSTART:20210314T070000
END:DAYLIGHT
BEGIN:STANDARD
TZOFFSETFROM:-0400
TZOFFSETTO:-0500
TZNAME:EST
DTSTART:20211107T060000
END:STANDARD
BEGIN:DAYLIGHT
TZOFFSETFROM:-0500
TZOFFSETTO:-0400
TZNAME:EDT
DTSTART:20220313T070000
END:DAYLIGHT
BEGIN:STANDARD
TZOFFSETFROM:-0400
TZOFFSETTO:-0500
TZNAME:EST
DTSTART:20221106T060000
END:STANDARD
BEGIN:DAYLIGHT
TZOFFSETFROM:-0500
TZOFFSETTO:-0400
TZNAME:EDT
DTSTART:20230312T070000
END:DAYLIGHT
BEGIN:STANDARD
TZOFFSETFROM:-0400
TZOFFSETTO:-0500
TZNAME:EST
DTSTART:20231105T060000
END:STANDARD
BEGIN:DAYLIGHT
TZOFFSETFROM:-0500
TZOFFSETTO:-0400
TZNAME:EDT
DTSTART:20240310T070000
END:DAYLIGHT
BEGIN:STANDARD
TZOFFSETFROM:-0400
TZOFFSETTO:-0500
TZNAME:EST
DTSTART:20241103T060000
END:STANDARD
BEGIN:DAYLIGHT
TZOFFSETFROM:-0500
TZOFFSETTO:-0400
TZNAME:EDT
DTSTART:20250309T070000
END:DAYLIGHT
BEGIN:STANDARD
TZOFFSETFROM:-0400
TZOFFSETTO:-0500
TZNAME:EST
DTSTART:20251102T060000
END:STANDARD
BEGIN:DAYLIGHT
TZOFFSETFROM:-0500
TZOFFSETTO:-0400
TZNAME:EDT
DTSTART:20260308T070000
END:DAYLIGHT
BEGIN:STANDARD
TZOFFSETFROM:-0400
TZOFFSETTO:-0500
TZNAME:EST
DTSTART:20261101T060000
END:STANDARD
END:VTIMEZONE
BEGIN:VEVENT
DTSTART;TZID=America/New_York:20250621T090000
DTEND;TZID=America/New_York:20250621T120000
DTSTAMP:20260422T055145
CREATED:20241211T171315Z
LAST-MODIFIED:20241211T171315Z
UID:10002755-1750496400-1750507200@adirondackfolkschool.org
SUMMARY:Introduction to Clay/Ceramics - Hand Building
DESCRIPTION:Clay arts has historical common traditions across all cultures.  It is easy to shape\, sculpt and transform into ceramics.  Imagine making bowls\, cups\, wind chimes and more…. through the use of clay medium.  This two-day workshop allows for experimentation in creating various forms (2-3 pieces per student).  On day one students will learn basic hand-building pottery techniques; explore pinch\, coil and slab. After a drying period of three weeks\, on the second day students will learn how to decorate and glaze their piece.
URL:https://adirondackfolkschool.org/event/introduction-to-clay-ceramics-hand-building-21/
LOCATION:Adirondack Folk School\, 51 Main St.\, Lake Luzerne\, NY\, 12846\, United States
CATEGORIES:Ceramics
ATTACH;FMTTYPE=image/jpeg:https://adirondackfolkschool.org/wp-content/uploads/2023/12/NEW-PHOTO-Intro-to-ClayCeramics-Colleen-Vanderhoef-scaled.jpg
END:VEVENT
BEGIN:VEVENT
DTSTART;TZID=America/New_York:20250531T090000
DTEND;TZID=America/New_York:20250531T120000
DTSTAMP:20260422T055145
CREATED:20241211T171315Z
LAST-MODIFIED:20241211T171315Z
UID:10002754-1748682000-1748692800@adirondackfolkschool.org
SUMMARY:Introduction to Clay/Ceramics - Hand Building
DESCRIPTION:Clay arts has historical common traditions across all cultures.  It is easy to shape\, sculpt and transform into ceramics.  Imagine making bowls\, cups\, wind chimes and more…. through the use of clay medium.  This two-day workshop allows for experimentation in creating various forms (2-3 pieces per student).  On day one students will learn basic hand-building pottery techniques; explore pinch\, coil and slab. After a drying period of three weeks\, on the second day students will learn how to decorate and glaze their piece.
URL:https://adirondackfolkschool.org/event/introduction-to-clay-ceramics-hand-building-20/
LOCATION:Adirondack Folk School\, 51 Main St.\, Lake Luzerne\, NY\, 12846\, United States
CATEGORIES:Ceramics
ATTACH;FMTTYPE=image/jpeg:https://adirondackfolkschool.org/wp-content/uploads/2023/12/NEW-PHOTO-Intro-to-ClayCeramics-Colleen-Vanderhoef-scaled.jpg
END:VEVENT
BEGIN:VEVENT
DTSTART;TZID=America/New_York:20250329T090000
DTEND;TZID=America/New_York:20250329T120000
DTSTAMP:20260422T055145
CREATED:20241211T171301Z
LAST-MODIFIED:20241211T171301Z
UID:10002753-1743238800-1743249600@adirondackfolkschool.org
SUMMARY:Introduction to Clay/Ceramics - Hand Building
DESCRIPTION:Clay arts has historical common traditions across all cultures.  It is easy to shape\, sculpt and transform into ceramics.  Imagine making bowls\, cups\, wind chimes and more…. through the use of clay medium.  This two-day workshop allows for experimentation in creating various forms (2-3 pieces per student).  On day one students will learn basic hand-building pottery techniques; explore pinch\, coil and slab. After a drying period of three weeks\, on the second day students will learn how to decorate and glaze their piece.
URL:https://adirondackfolkschool.org/event/introduction-to-clay-ceramics-hand-building-19/
LOCATION:Adirondack Folk School\, 51 Main St.\, Lake Luzerne\, NY\, 12846\, United States
CATEGORIES:Ceramics
ATTACH;FMTTYPE=image/jpeg:https://adirondackfolkschool.org/wp-content/uploads/2023/12/NEW-PHOTO-Intro-to-ClayCeramics-Colleen-Vanderhoef-scaled.jpg
END:VEVENT
BEGIN:VEVENT
DTSTART;TZID=America/New_York:20250308T090000
DTEND;TZID=America/New_York:20250308T120000
DTSTAMP:20260422T055145
CREATED:20241211T171301Z
LAST-MODIFIED:20241211T171301Z
UID:10002752-1741424400-1741435200@adirondackfolkschool.org
SUMMARY:Introduction to Clay/Ceramics - Hand Building
DESCRIPTION:Clay arts has historical common traditions across all cultures.  It is easy to shape\, sculpt and transform into ceramics.  Imagine making bowls\, cups\, wind chimes and more…. through the use of clay medium.  This two-day workshop allows for experimentation in creating various forms (2-3 pieces per student).  On day one students will learn basic hand-building pottery techniques; explore pinch\, coil and slab. After a drying period of three weeks\, on the second day students will learn how to decorate and glaze their piece.
URL:https://adirondackfolkschool.org/event/introduction-to-clay-ceramics-hand-building-18/
LOCATION:Adirondack Folk School\, 51 Main St.\, Lake Luzerne\, NY\, 12846\, United States
CATEGORIES:Ceramics
ATTACH;FMTTYPE=image/jpeg:https://adirondackfolkschool.org/wp-content/uploads/2023/12/NEW-PHOTO-Intro-to-ClayCeramics-Colleen-Vanderhoef-scaled.jpg
END:VEVENT
BEGIN:VEVENT
DTSTART;TZID=America/New_York:20240813T090000
DTEND;TZID=America/New_York:20240813T120000
DTSTAMP:20260422T055145
CREATED:20231207T200518Z
LAST-MODIFIED:20231207T200518Z
UID:10002310-1723539600-1723550400@adirondackfolkschool.org
SUMMARY:Introduction to Clay/Ceramics - Hand Building
DESCRIPTION:Clay arts has historical common traditions across all cultures.  It is easy to shape\, sculpt and transform into ceramics.  Imagine making bowls\, cups\, wind chimes and more…. through the use of clay medium.  This two-day workshop allows for experimentation in creating various forms (2-3 pieces per student).  On day one students will learn basic hand-building pottery techniques; explore pinch\, coil and slab. After a drying period of three weeks\, on the second day students will learn how to decorate and glaze their piece.
URL:https://adirondackfolkschool.org/event/introduction-to-clay-ceramics-hand-building-14/
LOCATION:Adirondack Folk School\, 51 Main St.\, Lake Luzerne\, NY\, 12846\, United States
CATEGORIES:Ceramics
ATTACH;FMTTYPE=image/jpeg:https://adirondackfolkschool.org/wp-content/uploads/2022/01/Introduction-to-Clay-Ceramics-Hand-Building.jpeg
END:VEVENT
BEGIN:VEVENT
DTSTART;TZID=America/New_York:20240803T090000
DTEND;TZID=America/New_York:20240803T120000
DTSTAMP:20260422T055145
CREATED:20240122T173411Z
LAST-MODIFIED:20240122T173411Z
UID:10002401-1722675600-1722686400@adirondackfolkschool.org
SUMMARY:Introduction to Clay/Ceramics - Hand Building
DESCRIPTION:Clay arts has historical common traditions across all cultures.  It is easy to shape\, sculpt and transform into ceramics.  Imagine making bowls\, cups\, wind chimes and more…. through the use of clay medium.  This two-day workshop allows for experimentation in creating various forms (2-3 pieces per student).  On day one students will learn basic hand-building pottery techniques; explore pinch\, coil and slab. After a drying period of three weeks\, on the second day students will learn how to decorate and glaze their piece.
URL:https://adirondackfolkschool.org/event/introduction-to-clay-ceramics-hand-building-15/
LOCATION:Adirondack Folk School\, 51 Main St.\, Lake Luzerne\, NY\, 12846\, United States
CATEGORIES:Ceramics
ATTACH;FMTTYPE=image/jpeg:https://adirondackfolkschool.org/wp-content/uploads/2023/12/NEW-PHOTO-Intro-to-ClayCeramics-Colleen-Vanderhoef-scaled.jpg
END:VEVENT
BEGIN:VEVENT
DTSTART;TZID=America/New_York:20240713T090000
DTEND;TZID=America/New_York:20240713T120000
DTSTAMP:20260422T055145
CREATED:20231207T200517Z
LAST-MODIFIED:20231207T200517Z
UID:10002309-1720861200-1720872000@adirondackfolkschool.org
SUMMARY:Introduction to Clay/Ceramics - Hand Building
DESCRIPTION:Clay arts has historical common traditions across all cultures.  It is easy to shape\, sculpt and transform into ceramics.  Imagine making bowls\, cups\, wind chimes and more…. through the use of clay medium.  This two-day workshop allows for experimentation in creating various forms (2-3 pieces per student).  On day one students will learn basic hand-building pottery techniques; explore pinch\, coil and slab. After a drying period of three weeks\, on the second day students will learn how to decorate and glaze their piece.
URL:https://adirondackfolkschool.org/event/introduction-to-clay-ceramics-hand-building-13/
LOCATION:Adirondack Folk School\, 51 Main St.\, Lake Luzerne\, NY\, 12846\, United States
CATEGORIES:Ceramics
ATTACH;FMTTYPE=image/jpeg:https://adirondackfolkschool.org/wp-content/uploads/2022/01/Introduction-to-Clay-Ceramics-Hand-Building.jpeg
END:VEVENT
BEGIN:VEVENT
DTSTART;TZID=America/New_York:20230805T090000
DTEND;TZID=America/New_York:20230805T120000
DTSTAMP:20260422T055145
CREATED:20221214T232253Z
LAST-MODIFIED:20221214T232253Z
UID:10001701-1691226000-1691236800@adirondackfolkschool.org
SUMMARY:Introduction to Clay/Ceramics - Hand Building
DESCRIPTION:Clay arts has historical common traditions across all cultures.  It is easy to shape\, sculpt and transform into ceramics.  Imagine making bowls\, cups\, wind chimes and more…. through the use of clay medium.  This two-day workshop allows for experimentation in creating various forms (2-3 pieces per student).  On day one students will learn basic hand-building pottery techniques; explore pinch\, coil and slab. After a drying period of three weeks\, on the second day students will learn how to decorate and glaze their piece.
URL:https://adirondackfolkschool.org/event/introduction-to-clay-ceramics-hand-building-12/
LOCATION:NY
CATEGORIES:Ceramics
ATTACH;FMTTYPE=image/jpeg:https://adirondackfolkschool.org/wp-content/uploads/2022/01/Introduction-to-Clay-Ceramics-Hand-Building.jpeg
END:VEVENT
BEGIN:VEVENT
DTSTART;TZID=America/New_York:20230715T090000
DTEND;TZID=America/New_York:20230715T120000
DTSTAMP:20260422T055145
CREATED:20221214T232253Z
LAST-MODIFIED:20221214T232253Z
UID:10001700-1689411600-1689422400@adirondackfolkschool.org
SUMMARY:Introduction to Clay/Ceramics - Hand Building
DESCRIPTION:Clay arts has historical common traditions across all cultures.  It is easy to shape\, sculpt and transform into ceramics.  Imagine making bowls\, cups\, wind chimes and more…. through the use of clay medium.  This two-day workshop allows for experimentation in creating various forms (2-3 pieces per student).  On day one students will learn basic hand-building pottery techniques; explore pinch\, coil and slab. After a drying period of three weeks\, on the second day students will learn how to decorate and glaze their piece.
URL:https://adirondackfolkschool.org/event/introduction-to-clay-ceramics-hand-building-11/
LOCATION:NY
CATEGORIES:Ceramics
ATTACH;FMTTYPE=image/jpeg:https://adirondackfolkschool.org/wp-content/uploads/2022/01/Introduction-to-Clay-Ceramics-Hand-Building.jpeg
END:VEVENT
BEGIN:VEVENT
DTSTART;TZID=America/New_York:20230603T090000
DTEND;TZID=America/New_York:20230603T120000
DTSTAMP:20260422T055145
CREATED:20221214T232252Z
LAST-MODIFIED:20221214T232252Z
UID:10001699-1685782800-1685793600@adirondackfolkschool.org
SUMMARY:Introduction to Clay/Ceramics - Hand Building
DESCRIPTION:Clay arts has historical common traditions across all cultures.  It is easy to shape\, sculpt and transform into ceramics.  Imagine making bowls\, cups\, wind chimes and more…. through the use of clay medium.  This two-day workshop allows for experimentation in creating various forms (2-3 pieces per student).  On day one students will learn basic hand-building pottery techniques; explore pinch\, coil and slab. After a drying period of three weeks\, on the second day students will learn how to decorate and glaze their piece.
URL:https://adirondackfolkschool.org/event/introduction-to-clay-ceramics-hand-building-10/
LOCATION:NY
CATEGORIES:Ceramics
ATTACH;FMTTYPE=image/jpeg:https://adirondackfolkschool.org/wp-content/uploads/2022/01/Introduction-to-Clay-Ceramics-Hand-Building.jpeg
END:VEVENT
BEGIN:VEVENT
DTSTART;TZID=America/New_York:20230513T090000
DTEND;TZID=America/New_York:20230513T120000
DTSTAMP:20260422T055145
CREATED:20221214T232251Z
LAST-MODIFIED:20221214T232251Z
UID:10001698-1683968400-1683979200@adirondackfolkschool.org
SUMMARY:Introduction to Clay/Ceramics - Hand Building
DESCRIPTION:Clay arts has historical common traditions across all cultures.  It is easy to shape\, sculpt and transform into ceramics.  Imagine making bowls\, cups\, wind chimes and more…. through the use of clay medium.  This two-day workshop allows for experimentation in creating various forms (2-3 pieces per student).  On day one students will learn basic hand-building pottery techniques; explore pinch\, coil and slab. After a drying period of three weeks\, on the second day students will learn how to decorate and glaze their piece.
URL:https://adirondackfolkschool.org/event/introduction-to-clay-ceramics-hand-building-9/
LOCATION:NY
CATEGORIES:Ceramics
ATTACH;FMTTYPE=image/jpeg:https://adirondackfolkschool.org/wp-content/uploads/2022/01/Introduction-to-Clay-Ceramics-Hand-Building.jpeg
END:VEVENT
BEGIN:VEVENT
DTSTART;TZID=America/New_York:20230422T090000
DTEND;TZID=America/New_York:20230422T120000
DTSTAMP:20260422T055145
CREATED:20221214T232238Z
LAST-MODIFIED:20221214T232238Z
UID:10001994-1682154000-1682164800@adirondackfolkschool.org
SUMMARY:Introduction to Clay/Ceramics - Hand Building
DESCRIPTION:Clay arts has historical common traditions across all cultures.  It is easy to shape\, sculpt and transform into ceramics.  Imagine making bowls\, cups\, wind chimes and more…. through the use of clay medium.  This two-day workshop allows for experimentation in creating various forms (2-3 pieces per student).  On day one students will learn basic hand-building pottery techniques; explore pinch\, coil and slab. After a drying period of three weeks\, on the second day students will learn how to decorate and glaze their piece.
URL:https://adirondackfolkschool.org/event/introduction-to-clay-ceramics-hand-building-8/
LOCATION:NY
CATEGORIES:Ceramics
ATTACH;FMTTYPE=image/jpeg:https://adirondackfolkschool.org/wp-content/uploads/2022/01/Introduction-to-Clay-Ceramics-Hand-Building.jpeg
END:VEVENT
BEGIN:VEVENT
DTSTART;TZID=America/New_York:20230401T090000
DTEND;TZID=America/New_York:20230401T120000
DTSTAMP:20260422T055145
CREATED:20221214T232238Z
LAST-MODIFIED:20221214T232238Z
UID:10001993-1680339600-1680350400@adirondackfolkschool.org
SUMMARY:Introduction to Clay/Ceramics - Hand Building
DESCRIPTION:Clay arts has historical common traditions across all cultures.  It is easy to shape\, sculpt and transform into ceramics.  Imagine making bowls\, cups\, wind chimes and more…. through the use of clay medium.  This two-day workshop allows for experimentation in creating various forms (2-3 pieces per student).  On day one students will learn basic hand-building pottery techniques; explore pinch\, coil and slab. After a drying period of three weeks\, on the second day students will learn how to decorate and glaze their piece.
URL:https://adirondackfolkschool.org/event/introduction-to-clay-ceramics-hand-building-7/
LOCATION:NY
CATEGORIES:Ceramics
ATTACH;FMTTYPE=image/jpeg:https://adirondackfolkschool.org/wp-content/uploads/2022/01/Introduction-to-Clay-Ceramics-Hand-Building.jpeg
END:VEVENT
BEGIN:VEVENT
DTSTART;TZID=America/New_York:20220605T090000
DTEND;TZID=America/New_York:20220605T120000
DTSTAMP:20260422T055145
CREATED:20220217T234800Z
LAST-MODIFIED:20220217T234800Z
UID:10001622-1654419600-1654430400@adirondackfolkschool.org
SUMMARY:Introduction to Clay/Ceramics - Hand Building
DESCRIPTION:Clay arts has historical common traditions across all cultures.  It is easy to shape\, sculpt and transform into ceramics.  Imagine making bowls\, cups\, wind chimes and more…. through the use of clay medium.  This two-day workshop allows for experimentation in creating various forms (2-3 pieces per student).  On day one students will learn basic hand-building pottery techniques; explore pinch\, coil and slab. After a drying period of two weeks\, on the second day students will learn how to decorate and glaze their piece.
URL:https://adirondackfolkschool.org/event/introduction-to-clay-ceramics-hand-building-6/
LOCATION:NY
CATEGORIES:Ceramics
ATTACH;FMTTYPE=image/jpeg:https://adirondackfolkschool.org/wp-content/uploads/2022/01/Introduction-to-Clay-Ceramics-Hand-Building.jpeg
END:VEVENT
BEGIN:VEVENT
DTSTART;TZID=America/New_York:20220515T090000
DTEND;TZID=America/New_York:20220515T120000
DTSTAMP:20260422T055145
CREATED:20220217T234759Z
LAST-MODIFIED:20220217T234759Z
UID:10001620-1652605200-1652616000@adirondackfolkschool.org
SUMMARY:Introduction to Clay/Ceramics - Hand Building
DESCRIPTION:Clay arts has historical common traditions across all cultures.  It is easy to shape\, sculpt and transform into ceramics.  Imagine making bowls\, cups\, wind chimes and more…. through the use of clay medium.  This two-day workshop allows for experimentation in creating various forms (2-3 pieces per student).  On day one students will learn basic hand-building pottery techniques; explore pinch\, coil and slab. After a drying period of two weeks\, on the second day students will learn how to decorate and glaze their piece.
URL:https://adirondackfolkschool.org/event/introduction-to-clay-ceramics-hand-building-5/
LOCATION:NY
CATEGORIES:Ceramics
ATTACH;FMTTYPE=image/jpeg:https://adirondackfolkschool.org/wp-content/uploads/2022/01/Introduction-to-Clay-Ceramics-Hand-Building.jpeg
END:VEVENT
BEGIN:VEVENT
DTSTART;TZID=America/New_York:20220402T090000
DTEND;TZID=America/New_York:20220402T120000
DTSTAMP:20260422T055145
CREATED:20220217T234747Z
LAST-MODIFIED:20220217T234747Z
UID:10001618-1648890000-1648900800@adirondackfolkschool.org
SUMMARY:Introduction to Clay/Ceramics - Hand Building
DESCRIPTION:Clay arts has historical common traditions across all cultures.  It is easy to shape\, sculpt and transform into ceramics.  Imagine making bowls\, cups\, wind chimes and more…. through the use of clay medium.  This two-day workshop allows for experimentation in creating various forms (2-3 pieces per student).  On day one students will learn basic hand-building pottery techniques; explore pinch\, coil and slab. After a drying period of two weeks\, on the second day students will learn how to decorate and glaze their piece.
URL:https://adirondackfolkschool.org/event/introduction-to-clay-ceramics-hand-building-4/
LOCATION:NY
CATEGORIES:Ceramics
ATTACH;FMTTYPE=image/jpeg:https://adirondackfolkschool.org/wp-content/uploads/2022/01/Introduction-to-Clay-Ceramics-Hand-Building.jpeg
END:VEVENT
BEGIN:VEVENT
DTSTART;TZID=America/New_York:20220312T090000
DTEND;TZID=America/New_York:20220312T120000
DTSTAMP:20260422T055145
CREATED:20220217T234746Z
LAST-MODIFIED:20220217T234746Z
UID:10001616-1647075600-1647086400@adirondackfolkschool.org
SUMMARY:Introduction to Clay/Ceramics - Hand Building
DESCRIPTION:Clay arts has historical common traditions across all cultures.  It is easy to shape\, sculpt and transform into ceramics.  Imagine making bowls\, cups\, wind chimes and more…. through the use of clay medium.  This two-day workshop allows for experimentation in creating various forms (2-3 pieces per student).  On day one students will learn basic hand-building pottery techniques; explore pinch\, coil and slab. After a drying period of two weeks\, on the second day students will learn how to decorate and glaze their piece.
URL:https://adirondackfolkschool.org/event/introduction-to-clay-ceramics-hand-building-3/
LOCATION:NY
CATEGORIES:Ceramics
ATTACH;FMTTYPE=image/jpeg:https://adirondackfolkschool.org/wp-content/uploads/2022/01/Introduction-to-Clay-Ceramics-Hand-Building.jpeg
END:VEVENT
BEGIN:VEVENT
DTSTART;TZID=America/New_York:20220205T090000
DTEND;TZID=America/New_York:20220205T120000
DTSTAMP:20260422T055145
CREATED:20220217T234746Z
LAST-MODIFIED:20220217T234746Z
UID:10001614-1644051600-1644062400@adirondackfolkschool.org
SUMMARY:Introduction to Clay/Ceramics - Hand Building
DESCRIPTION:Clay arts has historical common traditions across all cultures.  It is easy to shape\, sculpt and transform into ceramics.  Imagine making bowls\, cups\, wind chimes and more…. through the use of clay medium.  This two-day workshop allows for experimentation in creating various forms (2-3 pieces per student).  On day one students will learn basic hand-building pottery techniques; explore pinch\, coil and slab. After a drying period of two weeks\, on the second day students will learn how to decorate and glaze their piece.
URL:https://adirondackfolkschool.org/event/introduction-to-clay-ceramics-hand-building-2/
LOCATION:NY
CATEGORIES:Ceramics
ATTACH;FMTTYPE=image/jpeg:https://adirondackfolkschool.org/wp-content/uploads/2022/01/Introduction-to-Clay-Ceramics-Hand-Building.jpeg
END:VEVENT
BEGIN:VEVENT
DTSTART;TZID=America/New_York:20220115T090000
DTEND;TZID=America/New_York:20220115T120000
DTSTAMP:20260422T055145
CREATED:20220217T234745Z
LAST-MODIFIED:20220217T234745Z
UID:10001611-1642237200-1642248000@adirondackfolkschool.org
SUMMARY:Introduction to Clay/Ceramics - Hand Building
DESCRIPTION:Clay arts has historical common traditions across all cultures.  It is easy to shape\, sculpt and transform into ceramics.  Imagine making bowls\, cups\, wind chimes and more…. through the use of clay medium.  This two-day workshop allows for experimentation in creating various forms (2-3 pieces per student).  On day one students will learn basic hand-building pottery techniques; explore pinch\, coil and slab. After a drying period of two weeks\, on the second day students will learn how to decorate and glaze their piece.
URL:https://adirondackfolkschool.org/event/introduction-to-clay-ceramics-hand-building/
LOCATION:NY
CATEGORIES:Ceramics
ATTACH;FMTTYPE=image/jpeg:https://adirondackfolkschool.org/wp-content/uploads/2022/01/Introduction-to-Clay-Ceramics-Hand-Building.jpeg
END:VEVENT
END:VCALENDAR