BEGIN:VCALENDAR
VERSION:2.0
PRODID:-//Adirondack Folk School - ECPv6.15.12.2//NONSGML v1.0//EN
CALSCALE:GREGORIAN
METHOD:PUBLISH
X-ORIGINAL-URL:https://adirondackfolkschool.org
X-WR-CALDESC:Events for Adirondack Folk School
REFRESH-INTERVAL;VALUE=DURATION:PT1H
X-Robots-Tag:noindex
X-PUBLISHED-TTL:PT1H
BEGIN:VTIMEZONE
TZID:America/New_York
BEGIN:DAYLIGHT
TZOFFSETFROM:-0500
TZOFFSETTO:-0400
TZNAME:EDT
DTSTART:20250309T070000
END:DAYLIGHT
BEGIN:STANDARD
TZOFFSETFROM:-0400
TZOFFSETTO:-0500
TZNAME:EST
DTSTART:20251102T060000
END:STANDARD
BEGIN:DAYLIGHT
TZOFFSETFROM:-0500
TZOFFSETTO:-0400
TZNAME:EDT
DTSTART:20260308T070000
END:DAYLIGHT
BEGIN:STANDARD
TZOFFSETFROM:-0400
TZOFFSETTO:-0500
TZNAME:EST
DTSTART:20261101T060000
END:STANDARD
BEGIN:DAYLIGHT
TZOFFSETFROM:-0500
TZOFFSETTO:-0400
TZNAME:EDT
DTSTART:20270314T070000
END:DAYLIGHT
BEGIN:STANDARD
TZOFFSETFROM:-0400
TZOFFSETTO:-0500
TZNAME:EST
DTSTART:20271107T060000
END:STANDARD
END:VTIMEZONE
BEGIN:VEVENT
DTSTART;TZID=America/New_York:20260509T090000
DTEND;TZID=America/New_York:20260509T120000
DTSTAMP:20260419T095020
CREATED:20251204T164719Z
LAST-MODIFIED:20260129T155626Z
UID:10003228-1778317200-1778328000@adirondackfolkschool.org
SUMMARY:Introduction to Clay/Ceramics - Hand Building
DESCRIPTION:Clay arts has historical common traditions across all cultures. It is easy to shape\, sculpt and transform into ceramics. Imagine making bowls\, cups\, wind chimes and more…. through the use of clay medium. This two-day workshop allows for experimentation in creating various forms (2-3 pieces per student). On day one students will learn basic hand-building pottery techniques; explore pinch\, coil and slab. After a drying period of three weeks\, on the second day students will learn how to decorate and glaze their piece.
URL:https://adirondackfolkschool.org/event/introduction-to-clay-ceramics-hand-building-22/
LOCATION:Adirondack Folk School\, 51 Main St.\, Lake Luzerne\, NY\, 12846\, United States
CATEGORIES:Ceramics
ATTACH;FMTTYPE=image/jpeg:https://adirondackfolkschool.org/wp-content/uploads/2023/12/NEW-PHOTO-Intro-to-ClayCeramics-Colleen-Vanderhoef-scaled.jpg
END:VEVENT
BEGIN:VEVENT
DTSTART;TZID=America/New_York:20260606T090000
DTEND;TZID=America/New_York:20260606T120000
DTSTAMP:20260419T095020
CREATED:20251204T164743Z
LAST-MODIFIED:20251204T164743Z
UID:10003229-1780736400-1780747200@adirondackfolkschool.org
SUMMARY:Introduction to Clay/Ceramics - Hand Building
DESCRIPTION:Clay arts has historical common traditions across all cultures.  It is easy to shape\, sculpt and transform into ceramics.  Imagine making bowls\, cups\, wind chimes and more…. through the use of clay medium.  This two-day workshop allows for experimentation in creating various forms (2-3 pieces per student).  On day one students will learn basic hand-building pottery techniques; explore pinch\, coil and slab. After a drying period of three weeks\, on the second day students will learn how to decorate and glaze their piece.
URL:https://adirondackfolkschool.org/event/introduction-to-clay-ceramics-hand-building-23/
LOCATION:Adirondack Folk School\, 51 Main St.\, Lake Luzerne\, NY\, 12846\, United States
CATEGORIES:Ceramics
ATTACH;FMTTYPE=image/jpeg:https://adirondackfolkschool.org/wp-content/uploads/2023/12/NEW-PHOTO-Intro-to-ClayCeramics-Colleen-Vanderhoef-scaled.jpg
END:VEVENT
BEGIN:VEVENT
DTSTART;TZID=America/New_York:20260711T090000
DTEND;TZID=America/New_York:20260711T120000
DTSTAMP:20260419T095020
CREATED:20251204T170655Z
LAST-MODIFIED:20251204T170655Z
UID:10003363-1783760400-1783771200@adirondackfolkschool.org
SUMMARY:Ceramic Wind Chimes and Ornaments
DESCRIPTION:In this class we will create a decorative arrangement of small pieces or wind bells of ceramic to be suspended from a frame or used as ornaments. Students will use basic handbuilding techniques to create their pieces. After a drying period of three weeks\, on the second day students will learn how to decorate and glaze their piece. Dress to mess. This class is suited for students ages 8 – 14 w/a parent\, and 15 and up on their own. Supplies include clay\, tool sharing\, glazing and firing. Forms made will have a drying period before firing\, and then glazing. Students will need to return to pick up finished pieces or make shipping arrangements with AFS.
URL:https://adirondackfolkschool.org/event/ceramic-wind-chimes-and-ornaments/
LOCATION:Adirondack Folk School\, 51 Main St.\, Lake Luzerne\, NY\, 12846\, United States
CATEGORIES:Ceramics
ATTACH;FMTTYPE=image/jpeg:https://adirondackfolkschool.org/wp-content/uploads/2023/12/Ceramic-Wind-Chimes-Colleen-Vanderhoef.jpeg
END:VEVENT
BEGIN:VEVENT
DTSTART;TZID=America/New_York:20260801T090000
DTEND;TZID=America/New_York:20260801T120000
DTSTAMP:20260419T095020
CREATED:20251204T170748Z
LAST-MODIFIED:20251204T170748Z
UID:10003364-1785574800-1785585600@adirondackfolkschool.org
SUMMARY:Ceramic Wind Chimes and Ornaments
DESCRIPTION:In this class we will create a decorative arrangement of small pieces or wind bells of ceramic to be suspended from a frame or used as ornaments. Students will use basic handbuilding techniques to create their pieces. After a drying period of three weeks\, on the second day students will learn how to decorate and glaze their piece. Dress to mess. This class is suited for students ages 8 – 14 w/a parent\, and 15 and up on their own. Supplies include clay\, tool sharing\, glazing and firing. Forms made will have a drying period before firing\, and then glazing. Students will need to return to pick up finished pieces or make shipping arrangements with AFS.
URL:https://adirondackfolkschool.org/event/ceramic-wind-chimes-and-ornaments-2/
LOCATION:Adirondack Folk School\, 51 Main St.\, Lake Luzerne\, NY\, 12846\, United States
CATEGORIES:Ceramics
ATTACH;FMTTYPE=image/jpeg:https://adirondackfolkschool.org/wp-content/uploads/2023/12/Ceramic-Wind-Chimes-Colleen-Vanderhoef.jpeg
END:VEVENT
END:VCALENDAR