BEGIN:VCALENDAR
VERSION:2.0
PRODID:-//Adirondack Folk School - ECPv6.15.12.2//NONSGML v1.0//EN
CALSCALE:GREGORIAN
METHOD:PUBLISH
X-WR-CALNAME:Adirondack Folk School
X-ORIGINAL-URL:https://adirondackfolkschool.org
X-WR-CALDESC:Events for Adirondack Folk School
REFRESH-INTERVAL;VALUE=DURATION:PT1H
X-Robots-Tag:noindex
X-PUBLISHED-TTL:PT1H
BEGIN:VTIMEZONE
TZID:America/New_York
BEGIN:DAYLIGHT
TZOFFSETFROM:-0500
TZOFFSETTO:-0400
TZNAME:EDT
DTSTART:20210314T070000
END:DAYLIGHT
BEGIN:STANDARD
TZOFFSETFROM:-0400
TZOFFSETTO:-0500
TZNAME:EST
DTSTART:20211107T060000
END:STANDARD
BEGIN:DAYLIGHT
TZOFFSETFROM:-0500
TZOFFSETTO:-0400
TZNAME:EDT
DTSTART:20220313T070000
END:DAYLIGHT
BEGIN:STANDARD
TZOFFSETFROM:-0400
TZOFFSETTO:-0500
TZNAME:EST
DTSTART:20221106T060000
END:STANDARD
BEGIN:DAYLIGHT
TZOFFSETFROM:-0500
TZOFFSETTO:-0400
TZNAME:EDT
DTSTART:20230312T070000
END:DAYLIGHT
BEGIN:STANDARD
TZOFFSETFROM:-0400
TZOFFSETTO:-0500
TZNAME:EST
DTSTART:20231105T060000
END:STANDARD
END:VTIMEZONE
BEGIN:VEVENT
DTSTART;TZID=America/New_York:20220709T090000
DTEND;TZID=America/New_York:20220709T160000
DTSTAMP:20260424T051234
CREATED:20220217T234446Z
LAST-MODIFIED:20220217T234446Z
UID:10001560-1657357200-1657382400@adirondackfolkschool.org
SUMMARY:Cheesemaking: Chevre\, Valencay and Crottin
DESCRIPTION:Come and learn to make Chevre\, Aged Chevre\, Valencay\, and Crottin the traditional way. We will learn to make our own cultures rather than using laboratory produced cultures and will even discuss how to make homemade rennet. We will also make yogurt and cultured butter. All products will be made using organic\, grass-fed\, raw milk. It is recommended that you purchase (and review) the book\, “The Art of Natural Cheesemaking”\, by David Asher. This class is a combination of demonstration and hands on.
URL:https://adirondackfolkschool.org/event/cheesemaking-chevre-valencay-and-crottin/
LOCATION:Adirondack Folk School\, 51 Main St.\, Lake Luzerne\, NY\, 12846\, United States
CATEGORIES:Cooking & Foods
ATTACH;FMTTYPE=image/jpeg:https://adirondackfolkschool.org/wp-content/uploads/2022/01/Cheesemaking-Devers.jpg
END:VEVENT
BEGIN:VEVENT
DTSTART;TZID=America/New_York:20220710T090000
DTEND;TZID=America/New_York:20220710T160000
DTSTAMP:20260424T051234
CREATED:20220217T234446Z
LAST-MODIFIED:20220217T234446Z
UID:10001562-1657443600-1657468800@adirondackfolkschool.org
SUMMARY:Cheesemaking: Chevre\, Valencay and Crottin
DESCRIPTION:Come and learn to make Chevre\, Aged Chevre\, Valencay\, and Crottin the traditional way. We will learn to make our own cultures rather than using laboratory produced cultures and will even discuss how to make homemade rennet. We will also make yogurt and cultured butter. All products will be made using organic\, grass-fed\, raw milk. It is recommended that you purchase (and review) the book\, “The Art of Natural Cheesemaking”\, by David Asher. This class is a combination of demonstration and hands on.
URL:https://adirondackfolkschool.org/event/cheesemaking-chevre-valencay-and-crottin-2/
LOCATION:Adirondack Folk School\, 51 Main St.\, Lake Luzerne\, NY\, 12846\, United States
CATEGORIES:Cooking & Foods
ATTACH;FMTTYPE=image/jpeg:https://adirondackfolkschool.org/wp-content/uploads/2022/01/Cheesemaking-Devers.jpg
END:VEVENT
END:VCALENDAR