BEGIN:VCALENDAR
VERSION:2.0
PRODID:-//Adirondack Folk School - ECPv6.15.12.2//NONSGML v1.0//EN
CALSCALE:GREGORIAN
METHOD:PUBLISH
X-WR-CALNAME:Adirondack Folk School
X-ORIGINAL-URL:https://adirondackfolkschool.org
X-WR-CALDESC:Events for Adirondack Folk School
REFRESH-INTERVAL;VALUE=DURATION:PT1H
X-Robots-Tag:noindex
X-PUBLISHED-TTL:PT1H
BEGIN:VTIMEZONE
TZID:America/New_York
BEGIN:DAYLIGHT
TZOFFSETFROM:-0500
TZOFFSETTO:-0400
TZNAME:EDT
DTSTART:20210314T070000
END:DAYLIGHT
BEGIN:STANDARD
TZOFFSETFROM:-0400
TZOFFSETTO:-0500
TZNAME:EST
DTSTART:20211107T060000
END:STANDARD
BEGIN:DAYLIGHT
TZOFFSETFROM:-0500
TZOFFSETTO:-0400
TZNAME:EDT
DTSTART:20220313T070000
END:DAYLIGHT
BEGIN:STANDARD
TZOFFSETFROM:-0400
TZOFFSETTO:-0500
TZNAME:EST
DTSTART:20221106T060000
END:STANDARD
BEGIN:DAYLIGHT
TZOFFSETFROM:-0500
TZOFFSETTO:-0400
TZNAME:EDT
DTSTART:20230312T070000
END:DAYLIGHT
BEGIN:STANDARD
TZOFFSETFROM:-0400
TZOFFSETTO:-0500
TZNAME:EST
DTSTART:20231105T060000
END:STANDARD
END:VTIMEZONE
BEGIN:VEVENT
DTSTART;TZID=America/New_York:20220813T100000
DTEND;TZID=America/New_York:20220813T140000
DTSTAMP:20260424T034559
CREATED:20220217T234816Z
LAST-MODIFIED:20220217T234816Z
UID:10001634-1660384800-1660399200@adirondackfolkschool.org
SUMMARY:The Art of Cheesemaking: 101
DESCRIPTION:The Art of Cheesemaking:101 is being taught by Sheila Flanagan and Sal Speight\, both internationally awarded cheesemakers\, known for creative semi-aged cheeses.  This course will focus on all of the simplest aspects of cheesemaking and the vast variety of cheeses that can be made based on different cultures\, rennets\, additives and mechanical processing methods. Shelia and Sal will highlight such topics as:  importance of cheese starter culture and how different cultures dictate cheesemaking steps\, varieties of rennet and their pros and cons\, eight steps of cheesemaking and how each affects the final product\, categories of cheese from fresh to semi aged to hard cheeses and all their sub categories\, what makes cheese artisan and the constant clash with regulations and food safety consideration.   Students will then put their knowledge to work by making a semi-aged cow’s milk cheese.  Tips on how to care for your semi-aged cheese at home will end this well-rounded class taught by the cheesemakers at Nettle Meadow Farm.
URL:https://adirondackfolkschool.org/event/the-art-of-cheesemaking-101/
LOCATION:NY
CATEGORIES:Cooking & Foods
ATTACH;FMTTYPE=image/jpeg:https://adirondackfolkschool.org/wp-content/uploads/2022/01/NM-Cheese.jpg
END:VEVENT
END:VCALENDAR