BEGIN:VCALENDAR
VERSION:2.0
PRODID:-//Adirondack Folk School - ECPv6.15.12.2//NONSGML v1.0//EN
CALSCALE:GREGORIAN
METHOD:PUBLISH
X-WR-CALNAME:Adirondack Folk School
X-ORIGINAL-URL:https://adirondackfolkschool.org
X-WR-CALDESC:Events for Adirondack Folk School
REFRESH-INTERVAL;VALUE=DURATION:PT1H
X-Robots-Tag:noindex
X-PUBLISHED-TTL:PT1H
BEGIN:VTIMEZONE
TZID:America/New_York
BEGIN:DAYLIGHT
TZOFFSETFROM:-0500
TZOFFSETTO:-0400
TZNAME:EDT
DTSTART:20210314T070000
END:DAYLIGHT
BEGIN:STANDARD
TZOFFSETFROM:-0400
TZOFFSETTO:-0500
TZNAME:EST
DTSTART:20211107T060000
END:STANDARD
BEGIN:DAYLIGHT
TZOFFSETFROM:-0500
TZOFFSETTO:-0400
TZNAME:EDT
DTSTART:20220313T070000
END:DAYLIGHT
BEGIN:STANDARD
TZOFFSETFROM:-0400
TZOFFSETTO:-0500
TZNAME:EST
DTSTART:20221106T060000
END:STANDARD
BEGIN:DAYLIGHT
TZOFFSETFROM:-0500
TZOFFSETTO:-0400
TZNAME:EDT
DTSTART:20230312T070000
END:DAYLIGHT
BEGIN:STANDARD
TZOFFSETFROM:-0400
TZOFFSETTO:-0500
TZNAME:EST
DTSTART:20231105T060000
END:STANDARD
END:VTIMEZONE
BEGIN:VEVENT
DTSTART;TZID=America/New_York:20220917T100000
DTEND;TZID=America/New_York:20220917T140000
DTSTAMP:20260424T021610
CREATED:20220217T234817Z
LAST-MODIFIED:20220217T234817Z
UID:10001636-1663408800-1663423200@adirondackfolkschool.org
SUMMARY:The Art of Cheesemaking: 102
DESCRIPTION:Internationally known cheesemakers Sheila Flanagan and Sal Speights return for this second course in the Art of Cheesemaking.   This time they will talk about the methods for making mixed milk cheeses and the art of washed rind and hard natural cheeses.  The first half of the class will discuss:  differences between cow\, goat and sheep milk and  how the different compositions of those milks change the quality of the cheese\, seasonality and adjustments to starter cultures and rennet to accommodate the amount of each milk that is available\, financial/business considerations in producing mixed milk cheeses\, the vast variety of washed and hard natural cheeses – finding your niche.  The second half of this course will provide time to put your knowledge to work by making a mixed milk cheese.  Sheila and Sal will provide tips on how to care for your mixed milk cheese at home and tips to try to convert your mixed milk cheese into a washed rind cheese.
URL:https://adirondackfolkschool.org/event/the-art-of-cheesemaking-102/
LOCATION:NY
CATEGORIES:Cooking & Foods
ATTACH;FMTTYPE=image/jpeg:https://adirondackfolkschool.org/wp-content/uploads/2022/01/NM-Cheese.jpg
END:VEVENT
BEGIN:VEVENT
DTSTART;TZID=America/New_York:20220918T090000
DTEND;TZID=America/New_York:20220918T160000
DTSTAMP:20260424T021610
CREATED:20220217T234600Z
LAST-MODIFIED:20220217T234600Z
UID:10001575-1663491600-1663516800@adirondackfolkschool.org
SUMMARY:Fermented Foods
DESCRIPTION:The process of lactic-acid fermentation increases vitamins\, enzymes and beneficial bacteria naturally present in good whole\, fermented and culturally traditional foods. Roberta is hoping to inspire you to include all of this in all diets as a way to introduce healthier options for optimal digestive functioning. In this good for your gut class\, you will learn how to make kombucha\, kefir\, sourdough starter (for bread baking)\, cultured butter and sauerkraut.
URL:https://adirondackfolkschool.org/event/fermented-foods/
LOCATION:Adirondack Folk School\, 51 Main St.\, Lake Luzerne\, NY\, 12846\, United States
CATEGORIES:Cooking & Foods
ATTACH;FMTTYPE=image/jpeg:https://adirondackfolkschool.org/wp-content/uploads/2022/01/Fermented-Foods-Devers-scaled.jpg
END:VEVENT
END:VCALENDAR