BEGIN:VCALENDAR
VERSION:2.0
PRODID:-//Adirondack Folk School - ECPv6.15.12.2//NONSGML v1.0//EN
CALSCALE:GREGORIAN
METHOD:PUBLISH
X-WR-CALNAME:Adirondack Folk School
X-ORIGINAL-URL:https://adirondackfolkschool.org
X-WR-CALDESC:Events for Adirondack Folk School
REFRESH-INTERVAL;VALUE=DURATION:PT1H
X-Robots-Tag:noindex
X-PUBLISHED-TTL:PT1H
BEGIN:VTIMEZONE
TZID:America/New_York
BEGIN:DAYLIGHT
TZOFFSETFROM:-0500
TZOFFSETTO:-0400
TZNAME:EDT
DTSTART:20220313T070000
END:DAYLIGHT
BEGIN:STANDARD
TZOFFSETFROM:-0400
TZOFFSETTO:-0500
TZNAME:EST
DTSTART:20221106T060000
END:STANDARD
BEGIN:DAYLIGHT
TZOFFSETFROM:-0500
TZOFFSETTO:-0400
TZNAME:EDT
DTSTART:20230312T070000
END:DAYLIGHT
BEGIN:STANDARD
TZOFFSETFROM:-0400
TZOFFSETTO:-0500
TZNAME:EST
DTSTART:20231105T060000
END:STANDARD
BEGIN:DAYLIGHT
TZOFFSETFROM:-0500
TZOFFSETTO:-0400
TZNAME:EDT
DTSTART:20240310T070000
END:DAYLIGHT
BEGIN:STANDARD
TZOFFSETFROM:-0400
TZOFFSETTO:-0500
TZNAME:EST
DTSTART:20241103T060000
END:STANDARD
END:VTIMEZONE
BEGIN:VEVENT
DTSTART;TZID=America/New_York:20230916T120000
DTEND;TZID=America/New_York:20230916T140000
DTSTAMP:20260423T073422
CREATED:20221214T224705Z
LAST-MODIFIED:20221214T224705Z
UID:10001808-1694865600-1694872800@adirondackfolkschool.org
SUMMARY:The History of Artisan Cheese in New York
DESCRIPTION:In this class students will take a trip through history as they learn about how Artisan Cheese developed from the 1800s through the present day. Students will have the opportunity to taste many of the New York cheeses discussed. Specific focus will be placed on the Adirondack Crescent Region. Please note: Students will check in at the Folk School\, 51 Main Street\, Lake Luzerne\, NY. They will then travel to Nettle Meadow’s Plant/Tasting Room 1256 Lake Ave.\, Lake Luzerne\, NY for the duration of the class.
URL:https://adirondackfolkschool.org/event/the-history-of-artisan-cheese-in-new-york/
LOCATION:Adirondack Folk School\, 51 Main St.\, Lake Luzerne\, NY\, 12846\, United States
CATEGORIES:Cooking & Foods
ATTACH;FMTTYPE=image/jpeg:https://adirondackfolkschool.org/wp-content/uploads/2022/01/Art-of-Cheesemaking-101-Flanagan.jpg
END:VEVENT
BEGIN:VEVENT
DTSTART;TZID=America/New_York:20230930T090000
DTEND;TZID=America/New_York:20230930T160000
DTSTAMP:20260423T073422
CREATED:20221214T224708Z
LAST-MODIFIED:20230906T144339Z
UID:10001810-1696064400-1696089600@adirondackfolkschool.org
SUMMARY:Pizza Making & Beer Brewing
DESCRIPTION:Come learn the fundamentals of working with an open-air wood-fired oven as well as fermentation\, while making your own pizza and brewing your own beer. All pizza oven tools and ingredients will be provided. Beer kits will include everything needed to make and take home your own one-gallon batch of beer. Other brewing equipment will be provided.
URL:https://adirondackfolkschool.org/event/pizza-making-beer-brewing/
LOCATION:Adirondack Folk School\, 51 Main St.\, Lake Luzerne\, NY\, 12846\, United States
CATEGORIES:Cooking & Foods
ATTACH;FMTTYPE=image/jpeg:https://adirondackfolkschool.org/wp-content/uploads/2022/01/Pizza-Making-Riihimaki.jpg
END:VEVENT
END:VCALENDAR