BEGIN:VCALENDAR
VERSION:2.0
PRODID:-//Adirondack Folk School - ECPv6.15.12.2//NONSGML v1.0//EN
CALSCALE:GREGORIAN
METHOD:PUBLISH
X-WR-CALNAME:Adirondack Folk School
X-ORIGINAL-URL:https://adirondackfolkschool.org
X-WR-CALDESC:Events for Adirondack Folk School
REFRESH-INTERVAL;VALUE=DURATION:PT1H
X-Robots-Tag:noindex
X-PUBLISHED-TTL:PT1H
BEGIN:VTIMEZONE
TZID:America/New_York
BEGIN:DAYLIGHT
TZOFFSETFROM:-0500
TZOFFSETTO:-0400
TZNAME:EDT
DTSTART:20220313T070000
END:DAYLIGHT
BEGIN:STANDARD
TZOFFSETFROM:-0400
TZOFFSETTO:-0500
TZNAME:EST
DTSTART:20221106T060000
END:STANDARD
BEGIN:DAYLIGHT
TZOFFSETFROM:-0500
TZOFFSETTO:-0400
TZNAME:EDT
DTSTART:20230312T070000
END:DAYLIGHT
BEGIN:STANDARD
TZOFFSETFROM:-0400
TZOFFSETTO:-0500
TZNAME:EST
DTSTART:20231105T060000
END:STANDARD
BEGIN:DAYLIGHT
TZOFFSETFROM:-0500
TZOFFSETTO:-0400
TZNAME:EDT
DTSTART:20240310T070000
END:DAYLIGHT
BEGIN:STANDARD
TZOFFSETFROM:-0400
TZOFFSETTO:-0500
TZNAME:EST
DTSTART:20241103T060000
END:STANDARD
END:VTIMEZONE
BEGIN:VEVENT
DTSTART;TZID=America/New_York:20230810T090000
DTEND;TZID=America/New_York:20230810T170000
DTSTAMP:20260419T203518
CREATED:20221214T224436Z
LAST-MODIFIED:20221214T224436Z
UID:10001783-1691658000-1691686800@adirondackfolkschool.org
SUMMARY:Keum-Boo Gold on Silver Metal Clay
DESCRIPTION:Keum-boo is the ancient Korean technique of applying 24K or 23.5K gold foil on silver. In this class you will create silver metal clay pieces suitable for this process and then after firing them\, apply gold foil using this technique. I find the results amazingly beautiful\, especially with a Liver of Sulfur patina applied to heighten the contrast.  While this class is ideal for those with metal clay experience\, it is open to anyone with an interest in learning this technique.  Materials fee includes metal clay and 1/4 sheet of gold foil
URL:https://adirondackfolkschool.org/event/keum-boo-gold-on-silver-metal-clay/
CATEGORIES:Jewelry
ATTACH;FMTTYPE=image/jpeg:https://adirondackfolkschool.org/wp-content/uploads/2022/12/Keum-Boo-Jewelry_Nancy-Miller-scaled.jpg
END:VEVENT
BEGIN:VEVENT
DTSTART;TZID=America/New_York:20230811T090000
DTEND;TZID=America/New_York:20230811T170000
DTSTAMP:20260419T203518
CREATED:20221214T232708Z
LAST-MODIFIED:20221214T232708Z
UID:10001722-1691744400-1691773200@adirondackfolkschool.org
SUMMARY:Silver Metal Clay Exploration
DESCRIPTION:Explore the many ways that you can use silver in a metal clay formulation to create jewelry designs of your own.  The newest way of working with silver is metal clay which can be shaped like clay to produce uniquely textured surfaces\, resulting in durable beautiful silver jewelry.  Students will learn metal clay working techniques and make pendants\, earrings\, charms and rings.  Fresh leaves will also be used to create a silver piece of nature. The class will also cover techniques for setting and firing stones directly in metal clay.  Each student will leave with at least four finished pieces of jewelry.  No previous experience necessary.
URL:https://adirondackfolkschool.org/event/silver-metal-clay-exploration-5/
CATEGORIES:Jewelry
ATTACH;FMTTYPE=image/jpeg:https://adirondackfolkschool.org/wp-content/uploads/2022/01/SMC-Exploration-Miller-scaled.jpg
END:VEVENT
BEGIN:VEVENT
DTSTART;TZID=America/New_York:20230816T090000
DTEND;TZID=America/New_York:20230816T120000
DTSTAMP:20260419T203518
CREATED:20221214T224451Z
LAST-MODIFIED:20221214T224451Z
UID:10001788-1692176400-1692187200@adirondackfolkschool.org
SUMMARY:Beaded Wrap Bracelets
DESCRIPTION:Join us as we weave a lovely\, beaded bracelet. No experience is needed. Students will have fun creating their own unique custom wrap bracelet.
URL:https://adirondackfolkschool.org/event/beaded-wrap-bracelets-3/
LOCATION:Adirondack Folk School\, 51 Main St.\, Lake Luzerne\, NY\, 12846\, United States
CATEGORIES:Jewelry
ATTACH;FMTTYPE=image/jpeg:https://adirondackfolkschool.org/wp-content/uploads/2022/12/Wrap-Bracelet-New-Pic-scaled.jpg
END:VEVENT
BEGIN:VEVENT
DTSTART;TZID=America/New_York:20230816T130000
DTEND;TZID=America/New_York:20230816T160000
DTSTAMP:20260419T203518
CREATED:20221214T224520Z
LAST-MODIFIED:20221214T224520Z
UID:10001795-1692190800-1692201600@adirondackfolkschool.org
SUMMARY:Advanced Beaded Wrap Bracelets
DESCRIPTION:Join us as we weave a lovely\, beaded bracelet. After taking the basic class in the morning\, or for those with some beading experience\, students will weave a beaded bracelet with more delicate beads and more complicated patterns.
URL:https://adirondackfolkschool.org/event/advanced-beaded-wrap-bracelets/
LOCATION:Adirondack Folk School\, 51 Main St.\, Lake Luzerne\, NY\, 12846\, United States
CATEGORIES:Jewelry
ATTACH;FMTTYPE=image/jpeg:https://adirondackfolkschool.org/wp-content/uploads/2022/12/Advanced-Wrap-Bracelet-New-Pic.jpg
END:VEVENT
END:VCALENDAR