BEGIN:VCALENDAR
VERSION:2.0
PRODID:-//Adirondack Folk School - ECPv6.15.12.2//NONSGML v1.0//EN
CALSCALE:GREGORIAN
METHOD:PUBLISH
X-WR-CALNAME:Adirondack Folk School
X-ORIGINAL-URL:https://adirondackfolkschool.org
X-WR-CALDESC:Events for Adirondack Folk School
REFRESH-INTERVAL;VALUE=DURATION:PT1H
X-Robots-Tag:noindex
X-PUBLISHED-TTL:PT1H
BEGIN:VTIMEZONE
TZID:America/New_York
BEGIN:DAYLIGHT
TZOFFSETFROM:-0500
TZOFFSETTO:-0400
TZNAME:EDT
DTSTART:20230312T070000
END:DAYLIGHT
BEGIN:STANDARD
TZOFFSETFROM:-0400
TZOFFSETTO:-0500
TZNAME:EST
DTSTART:20231105T060000
END:STANDARD
BEGIN:DAYLIGHT
TZOFFSETFROM:-0500
TZOFFSETTO:-0400
TZNAME:EDT
DTSTART:20240310T070000
END:DAYLIGHT
BEGIN:STANDARD
TZOFFSETFROM:-0400
TZOFFSETTO:-0500
TZNAME:EST
DTSTART:20241103T060000
END:STANDARD
BEGIN:DAYLIGHT
TZOFFSETFROM:-0500
TZOFFSETTO:-0400
TZNAME:EDT
DTSTART:20250309T070000
END:DAYLIGHT
BEGIN:STANDARD
TZOFFSETFROM:-0400
TZOFFSETTO:-0500
TZNAME:EST
DTSTART:20251102T060000
END:STANDARD
END:VTIMEZONE
BEGIN:VEVENT
DTSTART;TZID=America/New_York:20240503T090000
DTEND;TZID=America/New_York:20240503T160000
DTSTAMP:20260425T094143
CREATED:20231221T224936Z
LAST-MODIFIED:20231221T224936Z
UID:10002341-1714726800-1714752000@adirondackfolkschool.org
SUMMARY:Medicinal Mushrooms: Use\, Preparation & Cultivation
DESCRIPTION:In this course\, local and common non-local medicinal mushrooms will be discussed and identified. Students will learn the medicinal properties of each mushroom\, how to make a double extraction tincture and how to grow oyster mushrooms at home. Students will leave with a tincture (in process that they will complete at home) and an oyster mushroom kit that will produce mushrooms after about 3 weeks.
URL:https://adirondackfolkschool.org/event/medicinal-mushrooms-use-preparation-cultivation-4/
LOCATION:Adirondack Folk School\, 51 Main St.\, Lake Luzerne\, NY\, 12846\, United States
CATEGORIES:Nature Studies & Outdoor Skills
ATTACH;FMTTYPE=image/jpeg:https://adirondackfolkschool.org/wp-content/uploads/2022/01/Medicinal-Mushrooms-Joyce-1-scaled.jpg
END:VEVENT
BEGIN:VEVENT
DTSTART;TZID=America/New_York:20240504T090000
DTEND;TZID=America/New_York:20240504T160000
DTSTAMP:20260425T094143
CREATED:20231221T225132Z
LAST-MODIFIED:20231221T225132Z
UID:10002342-1714813200-1714838400@adirondackfolkschool.org
SUMMARY:Medicinal Mushrooms: Use\, Preparation & Cultivation
DESCRIPTION:In this course\, local and common non-local medicinal mushrooms will be discussed and identified. Students will learn the medicinal properties of each mushroom\, how to make a double extraction tincture and how to grow oyster mushrooms at home. Students will leave with a tincture (in process that they will complete at home) and an oyster mushroom kit that will produce mushrooms after about 3 weeks.
URL:https://adirondackfolkschool.org/event/medicinal-mushrooms-use-preparation-cultivation-5/
LOCATION:Adirondack Folk School\, 51 Main St.\, Lake Luzerne\, NY\, 12846\, United States
CATEGORIES:Nature Studies & Outdoor Skills
ATTACH;FMTTYPE=image/jpeg:https://adirondackfolkschool.org/wp-content/uploads/2022/01/Medicinal-Mushrooms-Joyce-1-scaled.jpg
END:VEVENT
BEGIN:VEVENT
DTSTART;TZID=America/New_York:20240511T090000
DTEND;TZID=America/New_York:20240511T130000
DTSTAMP:20260425T094143
CREATED:20231207T194532Z
LAST-MODIFIED:20231207T194532Z
UID:10002182-1715418000-1715432400@adirondackfolkschool.org
SUMMARY:Fly Fishing - Casting Basics
DESCRIPTION:The goal of this class is to help you get started in fly fishing or better your casting. We will go over different types of fly rods and when to use them. The proper way of lining a fly rod will be taught. You will be doing the over hand cast\, roll cast and side arm cast\, for a few examples. You will need to bring a hat and a pair of glasses or sunglasses. If you have a fly rod please bring it\, otherwise one will be provided. To end\, students will get a chance to try different fly rods.
URL:https://adirondackfolkschool.org/event/fly-fishing-casting-basics-7/
LOCATION:Adirondack Folk School\, 51 Main St.\, Lake Luzerne\, NY\, 12846\, United States
CATEGORIES:Nature Studies & Outdoor Skills
ATTACH;FMTTYPE=image/jpeg:https://adirondackfolkschool.org/wp-content/uploads/2022/01/Fly-Fishing-Sinicki.jpeg
END:VEVENT
BEGIN:VEVENT
DTSTART;TZID=America/New_York:20240518T090000
DTEND;TZID=America/New_York:20240518T150000
DTSTAMP:20260425T094143
CREATED:20231207T194633Z
LAST-MODIFIED:20231207T194633Z
UID:10002187-1716022800-1716044400@adirondackfolkschool.org
SUMMARY:Square Foot Gardening
DESCRIPTION:Learn all about Square Foot gardening from a local gardening guru. Square Foot gardening is the practice of planning small but intensively planted gardens. It combines concepts from other organic gardening methods\, including composting\, closely planted raised beds and attention to a small\, clearly defined area. It is a high-yield\, space-saving and time-saving gardening technique. Come learn from a pro\, watch nature do her work\, and then come back during the summer to tend your garden and harvest your efforts. Though the class is geared to vegetable gardening\, the techniques discussed are applicable to other types of gardening as well. A terrific class for beginning gardeners or experts alike – and a great way to get out in the sun and enjoy our Adirondacks!
URL:https://adirondackfolkschool.org/event/square-foot-gardening-3/
LOCATION:Adirondack Folk School\, 51 Main St.\, Lake Luzerne\, NY\, 12846\, United States
CATEGORIES:Nature Studies & Outdoor Skills
ATTACH;FMTTYPE=image/jpeg:https://adirondackfolkschool.org/wp-content/uploads/2022/01/Square-Foot-Gardening-Goldberg-scaled.jpg
END:VEVENT
END:VCALENDAR