BEGIN:VCALENDAR
VERSION:2.0
PRODID:-//Adirondack Folk School - ECPv6.15.12.2//NONSGML v1.0//EN
CALSCALE:GREGORIAN
METHOD:PUBLISH
X-ORIGINAL-URL:https://adirondackfolkschool.org
X-WR-CALDESC:Events for Adirondack Folk School
REFRESH-INTERVAL;VALUE=DURATION:PT1H
X-Robots-Tag:noindex
X-PUBLISHED-TTL:PT1H
BEGIN:VTIMEZONE
TZID:America/New_York
BEGIN:DAYLIGHT
TZOFFSETFROM:-0500
TZOFFSETTO:-0400
TZNAME:EDT
DTSTART:20240310T070000
END:DAYLIGHT
BEGIN:STANDARD
TZOFFSETFROM:-0400
TZOFFSETTO:-0500
TZNAME:EST
DTSTART:20241103T060000
END:STANDARD
BEGIN:DAYLIGHT
TZOFFSETFROM:-0500
TZOFFSETTO:-0400
TZNAME:EDT
DTSTART:20250309T070000
END:DAYLIGHT
BEGIN:STANDARD
TZOFFSETFROM:-0400
TZOFFSETTO:-0500
TZNAME:EST
DTSTART:20251102T060000
END:STANDARD
BEGIN:DAYLIGHT
TZOFFSETFROM:-0500
TZOFFSETTO:-0400
TZNAME:EDT
DTSTART:20260308T070000
END:DAYLIGHT
BEGIN:STANDARD
TZOFFSETFROM:-0400
TZOFFSETTO:-0500
TZNAME:EST
DTSTART:20261101T060000
END:STANDARD
END:VTIMEZONE
BEGIN:VEVENT
DTSTART;TZID=America/New_York:20250412T090000
DTEND;TZID=America/New_York:20250412T130000
DTSTAMP:20260424T170817
CREATED:20241211T170006Z
LAST-MODIFIED:20241211T170006Z
UID:10002631-1744448400-1744462800@adirondackfolkschool.org
SUMMARY:Fly Fishing - Casting Basics
DESCRIPTION:The goal of this class is to help you get started in fly fishing or better your casting. We will go over different types of fly rods and when to use them. The proper way of lining a fly rod will be taught. You will be doing the over hand cast\, roll cast and side arm cast\, for a few examples. You will need to bring a hat and a pair of glasses or sunglasses. If you have a fly rod please bring it\, otherwise one will be provided. To end\, students will get a chance to try different fly rods.
URL:https://adirondackfolkschool.org/event/fly-fishing-casting-basics-8/
LOCATION:Adirondack Folk School\, 51 Main St.\, Lake Luzerne\, NY\, 12846\, United States
CATEGORIES:Nature Studies & Outdoor Skills
ATTACH;FMTTYPE=image/jpeg:https://adirondackfolkschool.org/wp-content/uploads/2022/01/Fly-Fishing-Sinicki.jpeg
END:VEVENT
BEGIN:VEVENT
DTSTART;TZID=America/New_York:20250412T090000
DTEND;TZID=America/New_York:20250412T160000
DTSTAMP:20260424T170817
CREATED:20241211T180055Z
LAST-MODIFIED:20241211T180055Z
UID:10002934-1744448400-1744473600@adirondackfolkschool.org
SUMMARY:Map & Compass Fundamentals
DESCRIPTION:This course is a great place to learn the basics of field navigation. This class will take place indoors with a few outdoor activities; participants should come dressed for the weather. We will discuss map interpretation\, compass use\, declination\, how to follow bearings to confidently traverse a landscape. No previous experience is required.
URL:https://adirondackfolkschool.org/event/map-compass-fundamentals/
LOCATION:Adirondack Folk School\, 51 Main St.\, Lake Luzerne\, NY\, 12846\, United States
CATEGORIES:Nature Studies & Outdoor Skills
ATTACH;FMTTYPE=image/jpeg:https://adirondackfolkschool.org/wp-content/uploads/2024/11/Map-and-Compass-Kim-Fisher-scaled.jpeg
END:VEVENT
END:VCALENDAR