BEGIN:VCALENDAR
VERSION:2.0
PRODID:-//Adirondack Folk School - ECPv6.15.12.2//NONSGML v1.0//EN
CALSCALE:GREGORIAN
METHOD:PUBLISH
X-WR-CALNAME:Adirondack Folk School
X-ORIGINAL-URL:https://adirondackfolkschool.org
X-WR-CALDESC:Events for Adirondack Folk School
REFRESH-INTERVAL;VALUE=DURATION:PT1H
X-Robots-Tag:noindex
X-PUBLISHED-TTL:PT1H
BEGIN:VTIMEZONE
TZID:America/New_York
BEGIN:DAYLIGHT
TZOFFSETFROM:-0500
TZOFFSETTO:-0400
TZNAME:EDT
DTSTART:20250309T070000
END:DAYLIGHT
BEGIN:STANDARD
TZOFFSETFROM:-0400
TZOFFSETTO:-0500
TZNAME:EST
DTSTART:20251102T060000
END:STANDARD
BEGIN:DAYLIGHT
TZOFFSETFROM:-0500
TZOFFSETTO:-0400
TZNAME:EDT
DTSTART:20260308T070000
END:DAYLIGHT
BEGIN:STANDARD
TZOFFSETFROM:-0400
TZOFFSETTO:-0500
TZNAME:EST
DTSTART:20261101T060000
END:STANDARD
BEGIN:DAYLIGHT
TZOFFSETFROM:-0500
TZOFFSETTO:-0400
TZNAME:EDT
DTSTART:20270314T070000
END:DAYLIGHT
BEGIN:STANDARD
TZOFFSETFROM:-0400
TZOFFSETTO:-0500
TZNAME:EST
DTSTART:20271107T060000
END:STANDARD
END:VTIMEZONE
BEGIN:VEVENT
DTSTART;TZID=America/New_York:20260124T090000
DTEND;TZID=America/New_York:20260124T160000
DTSTAMP:20260422T043920
CREATED:20251204T174627Z
LAST-MODIFIED:20251204T174627Z
UID:10003419-1769245200-1769270400@adirondackfolkschool.org
SUMMARY:Beekeeping Boot Camp
DESCRIPTION:This basic Beekeeping Boot Camp will cover an introduction to beekeeping\, honeybee health and equipment. You will be given information and handouts to assist you if you decide to become a beekeeper. The last section of this bootcamp will cover how to assemble the necessary equipment to get started if you decide to do so. We will discuss how and where to obtain honeybees and equipment. Students may even walk away with a door prize!
URL:https://adirondackfolkschool.org/event/beekeeping-boot-camp/
LOCATION:Adirondack Folk School\, 51 Main St.\, Lake Luzerne\, NY\, 12846\, United States
CATEGORIES:Nature Studies & Outdoor Skills
ATTACH;FMTTYPE=image/jpeg:https://adirondackfolkschool.org/wp-content/uploads/2025/11/Beekeeping-Bootcamp-Imbimbo-rotated.jpg
END:VEVENT
END:VCALENDAR