BEGIN:VCALENDAR
VERSION:2.0
PRODID:-//Adirondack Folk School - ECPv6.15.12.2//NONSGML v1.0//EN
CALSCALE:GREGORIAN
METHOD:PUBLISH
X-WR-CALNAME:Adirondack Folk School
X-ORIGINAL-URL:https://adirondackfolkschool.org
X-WR-CALDESC:Events for Adirondack Folk School
REFRESH-INTERVAL;VALUE=DURATION:PT1H
X-Robots-Tag:noindex
X-PUBLISHED-TTL:PT1H
BEGIN:VTIMEZONE
TZID:America/New_York
BEGIN:DAYLIGHT
TZOFFSETFROM:-0500
TZOFFSETTO:-0400
TZNAME:EDT
DTSTART:20250309T070000
END:DAYLIGHT
BEGIN:STANDARD
TZOFFSETFROM:-0400
TZOFFSETTO:-0500
TZNAME:EST
DTSTART:20251102T060000
END:STANDARD
BEGIN:DAYLIGHT
TZOFFSETFROM:-0500
TZOFFSETTO:-0400
TZNAME:EDT
DTSTART:20260308T070000
END:DAYLIGHT
BEGIN:STANDARD
TZOFFSETFROM:-0400
TZOFFSETTO:-0500
TZNAME:EST
DTSTART:20261101T060000
END:STANDARD
BEGIN:DAYLIGHT
TZOFFSETFROM:-0500
TZOFFSETTO:-0400
TZNAME:EDT
DTSTART:20270314T070000
END:DAYLIGHT
BEGIN:STANDARD
TZOFFSETFROM:-0400
TZOFFSETTO:-0500
TZNAME:EST
DTSTART:20271107T060000
END:STANDARD
END:VTIMEZONE
BEGIN:VEVENT
DTSTART;TZID=America/New_York:20260509T090000
DTEND;TZID=America/New_York:20260509T130000
DTSTAMP:20260422T014745
CREATED:20251204T164226Z
LAST-MODIFIED:20251204T164226Z
UID:10003108-1778317200-1778331600@adirondackfolkschool.org
SUMMARY:Fly Fishing - Casting Basics
DESCRIPTION:The goal of this class is to help you get started in fly fishing or better your casting. We will go over different types of fly rods and when to use them. The proper way of lining a fly rod will be taught. You will be doing the over hand cast\, roll cast and side arm cast\, for a few examples. You will need to bring a hat and a pair of glasses or sunglasses. If you have a fly rod please bring it\, otherwise one will be provided. To end\, students will get a chance to try different fly rods.
URL:https://adirondackfolkschool.org/event/fly-fishing-casting-basics-11/
LOCATION:Adirondack Folk School\, 51 Main St.\, Lake Luzerne\, NY\, 12846\, United States
CATEGORIES:Nature Studies & Outdoor Skills
ATTACH;FMTTYPE=image/jpeg:https://adirondackfolkschool.org/wp-content/uploads/2022/01/Fly-Fishing-Sinicki.jpeg
END:VEVENT
BEGIN:VEVENT
DTSTART;TZID=America/New_York:20260516T090000
DTEND;TZID=America/New_York:20260516T150000
DTSTAMP:20260422T014745
CREATED:20251204T164227Z
LAST-MODIFIED:20251204T164227Z
UID:10003111-1778922000-1778943600@adirondackfolkschool.org
SUMMARY:Square Foot Gardening
DESCRIPTION:Learn all about Square Foot gardening from a local gardening guru. Square Foot gardening is the practice of planning small but intensively planted gardens. It combines concepts from other organic gardening methods\, including composting\, closely planted raised beds and attention to a small\, clearly defined area. It is a high-yield\, space-saving and time-saving gardening technique. Come learn from a pro\, watch nature do her work\, and then come back during the summer to tend your garden and harvest your efforts. Though the class is geared to vegetable gardening\, the techniques discussed are applicable to other types of gardening as well. A terrific class for beginning gardeners or experts alike – and a great way to get out in the sun and enjoy our Adirondacks!
URL:https://adirondackfolkschool.org/event/square-foot-gardening-5/
LOCATION:Adirondack Folk School\, 51 Main St.\, Lake Luzerne\, NY\, 12846\, United States
CATEGORIES:Nature Studies & Outdoor Skills
ATTACH;FMTTYPE=image/jpeg:https://adirondackfolkschool.org/wp-content/uploads/2022/01/Square-Foot-Gardening-Goldberg-scaled.jpg
END:VEVENT
BEGIN:VEVENT
DTSTART;TZID=America/New_York:20260517T130000
DTEND;TZID=America/New_York:20260517T170000
DTSTAMP:20260422T014745
CREATED:20251204T174628Z
LAST-MODIFIED:20251204T174628Z
UID:10003422-1779022800-1779037200@adirondackfolkschool.org
SUMMARY:Fire Building Basics
DESCRIPTION:Do you ever find yourself on a brisk fall hike or hunt where you could suddenly be wet from rain or fall into a creek? How about caught on a rainy day while camping? Starting a good fire isn’t a skill we practice daily like people did traditionally\, but it can be a lifesaving skill. Come learn the basics to make your fire starting practice perfect. In this workshop we will review different fire setups and safety measures focusing on igniting your own fire with a ferrocerium rod during our hands on portion. Participants will take home their own kits to practice with.
URL:https://adirondackfolkschool.org/event/fire-building-basics-2/
LOCATION:Adirondack Folk School\, 51 Main St.\, Lake Luzerne\, NY\, 12846\, United States
CATEGORIES:Nature Studies & Outdoor Skills
ATTACH;FMTTYPE=image/jpeg:https://adirondackfolkschool.org/wp-content/uploads/2025/11/Lemoyne-Star-Gallant.jpg
END:VEVENT
END:VCALENDAR