BEGIN:VCALENDAR
VERSION:2.0
PRODID:-//Adirondack Folk School - ECPv6.15.12.2//NONSGML v1.0//EN
CALSCALE:GREGORIAN
METHOD:PUBLISH
X-WR-CALNAME:Adirondack Folk School
X-ORIGINAL-URL:https://adirondackfolkschool.org
X-WR-CALDESC:Events for Adirondack Folk School
REFRESH-INTERVAL;VALUE=DURATION:PT1H
X-Robots-Tag:noindex
X-PUBLISHED-TTL:PT1H
BEGIN:VTIMEZONE
TZID:America/New_York
BEGIN:DAYLIGHT
TZOFFSETFROM:-0500
TZOFFSETTO:-0400
TZNAME:EDT
DTSTART:20210314T070000
END:DAYLIGHT
BEGIN:STANDARD
TZOFFSETFROM:-0400
TZOFFSETTO:-0500
TZNAME:EST
DTSTART:20211107T060000
END:STANDARD
BEGIN:DAYLIGHT
TZOFFSETFROM:-0500
TZOFFSETTO:-0400
TZNAME:EDT
DTSTART:20220313T070000
END:DAYLIGHT
BEGIN:STANDARD
TZOFFSETFROM:-0400
TZOFFSETTO:-0500
TZNAME:EST
DTSTART:20221106T060000
END:STANDARD
BEGIN:DAYLIGHT
TZOFFSETFROM:-0500
TZOFFSETTO:-0400
TZNAME:EDT
DTSTART:20230312T070000
END:DAYLIGHT
BEGIN:STANDARD
TZOFFSETFROM:-0400
TZOFFSETTO:-0500
TZNAME:EST
DTSTART:20231105T060000
END:STANDARD
END:VTIMEZONE
BEGIN:VEVENT
DTSTART;TZID=America/New_York:20221008T100000
DTEND;TZID=America/New_York:20221008T180000
DTSTAMP:20260425T142319
CREATED:20220217T234531Z
LAST-MODIFIED:20220217T234531Z
UID:10001343-1665223200-1665252000@adirondackfolkschool.org
SUMMARY:Perfect Pictures Every Time
DESCRIPTION:Understanding photography basics is the key to taking control of your camera and knowing you got the shot when you were taking it.  If you would like to take your skill level from shooting in Auto to having full control over your camera\, this intensive class is for you! A step-by-step PowerPoint presentation helps teach the basic principles of photography including: camera options and set-up\, peripheral equipment\, image exposure and histograms\, and will touch on shooting for HDR and working with motion\, depth of field\, and composition.  The class is paced to allow time for questions and interaction\, with about half of the day in the classroom experimenting with the cameras\, and the other half spent in the field\, practicing camera techniques and shooting options.  A comprehensive handout will include all the major points covered in the presentation. While the class instruction is mostly landscape based\, these techniques and principles can be applied to all photographic situations.
URL:https://adirondackfolkschool.org/event/perfect-pictures-every-time-3/
LOCATION:Adirondack Folk School\, 51 Main St.\, Lake Luzerne\, NY\, 12846\, United States
CATEGORIES:Photography
ATTACH;FMTTYPE=image/jpeg:https://adirondackfolkschool.org/wp-content/uploads/2022/01/Perfect-Pictures-Every-Time-Heilman.jpeg
END:VEVENT
BEGIN:VEVENT
DTSTART;TZID=America/New_York:20221009T060000
DTEND;TZID=America/New_York:20221009T140000
DTSTAMP:20260425T142319
CREATED:20220217T234545Z
LAST-MODIFIED:20220217T234545Z
UID:10001346-1665295200-1665324000@adirondackfolkschool.org
SUMMARY:Fall Lakes and Waterways at Dawn Photo Tour
DESCRIPTION:Here’s your chance to grab gorgeous sunrise shots. In this one-day nature photography tour you will travel to several destinations that are all within a reasonable distance of each other. You’ll spend 90% of the day shooting pictures at beautiful nearby Adirondack lakes and waterways. This nature photography tour is designed for those who are already comfortable with camera basics such as the relationship between aperture\, shutter and ISO settings. Start this eight-hour day with a very brief discussion\, then take the rest of the day to play with photo techniques in the field at nearby photo locations. A great class for those who wish to receive mentoring while in the field.
URL:https://adirondackfolkschool.org/event/fall-lakes-and-waterways-at-dawn-photo-tour/
LOCATION:Adirondack Folk School\, 51 Main St.\, Lake Luzerne\, NY\, 12846\, United States
CATEGORIES:Photography
ATTACH;FMTTYPE=image/jpeg:https://adirondackfolkschool.org/wp-content/uploads/2022/01/Fall-Lakes-Photography-Heilman.jpg
END:VEVENT
BEGIN:VEVENT
DTSTART;TZID=America/New_York:20221022T090000
DTEND;TZID=America/New_York:20221022T120000
DTSTAMP:20260425T142319
CREATED:20220217T235106Z
LAST-MODIFIED:20220217T235106Z
UID:10001665-1666429200-1666440000@adirondackfolkschool.org
SUMMARY:Intro to Nature & Wildlife Photography
DESCRIPTION:This introductory class is geared toward beginner to intermediate photographers who wish to build a solid understanding of the foundations needed for improvement and success. Dave will share an intro slideshow of his work and a discussion on ethics\, safety\, subject knowledge and increasing your success rate. There will be a handout that covers discussion points of basic camera use\, lens selection\, composition and more. Discussion will also cover local shooting locations according to participants’ interests along with questions from participants.
URL:https://adirondackfolkschool.org/event/intro-to-nature-wildlife-photography-3/
LOCATION:Adirondack Folk School\, 51 Main St.\, Lake Luzerne\, NY\, 12846\, United States
CATEGORIES:Photography
ATTACH;FMTTYPE=image/jpeg:https://adirondackfolkschool.org/wp-content/uploads/2022/01/Intro-to-Nature-Photography-Oxford.jpg
END:VEVENT
BEGIN:VEVENT
DTSTART;TZID=America/New_York:20221023T090000
DTEND;TZID=America/New_York:20221023T170000
DTSTAMP:20260425T142319
CREATED:20220202T170557Z
LAST-MODIFIED:20220202T170557Z
UID:10001391-1666515600-1666544400@adirondackfolkschool.org
SUMMARY:Nature & Wildlife Photography: A Day of Learning & Shooting
DESCRIPTION:This class is geared towards beginner to intermediate photographers who want to learn solid fundamentals and put them into practice with instruction. Dave will share an intro slideshow of his work and a discussion on ethics\, safety\, subject knowledge and increasing success rate. There will be a handout that covers discussion points of basic camera use\, lens selection\, composition and more. This class will include shooting in the field at a location picked dependent on the time of year. Students should keep in mind that nothing in nature in guaranteed to show up\, but Dave will put you in the right place at the right time for the best chances of success.
URL:https://adirondackfolkschool.org/event/nature-wildlife-photography-a-day-of-learning-shooting-3/
LOCATION:Adirondack Folk School\, 51 Main St.\, Lake Luzerne\, NY\, 12846\, United States
CATEGORIES:Photography
ATTACH;FMTTYPE=image/jpeg:https://adirondackfolkschool.org/wp-content/uploads/2022/01/Nature-Photography-Learning-_-Shooting-Oxford.jpeg
END:VEVENT
BEGIN:VEVENT
DTSTART;TZID=America/New_York:20221029T090000
DTEND;TZID=America/New_York:20221029T170000
DTSTAMP:20260425T142319
CREATED:20220202T170612Z
LAST-MODIFIED:20220202T170612Z
UID:10001403-1667034000-1667062800@adirondackfolkschool.org
SUMMARY:Natural Details: Photographing Nature in Motion
DESCRIPTION:This class is geared towards beginner to intermediate photographers who want to learn solid fundamentals and put them into practice with instruction\, with an emphasis on photographing nature closeup\, waterfalls\, grasses\, plants etc. This should allow almost anyone with a digital camera to create artistic shots without relying on waiting for animals or birds.  Participants should have access to a tripod.  Dave will share an intro slideshow of his work and a discussion on ethics\, safety\, subject knowledge and increasing success rate. There will be a handout that covers discussion points of basic camera use\, lens selection\, composition and more. This class will include shooting in the field at a location picked dependent on the time of year.
URL:https://adirondackfolkschool.org/event/natural-details-photographing-nature-in-motion-3/
LOCATION:Adirondack Folk School\, 51 Main St.\, Lake Luzerne\, NY\, 12846\, United States
CATEGORIES:Photography
ATTACH;FMTTYPE=image/jpeg:https://adirondackfolkschool.org/wp-content/uploads/2022/01/Natural-Details-Photography-Oxford.jpg
END:VEVENT
END:VCALENDAR