BEGIN:VCALENDAR
VERSION:2.0
PRODID:-//Adirondack Folk School - ECPv6.15.12.2//NONSGML v1.0//EN
CALSCALE:GREGORIAN
METHOD:PUBLISH
X-ORIGINAL-URL:https://adirondackfolkschool.org
X-WR-CALDESC:Events for Adirondack Folk School
REFRESH-INTERVAL;VALUE=DURATION:PT1H
X-Robots-Tag:noindex
X-PUBLISHED-TTL:PT1H
BEGIN:VTIMEZONE
TZID:America/New_York
BEGIN:DAYLIGHT
TZOFFSETFROM:-0500
TZOFFSETTO:-0400
TZNAME:EDT
DTSTART:20210314T070000
END:DAYLIGHT
BEGIN:STANDARD
TZOFFSETFROM:-0400
TZOFFSETTO:-0500
TZNAME:EST
DTSTART:20211107T060000
END:STANDARD
BEGIN:DAYLIGHT
TZOFFSETFROM:-0500
TZOFFSETTO:-0400
TZNAME:EDT
DTSTART:20220313T070000
END:DAYLIGHT
BEGIN:STANDARD
TZOFFSETFROM:-0400
TZOFFSETTO:-0500
TZNAME:EST
DTSTART:20221106T060000
END:STANDARD
BEGIN:DAYLIGHT
TZOFFSETFROM:-0500
TZOFFSETTO:-0400
TZNAME:EDT
DTSTART:20230312T070000
END:DAYLIGHT
BEGIN:STANDARD
TZOFFSETFROM:-0400
TZOFFSETTO:-0500
TZNAME:EST
DTSTART:20231105T060000
END:STANDARD
END:VTIMEZONE
BEGIN:VEVENT
DTSTART;TZID=America/New_York:20221229T090000
DTEND;TZID=America/New_York:20221229T120000
DTSTAMP:20260425T113720
CREATED:20220217T235053Z
LAST-MODIFIED:20220217T235053Z
UID:10001411-1672304400-1672315200@adirondackfolkschool.org
SUMMARY:Intro to Nature & Wildlife Photography
DESCRIPTION:This introductory class is geared toward beginner to intermediate photographers who wish to build a solid understanding of the foundations needed for improvement and success. Dave will share an intro slideshow of his work and a discussion on ethics\, safety\, subject knowledge and increasing your success rate. There will be a handout that covers discussion points of basic camera use\, lens selection\, composition and more. Discussion will also cover local shooting locations according to participants’ interests along with questions from participants.
URL:https://adirondackfolkschool.org/event/intro-to-nature-wildlife-photography/
LOCATION:Adirondack Folk School\, 51 Main St.\, Lake Luzerne\, NY\, 12846\, United States
CATEGORIES:Photography
ATTACH;FMTTYPE=image/jpeg:https://adirondackfolkschool.org/wp-content/uploads/2022/01/Winter-Photography-Tour-Heilman.jpg
END:VEVENT
END:VCALENDAR