BEGIN:VCALENDAR
VERSION:2.0
PRODID:-//Adirondack Folk School - ECPv6.15.12.2//NONSGML v1.0//EN
CALSCALE:GREGORIAN
METHOD:PUBLISH
X-ORIGINAL-URL:https://adirondackfolkschool.org
X-WR-CALDESC:Events for Adirondack Folk School
REFRESH-INTERVAL;VALUE=DURATION:PT1H
X-Robots-Tag:noindex
X-PUBLISHED-TTL:PT1H
BEGIN:VTIMEZONE
TZID:America/New_York
BEGIN:DAYLIGHT
TZOFFSETFROM:-0500
TZOFFSETTO:-0400
TZNAME:EDT
DTSTART:20220313T070000
END:DAYLIGHT
BEGIN:STANDARD
TZOFFSETFROM:-0400
TZOFFSETTO:-0500
TZNAME:EST
DTSTART:20221106T060000
END:STANDARD
BEGIN:DAYLIGHT
TZOFFSETFROM:-0500
TZOFFSETTO:-0400
TZNAME:EDT
DTSTART:20230312T070000
END:DAYLIGHT
BEGIN:STANDARD
TZOFFSETFROM:-0400
TZOFFSETTO:-0500
TZNAME:EST
DTSTART:20231105T060000
END:STANDARD
BEGIN:DAYLIGHT
TZOFFSETFROM:-0500
TZOFFSETTO:-0400
TZNAME:EDT
DTSTART:20240310T070000
END:DAYLIGHT
BEGIN:STANDARD
TZOFFSETFROM:-0400
TZOFFSETTO:-0500
TZNAME:EST
DTSTART:20241103T060000
END:STANDARD
END:VTIMEZONE
BEGIN:VEVENT
DTSTART;TZID=America/New_York:20230729T100000
DTEND;TZID=America/New_York:20230729T180000
DTSTAMP:20260423T014455
CREATED:20221214T231851Z
LAST-MODIFIED:20221214T231851Z
UID:10001964-1690624800-1690653600@adirondackfolkschool.org
SUMMARY:Perfect Pictures Every Time
DESCRIPTION:Understanding photography basics is the key to taking control of your camera and knowing you got the shot when you were taking it.  If you would like to take your skill level from shooting in Auto to having full control over your camera\, this intensive class is for you! A step-by-step PowerPoint presentation helps teach the basic principles of photography including: camera options and set-up\, peripheral equipment\, image exposure and histograms\, and will touch on shooting for HDR and working with motion\, depth of field\, and composition.  The class is paced to allow time for questions and interaction\, with about half of the day in the classroom experimenting with the cameras\, and the other half spent in the field\, practicing camera techniques and shooting options.  A comprehensive handout will include all the major points covered in the presentation. While the class instruction is mostly landscape based\, these techniques and principles can be applied to all photographic situations.
URL:https://adirondackfolkschool.org/event/perfect-pictures-every-time-6/
LOCATION:Adirondack Folk School\, 51 Main St.\, Lake Luzerne\, NY\, 12846\, United States
CATEGORIES:Photography
ATTACH;FMTTYPE=image/jpeg:https://adirondackfolkschool.org/wp-content/uploads/2022/01/Perfect-Pictures-Every-Time-Heilman.jpeg
END:VEVENT
END:VCALENDAR