BEGIN:VCALENDAR
VERSION:2.0
PRODID:-//Adirondack Folk School - ECPv6.15.12.2//NONSGML v1.0//EN
CALSCALE:GREGORIAN
METHOD:PUBLISH
X-WR-CALNAME:Adirondack Folk School
X-ORIGINAL-URL:https://adirondackfolkschool.org
X-WR-CALDESC:Events for Adirondack Folk School
REFRESH-INTERVAL;VALUE=DURATION:PT1H
X-Robots-Tag:noindex
X-PUBLISHED-TTL:PT1H
BEGIN:VTIMEZONE
TZID:America/New_York
BEGIN:DAYLIGHT
TZOFFSETFROM:-0500
TZOFFSETTO:-0400
TZNAME:EDT
DTSTART:20220313T070000
END:DAYLIGHT
BEGIN:STANDARD
TZOFFSETFROM:-0400
TZOFFSETTO:-0500
TZNAME:EST
DTSTART:20221106T060000
END:STANDARD
BEGIN:DAYLIGHT
TZOFFSETFROM:-0500
TZOFFSETTO:-0400
TZNAME:EDT
DTSTART:20230312T070000
END:DAYLIGHT
BEGIN:STANDARD
TZOFFSETFROM:-0400
TZOFFSETTO:-0500
TZNAME:EST
DTSTART:20231105T060000
END:STANDARD
BEGIN:DAYLIGHT
TZOFFSETFROM:-0500
TZOFFSETTO:-0400
TZNAME:EDT
DTSTART:20240310T070000
END:DAYLIGHT
BEGIN:STANDARD
TZOFFSETFROM:-0400
TZOFFSETTO:-0500
TZNAME:EST
DTSTART:20241103T060000
END:STANDARD
END:VTIMEZONE
BEGIN:VEVENT
DTSTART;TZID=America/New_York:20231007T100000
DTEND;TZID=America/New_York:20231007T180000
DTSTAMP:20260422T213200
CREATED:20221214T231852Z
LAST-MODIFIED:20221214T231852Z
UID:10001965-1696672800-1696701600@adirondackfolkschool.org
SUMMARY:Perfect Pictures Every Time
DESCRIPTION:Understanding photography basics is the key to taking control of your camera and knowing you got the shot when you were taking it.  If you would like to take your skill level from shooting in Auto to having full control over your camera\, this intensive class is for you! A step-by-step PowerPoint presentation helps teach the basic principles of photography including: camera options and set-up\, peripheral equipment\, image exposure and histograms\, and will touch on shooting for HDR and working with motion\, depth of field\, and composition.  The class is paced to allow time for questions and interaction\, with about half of the day in the classroom experimenting with the cameras\, and the other half spent in the field\, practicing camera techniques and shooting options.  A comprehensive handout will include all the major points covered in the presentation. While the class instruction is mostly landscape based\, these techniques and principles can be applied to all photographic situations.
URL:https://adirondackfolkschool.org/event/perfect-pictures-every-time-7/
LOCATION:Adirondack Folk School\, 51 Main St.\, Lake Luzerne\, NY\, 12846\, United States
CATEGORIES:Photography
ATTACH;FMTTYPE=image/jpeg:https://adirondackfolkschool.org/wp-content/uploads/2022/01/Perfect-Pictures-Every-Time-Heilman.jpeg
END:VEVENT
BEGIN:VEVENT
DTSTART;TZID=America/New_York:20231021T130000
DTEND;TZID=America/New_York:20231021T170000
DTSTAMP:20260422T213200
CREATED:20221214T224721Z
LAST-MODIFIED:20221214T224721Z
UID:10001812-1697893200-1697907600@adirondackfolkschool.org
SUMMARY:Solar Photography
DESCRIPTION:On the afternoon of April 8\, 2024\, about 95% of the Adirondack Park will be shadowed in the totality of a solar eclipse as the path of totality darkens a swath of the Earth from the Pacific Ocean to the Atlantic\, from Mexico to Newfoundland. Having experienced and photographed the August 21\, 2017 total eclipse in Cades Cove in the Great Smoky Mountains National Park\, I thought I’d share tips and techniques that could help others photograph the 2024 eclipse. Standing in the dusky darkness of totality\, and looking up to the dark side of the moon\, surrounded by the eerie glow of the sun’s corona is a lifetime experience you will not want to miss. Having the right equipment and practicing photo techniques ahead of time will allow you to capture stunning eclipse photos\, and also be relaxed enough to enjoy this unique experience. The suggested equipment and information will help you photograph the sun at any time\, capturing sunspots and other solar features with additional equipment\, as well as offer settings for photographing the sun during the eclipse. This is the last total solar eclipse to traverse the continental United States until August 12\, 2045.
URL:https://adirondackfolkschool.org/event/solar-photography-2/
LOCATION:Adirondack Folk School\, 51 Main St.\, Lake Luzerne\, NY\, 12846\, United States
CATEGORIES:Photography
ATTACH;FMTTYPE=image/jpeg:https://adirondackfolkschool.org/wp-content/uploads/2022/12/solar-photography.jpg
END:VEVENT
END:VCALENDAR