BEGIN:VCALENDAR
VERSION:2.0
PRODID:-//Adirondack Folk School - ECPv6.15.12.2//NONSGML v1.0//EN
CALSCALE:GREGORIAN
METHOD:PUBLISH
X-WR-CALNAME:Adirondack Folk School
X-ORIGINAL-URL:https://adirondackfolkschool.org
X-WR-CALDESC:Events for Adirondack Folk School
REFRESH-INTERVAL;VALUE=DURATION:PT1H
X-Robots-Tag:noindex
X-PUBLISHED-TTL:PT1H
BEGIN:VTIMEZONE
TZID:America/New_York
BEGIN:DAYLIGHT
TZOFFSETFROM:-0500
TZOFFSETTO:-0400
TZNAME:EDT
DTSTART:20230312T070000
END:DAYLIGHT
BEGIN:STANDARD
TZOFFSETFROM:-0400
TZOFFSETTO:-0500
TZNAME:EST
DTSTART:20231105T060000
END:STANDARD
BEGIN:DAYLIGHT
TZOFFSETFROM:-0500
TZOFFSETTO:-0400
TZNAME:EDT
DTSTART:20240310T070000
END:DAYLIGHT
BEGIN:STANDARD
TZOFFSETFROM:-0400
TZOFFSETTO:-0500
TZNAME:EST
DTSTART:20241103T060000
END:STANDARD
BEGIN:DAYLIGHT
TZOFFSETFROM:-0500
TZOFFSETTO:-0400
TZNAME:EDT
DTSTART:20250309T070000
END:DAYLIGHT
BEGIN:STANDARD
TZOFFSETFROM:-0400
TZOFFSETTO:-0500
TZNAME:EST
DTSTART:20251102T060000
END:STANDARD
END:VTIMEZONE
BEGIN:VEVENT
DTSTART;TZID=America/New_York:20241013T060000
DTEND;TZID=America/New_York:20241013T140000
DTSTAMP:20260420T073111
CREATED:20231207T200038Z
LAST-MODIFIED:20240505T174303Z
UID:10002285-1728799200-1728828000@adirondackfolkschool.org
SUMMARY:Fall Lakes and Waterways at Dawn Photo Tour
DESCRIPTION:Here’s your chance to grab gorgeous sunrise shots. In this one-day nature photography tour you will travel to several destinations that are all within a reasonable distance of each other. You’ll spend 90% of the day shooting pictures at beautiful nearby Adirondack lakes and waterways. This nature photography tour is designed for those who are already comfortable with camera basics such as the relationship between aperture\, shutter and ISO settings. Start this eight-hour day with a very brief discussion\, then take the rest of the day to play with photo techniques in the field at nearby photo locations. A great class for those who wish to receive mentoring while in the field.
URL:https://adirondackfolkschool.org/event/fall-lakes-and-waterways-at-dawn-photo-tour-3/
LOCATION:Adirondack Folk School\, 51 Main St.\, Lake Luzerne\, NY\, 12846\, United States
CATEGORIES:Photography
ATTACH;FMTTYPE=image/jpeg:https://adirondackfolkschool.org/wp-content/uploads/2022/01/Fall-Lakes-Photography-Heilman.jpg
END:VEVENT
END:VCALENDAR