BEGIN:VCALENDAR
VERSION:2.0
PRODID:-//Adirondack Folk School - ECPv6.15.12.2//NONSGML v1.0//EN
CALSCALE:GREGORIAN
METHOD:PUBLISH
X-ORIGINAL-URL:https://adirondackfolkschool.org
X-WR-CALDESC:Events for Adirondack Folk School
REFRESH-INTERVAL;VALUE=DURATION:PT1H
X-Robots-Tag:noindex
X-PUBLISHED-TTL:PT1H
BEGIN:VTIMEZONE
TZID:America/New_York
BEGIN:DAYLIGHT
TZOFFSETFROM:-0500
TZOFFSETTO:-0400
TZNAME:EDT
DTSTART:20210314T070000
END:DAYLIGHT
BEGIN:STANDARD
TZOFFSETFROM:-0400
TZOFFSETTO:-0500
TZNAME:EST
DTSTART:20211107T060000
END:STANDARD
BEGIN:DAYLIGHT
TZOFFSETFROM:-0500
TZOFFSETTO:-0400
TZNAME:EDT
DTSTART:20220313T070000
END:DAYLIGHT
BEGIN:STANDARD
TZOFFSETFROM:-0400
TZOFFSETTO:-0500
TZNAME:EST
DTSTART:20221106T060000
END:STANDARD
BEGIN:DAYLIGHT
TZOFFSETFROM:-0500
TZOFFSETTO:-0400
TZNAME:EDT
DTSTART:20230312T070000
END:DAYLIGHT
BEGIN:STANDARD
TZOFFSETFROM:-0400
TZOFFSETTO:-0500
TZNAME:EST
DTSTART:20231105T060000
END:STANDARD
END:VTIMEZONE
BEGIN:VEVENT
DTSTART;TZID=America/New_York:20220924T090000
DTEND;TZID=America/New_York:20220924T160000
DTSTAMP:20260424T224026
CREATED:20220202T170527Z
LAST-MODIFIED:20220202T170527Z
UID:10001216-1664010000-1664035200@adirondackfolkschool.org
SUMMARY:Relief Carved Door Toppers
DESCRIPTION:Carve a decorative door topper for your interior or exterior door. Learn to design\, lay  out\, and carve\, a scenic design or welcome sign  for the top of your door.
URL:https://adirondackfolkschool.org/event/relief-carved-door-toppers-3/
LOCATION:Adirondack Folk School\, 51 Main St.\, Lake Luzerne\, NY\, 12846\, United States
CATEGORIES:Rustic Furniture
ATTACH;FMTTYPE=image/jpeg:https://adirondackfolkschool.org/wp-content/uploads/2022/01/Carved-Door-Toppers-Schreiner-scaled.jpg
END:VEVENT
BEGIN:VEVENT
DTSTART;TZID=America/New_York:20220925T090000
DTEND;TZID=America/New_York:20220925T160000
DTSTAMP:20260424T224026
CREATED:20220202T170527Z
LAST-MODIFIED:20220202T170527Z
UID:10001218-1664096400-1664121600@adirondackfolkschool.org
SUMMARY:Relief Carved Door Toppers
DESCRIPTION:Carve a decorative door topper for your interior or exterior door. Learn to design\, lay  out\, and carve\, a scenic design or welcome sign  for the top of your door.
URL:https://adirondackfolkschool.org/event/relief-carved-door-toppers-4/
LOCATION:Adirondack Folk School\, 51 Main St.\, Lake Luzerne\, NY\, 12846\, United States
CATEGORIES:Rustic Furniture
ATTACH;FMTTYPE=image/jpeg:https://adirondackfolkschool.org/wp-content/uploads/2022/01/Carved-Door-Toppers-Schreiner-scaled.jpg
END:VEVENT
END:VCALENDAR