BEGIN:VCALENDAR
VERSION:2.0
PRODID:-//Adirondack Folk School - ECPv6.15.12.2//NONSGML v1.0//EN
CALSCALE:GREGORIAN
METHOD:PUBLISH
X-ORIGINAL-URL:https://adirondackfolkschool.org
X-WR-CALDESC:Events for Adirondack Folk School
REFRESH-INTERVAL;VALUE=DURATION:PT1H
X-Robots-Tag:noindex
X-PUBLISHED-TTL:PT1H
BEGIN:VTIMEZONE
TZID:America/New_York
BEGIN:DAYLIGHT
TZOFFSETFROM:-0500
TZOFFSETTO:-0400
TZNAME:EDT
DTSTART:20220313T070000
END:DAYLIGHT
BEGIN:STANDARD
TZOFFSETFROM:-0400
TZOFFSETTO:-0500
TZNAME:EST
DTSTART:20221106T060000
END:STANDARD
BEGIN:DAYLIGHT
TZOFFSETFROM:-0500
TZOFFSETTO:-0400
TZNAME:EDT
DTSTART:20230312T070000
END:DAYLIGHT
BEGIN:STANDARD
TZOFFSETFROM:-0400
TZOFFSETTO:-0500
TZNAME:EST
DTSTART:20231105T060000
END:STANDARD
BEGIN:DAYLIGHT
TZOFFSETFROM:-0500
TZOFFSETTO:-0400
TZNAME:EDT
DTSTART:20240310T070000
END:DAYLIGHT
BEGIN:STANDARD
TZOFFSETFROM:-0400
TZOFFSETTO:-0500
TZNAME:EST
DTSTART:20241103T060000
END:STANDARD
END:VTIMEZONE
BEGIN:VEVENT
DTSTART;TZID=America/New_York:20231014T090000
DTEND;TZID=America/New_York:20231014T160000
DTSTAMP:20260424T031830
CREATED:20221214T231237Z
LAST-MODIFIED:20221214T231237Z
UID:10001936-1697274000-1697299200@adirondackfolkschool.org
SUMMARY:Birch Bark Picture Frames and Mirrors
DESCRIPTION:Birch bark picture frames and mirrors have adorned Adirondack camps and cabins for centuries and were a favorite winter project for the guides to make. This is a great class for beginners with limited experience with woodworking and tools. You will select a frame and learn how to cut and fasten the Birch bark\, twigs and other natural objects to create your own ‘masterpiece’. Come see why this is one of our most popular classes. You’ll be proud to hang this in your home!
URL:https://adirondackfolkschool.org/event/birch-bark-picture-frames-and-mirrors-13/
LOCATION:Adirondack Folk School\, 51 Main St.\, Lake Luzerne\, NY\, 12846\, United States
CATEGORIES:Rustic Furniture
ATTACH;FMTTYPE=image/jpeg:https://adirondackfolkschool.org/wp-content/uploads/2022/01/Frames-1-scaled.jpg
END:VEVENT
BEGIN:VEVENT
DTSTART;TZID=America/New_York:20231015T090000
DTEND;TZID=America/New_York:20231015T160000
DTSTAMP:20260424T031830
CREATED:20221214T231238Z
LAST-MODIFIED:20221214T231238Z
UID:10001937-1697360400-1697385600@adirondackfolkschool.org
SUMMARY:Birch Bark Picture Frames and Mirrors
DESCRIPTION:Birch bark picture frames and mirrors have adorned Adirondack camps and cabins for centuries and were a favorite winter project for the guides to make. This is a great class for beginners with limited experience with woodworking and tools. You will select a frame and learn how to cut and fasten the Birch bark\, twigs and other natural objects to create your own ‘masterpiece’. Come see why this is one of our most popular classes. You’ll be proud to hang this in your home!
URL:https://adirondackfolkschool.org/event/birch-bark-picture-frames-and-mirrors-14/
LOCATION:Adirondack Folk School\, 51 Main St.\, Lake Luzerne\, NY\, 12846\, United States
CATEGORIES:Rustic Furniture
ATTACH;FMTTYPE=image/jpeg:https://adirondackfolkschool.org/wp-content/uploads/2022/01/Frames-1-scaled.jpg
END:VEVENT
END:VCALENDAR