BEGIN:VCALENDAR
VERSION:2.0
PRODID:-//Adirondack Folk School - ECPv6.15.12.2//NONSGML v1.0//EN
CALSCALE:GREGORIAN
METHOD:PUBLISH
X-ORIGINAL-URL:https://adirondackfolkschool.org
X-WR-CALDESC:Events for Adirondack Folk School
REFRESH-INTERVAL;VALUE=DURATION:PT1H
X-Robots-Tag:noindex
X-PUBLISHED-TTL:PT1H
BEGIN:VTIMEZONE
TZID:America/New_York
BEGIN:DAYLIGHT
TZOFFSETFROM:-0500
TZOFFSETTO:-0400
TZNAME:EDT
DTSTART:20210314T070000
END:DAYLIGHT
BEGIN:STANDARD
TZOFFSETFROM:-0400
TZOFFSETTO:-0500
TZNAME:EST
DTSTART:20211107T060000
END:STANDARD
BEGIN:DAYLIGHT
TZOFFSETFROM:-0500
TZOFFSETTO:-0400
TZNAME:EDT
DTSTART:20220313T070000
END:DAYLIGHT
BEGIN:STANDARD
TZOFFSETFROM:-0400
TZOFFSETTO:-0500
TZNAME:EST
DTSTART:20221106T060000
END:STANDARD
BEGIN:DAYLIGHT
TZOFFSETFROM:-0500
TZOFFSETTO:-0400
TZNAME:EDT
DTSTART:20230312T070000
END:DAYLIGHT
BEGIN:STANDARD
TZOFFSETFROM:-0400
TZOFFSETTO:-0500
TZNAME:EST
DTSTART:20231105T060000
END:STANDARD
END:VTIMEZONE
BEGIN:VEVENT
DTSTART;TZID=America/New_York:20220521T130000
DTEND;TZID=America/New_York:20220521T160000
DTSTAMP:20260425T185659
CREATED:20220217T234801Z
LAST-MODIFIED:20220217T234801Z
UID:10001626-1653138000-1653148800@adirondackfolkschool.org
SUMMARY:Introduction to Cold Process Soap Making
DESCRIPTION:This class is an introduction to the cold process method of soap making. Students will get a lesson in lye safety and will participate in the making of a basic soap. Students will leave with a loaf of soap that will yield about eight bars. Finally\, while this is an introductory class\, there will be discussion about ways to acquire further knowledge/skills.
URL:https://adirondackfolkschool.org/event/introduction-to-cold-process-soap-making/
LOCATION:NY
CATEGORIES:Soap Making
ATTACH;FMTTYPE=image/jpeg:https://adirondackfolkschool.org/wp-content/uploads/2022/01/Intro-Cold-Process-Soap-Devers.jpg
END:VEVENT
BEGIN:VEVENT
DTSTART;TZID=America/New_York:20220522T130000
DTEND;TZID=America/New_York:20220522T160000
DTSTAMP:20260425T185659
CREATED:20220217T234801Z
LAST-MODIFIED:20220217T234801Z
UID:10001628-1653224400-1653235200@adirondackfolkschool.org
SUMMARY:Introduction to Cold Process Soap Making
DESCRIPTION:This class is an introduction to the cold process method of soap making. Students will get a lesson in lye safety and will participate in the making of a basic soap. Students will leave with a loaf of soap that will yield about eight bars. Finally\, while this is an introductory class\, there will be discussion about ways to acquire further knowledge/skills.
URL:https://adirondackfolkschool.org/event/introduction-to-cold-process-soap-making-2/
LOCATION:NY
CATEGORIES:Soap Making
ATTACH;FMTTYPE=image/jpeg:https://adirondackfolkschool.org/wp-content/uploads/2022/01/Intro-Cold-Process-Soap-Devers.jpg
END:VEVENT
END:VCALENDAR