BEGIN:VCALENDAR
VERSION:2.0
PRODID:-//Adirondack Folk School - ECPv6.15.12.2//NONSGML v1.0//EN
CALSCALE:GREGORIAN
METHOD:PUBLISH
X-ORIGINAL-URL:https://adirondackfolkschool.org
X-WR-CALDESC:Events for Adirondack Folk School
REFRESH-INTERVAL;VALUE=DURATION:PT1H
X-Robots-Tag:noindex
X-PUBLISHED-TTL:PT1H
BEGIN:VTIMEZONE
TZID:America/New_York
BEGIN:DAYLIGHT
TZOFFSETFROM:-0500
TZOFFSETTO:-0400
TZNAME:EDT
DTSTART:20210314T070000
END:DAYLIGHT
BEGIN:STANDARD
TZOFFSETFROM:-0400
TZOFFSETTO:-0500
TZNAME:EST
DTSTART:20211107T060000
END:STANDARD
BEGIN:DAYLIGHT
TZOFFSETFROM:-0500
TZOFFSETTO:-0400
TZNAME:EDT
DTSTART:20220313T070000
END:DAYLIGHT
BEGIN:STANDARD
TZOFFSETFROM:-0400
TZOFFSETTO:-0500
TZNAME:EST
DTSTART:20221106T060000
END:STANDARD
BEGIN:DAYLIGHT
TZOFFSETFROM:-0500
TZOFFSETTO:-0400
TZNAME:EDT
DTSTART:20230312T070000
END:DAYLIGHT
BEGIN:STANDARD
TZOFFSETFROM:-0400
TZOFFSETTO:-0500
TZNAME:EST
DTSTART:20231105T060000
END:STANDARD
END:VTIMEZONE
BEGIN:VEVENT
DTSTART;TZID=America/New_York:20220827T130000
DTEND;TZID=America/New_York:20220827T160000
DTSTAMP:20260425T142833
CREATED:20220217T234814Z
LAST-MODIFIED:20220217T234814Z
UID:10001629-1661605200-1661616000@adirondackfolkschool.org
SUMMARY:Introduction to Cold Process Soap Making
DESCRIPTION:This class is an introduction to the cold process method of soap making. Students will get a lesson in lye safety and will participate in the making of a basic soap. Students will leave with a loaf of soap that will yield about eight bars. Finally\, while this is an introductory class\, there will be discussion about ways to acquire further knowledge/skills.
URL:https://adirondackfolkschool.org/event/introduction-to-cold-process-soap-making-3/
LOCATION:NY
CATEGORIES:Soap Making
ATTACH;FMTTYPE=image/jpeg:https://adirondackfolkschool.org/wp-content/uploads/2022/01/Intro-Cold-Process-Soap-Devers.jpg
END:VEVENT
BEGIN:VEVENT
DTSTART;TZID=America/New_York:20220828T130000
DTEND;TZID=America/New_York:20220828T160000
DTSTAMP:20260425T142833
CREATED:20220217T234815Z
LAST-MODIFIED:20220217T234815Z
UID:10001630-1661691600-1661702400@adirondackfolkschool.org
SUMMARY:Introduction to Cold Process Soap Making
DESCRIPTION:This class is an introduction to the cold process method of soap making. Students will get a lesson in lye safety and will participate in the making of a basic soap. Students will leave with a loaf of soap that will yield about eight bars. Finally\, while this is an introductory class\, there will be discussion about ways to acquire further knowledge/skills.
URL:https://adirondackfolkschool.org/event/introduction-to-cold-process-soap-making-4/
LOCATION:NY
CATEGORIES:Soap Making
ATTACH;FMTTYPE=image/jpeg:https://adirondackfolkschool.org/wp-content/uploads/2022/01/Intro-Cold-Process-Soap-Devers.jpg
END:VEVENT
BEGIN:VEVENT
DTSTART;TZID=America/New_York:20220828T130000
DTEND;TZID=America/New_York:20220828T173000
DTSTAMP:20260425T142833
CREATED:20220217T234909Z
LAST-MODIFIED:20220217T234909Z
UID:10001655-1661691600-1661707800@adirondackfolkschool.org
SUMMARY:Traditional Soap Making
DESCRIPTION:Create soap just like Grandma\, but better! Join Chrissey for an enjoyable Sunday afternoon as you learn how to make soap that not only smells good but is all-natural and feels great on your skin. This fun class will teach you how to create soap using the cold-process and natural/organic ingredients. You will learn all about the basic process\, oils\, and the difference between fragrances and essential oils. You will create soap from a recipe while learning how to handle lye safely. Finally\, you’ll take home your hand-made soap. So\, say good-bye to store-bought soap and start using soap you made yourself!
URL:https://adirondackfolkschool.org/event/traditional-soap-making-2/
LOCATION:Adirondack Folk School\, 51 Main St.\, Lake Luzerne\, NY\, 12846\, United States
CATEGORIES:Soap Making
ATTACH;FMTTYPE=image/jpeg:https://adirondackfolkschool.org/wp-content/uploads/2022/01/Traditional-Soap-Making-Eberhardt-1.jpg
END:VEVENT
END:VCALENDAR