BEGIN:VCALENDAR
VERSION:2.0
PRODID:-//Adirondack Folk School - ECPv6.15.12.2//NONSGML v1.0//EN
CALSCALE:GREGORIAN
METHOD:PUBLISH
X-WR-CALNAME:Adirondack Folk School
X-ORIGINAL-URL:https://adirondackfolkschool.org
X-WR-CALDESC:Events for Adirondack Folk School
REFRESH-INTERVAL;VALUE=DURATION:PT1H
X-Robots-Tag:noindex
X-PUBLISHED-TTL:PT1H
BEGIN:VTIMEZONE
TZID:America/New_York
BEGIN:DAYLIGHT
TZOFFSETFROM:-0500
TZOFFSETTO:-0400
TZNAME:EDT
DTSTART:20210314T070000
END:DAYLIGHT
BEGIN:STANDARD
TZOFFSETFROM:-0400
TZOFFSETTO:-0500
TZNAME:EST
DTSTART:20211107T060000
END:STANDARD
BEGIN:DAYLIGHT
TZOFFSETFROM:-0500
TZOFFSETTO:-0400
TZNAME:EDT
DTSTART:20220313T070000
END:DAYLIGHT
BEGIN:STANDARD
TZOFFSETFROM:-0400
TZOFFSETTO:-0500
TZNAME:EST
DTSTART:20221106T060000
END:STANDARD
BEGIN:DAYLIGHT
TZOFFSETFROM:-0500
TZOFFSETTO:-0400
TZNAME:EDT
DTSTART:20230312T070000
END:DAYLIGHT
BEGIN:STANDARD
TZOFFSETFROM:-0400
TZOFFSETTO:-0500
TZNAME:EST
DTSTART:20231105T060000
END:STANDARD
END:VTIMEZONE
BEGIN:VEVENT
DTSTART;TZID=America/New_York:20221105T130000
DTEND;TZID=America/New_York:20221105T160000
DTSTAMP:20260425T101228
CREATED:20220217T234815Z
LAST-MODIFIED:20220217T234815Z
UID:10001632-1667653200-1667664000@adirondackfolkschool.org
SUMMARY:Introduction to Cold Process Soap Making
DESCRIPTION:This class is an introduction to the cold process method of soap making. Students will get a lesson in lye safety and will participate in the making of a basic soap. Students will leave with a loaf of soap that will yield about eight bars. Finally\, while this is an introductory class\, there will be discussion about ways to acquire further knowledge/skills.
URL:https://adirondackfolkschool.org/event/introduction-to-cold-process-soap-making-5/
LOCATION:NY
CATEGORIES:Soap Making
ATTACH;FMTTYPE=image/jpeg:https://adirondackfolkschool.org/wp-content/uploads/2022/01/Intro-Cold-Process-Soap-Devers.jpg
END:VEVENT
BEGIN:VEVENT
DTSTART;TZID=America/New_York:20221106T090000
DTEND;TZID=America/New_York:20221106T160000
DTSTAMP:20260425T101228
CREATED:20220217T234717Z
LAST-MODIFIED:20220520T193315Z
UID:10001370-1667725200-1667750400@adirondackfolkschool.org
SUMMARY:Holiday Soap Making
DESCRIPTION:Come and make soap for holiday gift giving! You will design and create a holiday soap scented with your favorite pines\, peppermints and more. You can design your soap to look like cupcakes or other holiday treats! On the second day of class\, you will cut the soap with a professional cutter\, and design labels and will receive helpful hints for packaging. The timing of this class takes into account that soap must cure for 4 weeks prior to using.
URL:https://adirondackfolkschool.org/event/holiday-soap-making/
LOCATION:NY
CATEGORIES:Soap Making
END:VEVENT
END:VCALENDAR