BEGIN:VCALENDAR
VERSION:2.0
PRODID:-//Adirondack Folk School - ECPv6.15.12.2//NONSGML v1.0//EN
CALSCALE:GREGORIAN
METHOD:PUBLISH
X-WR-CALNAME:Adirondack Folk School
X-ORIGINAL-URL:https://adirondackfolkschool.org
X-WR-CALDESC:Events for Adirondack Folk School
REFRESH-INTERVAL;VALUE=DURATION:PT1H
X-Robots-Tag:noindex
X-PUBLISHED-TTL:PT1H
BEGIN:VTIMEZONE
TZID:America/New_York
BEGIN:DAYLIGHT
TZOFFSETFROM:-0500
TZOFFSETTO:-0400
TZNAME:EDT
DTSTART:20210314T070000
END:DAYLIGHT
BEGIN:STANDARD
TZOFFSETFROM:-0400
TZOFFSETTO:-0500
TZNAME:EST
DTSTART:20211107T060000
END:STANDARD
BEGIN:DAYLIGHT
TZOFFSETFROM:-0500
TZOFFSETTO:-0400
TZNAME:EDT
DTSTART:20220313T070000
END:DAYLIGHT
BEGIN:STANDARD
TZOFFSETFROM:-0400
TZOFFSETTO:-0500
TZNAME:EST
DTSTART:20221106T060000
END:STANDARD
BEGIN:DAYLIGHT
TZOFFSETFROM:-0500
TZOFFSETTO:-0400
TZNAME:EDT
DTSTART:20230312T070000
END:DAYLIGHT
BEGIN:STANDARD
TZOFFSETFROM:-0400
TZOFFSETTO:-0500
TZNAME:EST
DTSTART:20231105T060000
END:STANDARD
END:VTIMEZONE
BEGIN:VEVENT
DTSTART;TZID=America/New_York:20220429T090000
DTEND;TZID=America/New_York:20220429T120000
DTSTAMP:20260422T144912
CREATED:20220217T235038Z
LAST-MODIFIED:20220217T235038Z
UID:10001402-1651222800-1651233600@adirondackfolkschool.org
SUMMARY:Barn Quilt
DESCRIPTION:Barn quilts are all the rage these days! Come and create your own wooden “quilt” to adorn your house\, barn or cottage. In this one and a half day class you will choose a pattern and paint a stunning “quilt” to hang outdoors. No quilting experience necessary.
URL:https://adirondackfolkschool.org/event/barn-quilt/
LOCATION:NY
CATEGORIES:Traditional Crafts
ATTACH;FMTTYPE=image/jpeg:https://adirondackfolkschool.org/wp-content/uploads/2022/01/Barn-Quilt-Flinchbaugh-scaled.jpg
END:VEVENT
BEGIN:VEVENT
DTSTART;TZID=America/New_York:20220430T090000
DTEND;TZID=America/New_York:20220430T160000
DTSTAMP:20260422T144912
CREATED:20220217T234716Z
LAST-MODIFIED:20220217T234716Z
UID:10001366-1651309200-1651334400@adirondackfolkschool.org
SUMMARY:Sharpening and Honing Blades
DESCRIPTION:Sharpening and honing of blades is a mystery to most people these days although our ancestors knew the skill intimately. Technology of honing has definitely improved over the past 100 years and there are many technologies to choose from. Howard will demystify the sharpening process and you will leave the workshop with the skills to sharpen your own blades. Students should bring one or two blades to hone for the class.
URL:https://adirondackfolkschool.org/event/sharpening-and-honing-blades/
LOCATION:Adirondack Folk School\, 51 Main St.\, Lake Luzerne\, NY\, 12846\, United States
CATEGORIES:Traditional Crafts
ATTACH;FMTTYPE=image/jpeg:https://adirondackfolkschool.org/wp-content/uploads/2022/01/Sharpening-_-Honing-Schechter.jpg
END:VEVENT
BEGIN:VEVENT
DTSTART;TZID=America/New_York:20220430T090000
DTEND;TZID=America/New_York:20220430T160000
DTSTAMP:20260422T144912
CREATED:20220217T235050Z
LAST-MODIFIED:20220217T235050Z
UID:10001404-1651309200-1651334400@adirondackfolkschool.org
SUMMARY:Barn Quilt
DESCRIPTION:Barn quilts are all the rage these days! Come and create your own wooden “quilt” to adorn your house\, barn or cottage. In this one and a half day class you will choose a pattern and paint a stunning “quilt” to hang outdoors. No quilting experience necessary.
URL:https://adirondackfolkschool.org/event/barn-quilt-2/
LOCATION:NY
CATEGORIES:Traditional Crafts
ATTACH;FMTTYPE=image/jpeg:https://adirondackfolkschool.org/wp-content/uploads/2022/01/Barn-Quilt-Flinchbaugh-scaled.jpg
END:VEVENT
BEGIN:VEVENT
DTSTART;TZID=America/New_York:20220430T130000
DTEND;TZID=America/New_York:20220430T160000
DTSTAMP:20260422T144912
CREATED:20220217T234544Z
LAST-MODIFIED:20220217T234544Z
UID:10001345-1651323600-1651334400@adirondackfolkschool.org
SUMMARY:Fairy Lore\, Houses and Gratitude Stakes
DESCRIPTION:Let the everyday slip away on this imaginative walk along the River Trail of the Adirondack Folk School. Drawing from Celtic lore\, we’ll weave a tale about Fairies\, while connecting the dots between the Faerie folk of Ireland and the Adirondacks. We’ll start with creating a house out of natural objects\, both provided and found\, for the Fairies of the Forest and end with making a decorative Gratitude Stake for your Fairies at home! Enchanted tea and Fairy Bread will be served.
URL:https://adirondackfolkschool.org/event/fairy-lore-houses-and-gratitude-stakes/
LOCATION:Adirondack Folk School\, 51 Main St.\, Lake Luzerne\, NY\, 12846\, United States
CATEGORIES:Traditional Crafts
ATTACH;FMTTYPE=image/jpeg:https://adirondackfolkschool.org/wp-content/uploads/2022/01/Fairy-Lore-Etc-Nelson.jpg
END:VEVENT
END:VCALENDAR