BEGIN:VCALENDAR
VERSION:2.0
PRODID:-//Adirondack Folk School - ECPv6.15.12.2//NONSGML v1.0//EN
CALSCALE:GREGORIAN
METHOD:PUBLISH
X-WR-CALNAME:Adirondack Folk School
X-ORIGINAL-URL:https://adirondackfolkschool.org
X-WR-CALDESC:Events for Adirondack Folk School
REFRESH-INTERVAL;VALUE=DURATION:PT1H
X-Robots-Tag:noindex
X-PUBLISHED-TTL:PT1H
BEGIN:VTIMEZONE
TZID:America/New_York
BEGIN:DAYLIGHT
TZOFFSETFROM:-0500
TZOFFSETTO:-0400
TZNAME:EDT
DTSTART:20210314T070000
END:DAYLIGHT
BEGIN:STANDARD
TZOFFSETFROM:-0400
TZOFFSETTO:-0500
TZNAME:EST
DTSTART:20211107T060000
END:STANDARD
BEGIN:DAYLIGHT
TZOFFSETFROM:-0500
TZOFFSETTO:-0400
TZNAME:EDT
DTSTART:20220313T070000
END:DAYLIGHT
BEGIN:STANDARD
TZOFFSETFROM:-0400
TZOFFSETTO:-0500
TZNAME:EST
DTSTART:20221106T060000
END:STANDARD
BEGIN:DAYLIGHT
TZOFFSETFROM:-0500
TZOFFSETTO:-0400
TZNAME:EDT
DTSTART:20230312T070000
END:DAYLIGHT
BEGIN:STANDARD
TZOFFSETFROM:-0400
TZOFFSETTO:-0500
TZNAME:EST
DTSTART:20231105T060000
END:STANDARD
END:VTIMEZONE
BEGIN:VEVENT
DTSTART;TZID=America/New_York:20221001T090000
DTEND;TZID=America/New_York:20221001T160000
DTSTAMP:20260422T055133
CREATED:20220217T235037Z
LAST-MODIFIED:20220217T235037Z
UID:10001400-1664614800-1664640000@adirondackfolkschool.org
SUMMARY:Stenciled Floorcloth
DESCRIPTION:Create your own floorcloth in either a traditional pattern or Arts & Crafts style using environmentally-safe water-based paints and finishes. The use of painted canvas floor coverings\, also known as oil cloths\, dates as far back as the 14th century in Europe. People coming to this country were looking for ways to reproduce some of the furnishings they were used to back home. Since resources were limited\, worn sails from ships provided them with a base to paint and cover their floors. Over time floorcloths proved themselves to be one of the most durable forms of floor covering used. Centuries old pieces still remain intact with the pattern clearly visible. Come create your own artful and durable floorcloth that will last for generations.
URL:https://adirondackfolkschool.org/event/stenciled-floorcloth-2/
LOCATION:NY
CATEGORIES:Traditional Crafts
ATTACH;FMTTYPE=image/jpeg:https://adirondackfolkschool.org/wp-content/uploads/2022/01/Stenciled-Floorcloth-Flinchbaugh.jpg
END:VEVENT
BEGIN:VEVENT
DTSTART;TZID=America/New_York:20221023T130000
DTEND;TZID=America/New_York:20221023T160000
DTSTAMP:20260422T055133
CREATED:20221025T154218Z
LAST-MODIFIED:20221025T154218Z
UID:10001420-1666530000-1666540800@adirondackfolkschool.org
SUMMARY:Harvest Wreath
DESCRIPTION:In this class students will create one fall inspired wreath using many natural materials: feathers\, corn husks\, pinecones and other dried materials. Students will also make a bow for the wreath.
URL:https://adirondackfolkschool.org/event/harvest-wreath/
LOCATION:Adirondack Folk School\, 51 Main St.\, Lake Luzerne\, NY\, 12846\, United States
CATEGORIES:Traditional Crafts
ATTACH;FMTTYPE=image/jpeg:https://adirondackfolkschool.org/wp-content/uploads/2022/09/Corn-Husk-Wreath-smaller.jpg
END:VEVENT
BEGIN:VEVENT
DTSTART;TZID=America/New_York:20221029T090000
DTEND;TZID=America/New_York:20221029T160000
DTSTAMP:20260422T055133
CREATED:20220217T234717Z
LAST-MODIFIED:20220217T234717Z
UID:10001368-1667034000-1667059200@adirondackfolkschool.org
SUMMARY:Sharpening and Honing Blades
DESCRIPTION:Sharpening and honing of blades is a mystery to most people these days although our ancestors knew the skill intimately. Technology of honing has definitely improved over the past 100 years and there are many technologies to choose from. Howard will demystify the sharpening process and you will leave the workshop with the skills to sharpen your own blades. Students should bring one or two blades to hone for the class.
URL:https://adirondackfolkschool.org/event/sharpening-and-honing-blades-2/
LOCATION:Adirondack Folk School\, 51 Main St.\, Lake Luzerne\, NY\, 12846\, United States
CATEGORIES:Traditional Crafts
ATTACH;FMTTYPE=image/jpeg:https://adirondackfolkschool.org/wp-content/uploads/2022/01/Sharpening-_-Honing-Schechter.jpg
END:VEVENT
END:VCALENDAR