BEGIN:VCALENDAR
VERSION:2.0
PRODID:-//Adirondack Folk School - ECPv6.15.12.2//NONSGML v1.0//EN
CALSCALE:GREGORIAN
METHOD:PUBLISH
X-ORIGINAL-URL:https://adirondackfolkschool.org
X-WR-CALDESC:Events for Adirondack Folk School
REFRESH-INTERVAL;VALUE=DURATION:PT1H
X-Robots-Tag:noindex
X-PUBLISHED-TTL:PT1H
BEGIN:VTIMEZONE
TZID:America/New_York
BEGIN:DAYLIGHT
TZOFFSETFROM:-0500
TZOFFSETTO:-0400
TZNAME:EDT
DTSTART:20230312T070000
END:DAYLIGHT
BEGIN:STANDARD
TZOFFSETFROM:-0400
TZOFFSETTO:-0500
TZNAME:EST
DTSTART:20231105T060000
END:STANDARD
BEGIN:DAYLIGHT
TZOFFSETFROM:-0500
TZOFFSETTO:-0400
TZNAME:EDT
DTSTART:20240310T070000
END:DAYLIGHT
BEGIN:STANDARD
TZOFFSETFROM:-0400
TZOFFSETTO:-0500
TZNAME:EST
DTSTART:20241103T060000
END:STANDARD
BEGIN:DAYLIGHT
TZOFFSETFROM:-0500
TZOFFSETTO:-0400
TZNAME:EDT
DTSTART:20250309T070000
END:DAYLIGHT
BEGIN:STANDARD
TZOFFSETFROM:-0400
TZOFFSETTO:-0500
TZNAME:EST
DTSTART:20251102T060000
END:STANDARD
END:VTIMEZONE
BEGIN:VEVENT
DTSTART;TZID=America/New_York:20240227T190000
DTEND;TZID=America/New_York:20240227T210000
DTSTAMP:20260423T074300
CREATED:20240122T174433Z
LAST-MODIFIED:20240411T152622Z
UID:10002494-1709060400-1709067600@adirondackfolkschool.org
SUMMARY:How to Tell a Story Part 2
DESCRIPTION:This course explores the three-act story structure in greater detail and focuses on how to turn a short personal narrative or another story idea into a full-length screenplay/play\, novel\, or memoir. In this four week class\, students with learn the techniques necessary to create multi- dimensional characters\, develop a compelling plot\, and identify the themes that will tie the elements of their story together. Students will leave with the tools they need to begin a first draft or revise an existing one. Course Prerequisite: How to Tell a Story Pt. 1 or instructor permission.
URL:https://adirondackfolkschool.org/event/how-to-tell-a-story-part-2/
LOCATION:Adirondack Folk School\, 51 Main St.\, Lake Luzerne\, NY\, 12846\, United States
CATEGORIES:Traditional Crafts
END:VEVENT
END:VCALENDAR