BEGIN:VCALENDAR
VERSION:2.0
PRODID:-//Adirondack Folk School - ECPv6.15.12.2//NONSGML v1.0//EN
CALSCALE:GREGORIAN
METHOD:PUBLISH
X-WR-CALNAME:Adirondack Folk School
X-ORIGINAL-URL:https://adirondackfolkschool.org
X-WR-CALDESC:Events for Adirondack Folk School
REFRESH-INTERVAL;VALUE=DURATION:PT1H
X-Robots-Tag:noindex
X-PUBLISHED-TTL:PT1H
BEGIN:VTIMEZONE
TZID:America/New_York
BEGIN:DAYLIGHT
TZOFFSETFROM:-0500
TZOFFSETTO:-0400
TZNAME:EDT
DTSTART:20230312T070000
END:DAYLIGHT
BEGIN:STANDARD
TZOFFSETFROM:-0400
TZOFFSETTO:-0500
TZNAME:EST
DTSTART:20231105T060000
END:STANDARD
BEGIN:DAYLIGHT
TZOFFSETFROM:-0500
TZOFFSETTO:-0400
TZNAME:EDT
DTSTART:20240310T070000
END:DAYLIGHT
BEGIN:STANDARD
TZOFFSETFROM:-0400
TZOFFSETTO:-0500
TZNAME:EST
DTSTART:20241103T060000
END:STANDARD
BEGIN:DAYLIGHT
TZOFFSETFROM:-0500
TZOFFSETTO:-0400
TZNAME:EDT
DTSTART:20250309T070000
END:DAYLIGHT
BEGIN:STANDARD
TZOFFSETFROM:-0400
TZOFFSETTO:-0500
TZNAME:EST
DTSTART:20251102T060000
END:STANDARD
END:VTIMEZONE
BEGIN:VEVENT
DTSTART;TZID=America/New_York:20240810T090000
DTEND;TZID=America/New_York:20240810T160000
DTSTAMP:20260423T133755
CREATED:20240122T174213Z
LAST-MODIFIED:20240122T174213Z
UID:10002445-1723280400-1723305600@adirondackfolkschool.org
SUMMARY:Traditional Moccasin Making
DESCRIPTION:Alex is known in the woodland indian culture and historical programs for making all of his own traditional attire\, including moccasins\, and will instruct the class in the art of traditional eastern woodland Indian moccasin making. With his instruction\, each student will make their own pair of center seam-pucker toe leather moccasins; these were the most common among the eastern woodland tribes. Students will be using deer hide leather and awls to make primitive\, traditional eastern woodland moccasins.
URL:https://adirondackfolkschool.org/event/traditional-moccasin-making/
LOCATION:Adirondack Folk School\, 51 Main St.\, Lake Luzerne\, NY\, 12846\, United States
CATEGORIES:Traditional Crafts
ATTACH;FMTTYPE=image/jpeg:https://adirondackfolkschool.org/wp-content/uploads/2023/12/Moccasin-Alex-Warrington.jpg
END:VEVENT
BEGIN:VEVENT
DTSTART;TZID=America/New_York:20240821T130000
DTEND;TZID=America/New_York:20240821T160000
DTSTAMP:20260423T133755
CREATED:20231207T193428Z
LAST-MODIFIED:20231207T193428Z
UID:10002107-1724245200-1724256000@adirondackfolkschool.org
SUMMARY:Gifts from Nature
DESCRIPTION:Get an early start on holiday gift giving. Make pinecone flowers\, use natural mosses and twigs to decorate a small keepsake box and one small frame. Add your own photo for a special gift or family keepsake.
URL:https://adirondackfolkschool.org/event/gifts-from-nature-2/
LOCATION:Adirondack Folk School\, 51 Main St.\, Lake Luzerne\, NY\, 12846\, United States
CATEGORIES:Traditional Crafts
ATTACH;FMTTYPE=image/jpeg:https://adirondackfolkschool.org/wp-content/uploads/2022/12/Gifts-of-Nature-Class-New-Picture-scaled.jpg
END:VEVENT
BEGIN:VEVENT
DTSTART;TZID=America/New_York:20240824T100000
DTEND;TZID=America/New_York:20240824T143000
DTSTAMP:20260423T133755
CREATED:20240122T174529Z
LAST-MODIFIED:20240122T174529Z
UID:10002510-1724493600-1724509800@adirondackfolkschool.org
SUMMARY:Splint Stool Weaving for Adults
DESCRIPTION:Weave a splint seat onto a hardwood stool frame with either natural colored or dyed flat reed\, with a choice of colors to choose from. Stool and weaving materials will be provided.
URL:https://adirondackfolkschool.org/event/splint-stool-weaving-for-adults/
LOCATION:Adirondack Folk School\, 51 Main St.\, Lake Luzerne\, NY\, 12846\, United States
CATEGORIES:Traditional Crafts
ATTACH;FMTTYPE=image/jpeg:https://adirondackfolkschool.org/wp-content/uploads/2022/01/Shaker-Carriers-Pintar.jpg
END:VEVENT
END:VCALENDAR