BEGIN:VCALENDAR
VERSION:2.0
PRODID:-//Adirondack Folk School - ECPv6.15.12.2//NONSGML v1.0//EN
CALSCALE:GREGORIAN
METHOD:PUBLISH
X-WR-CALNAME:Adirondack Folk School
X-ORIGINAL-URL:https://adirondackfolkschool.org
X-WR-CALDESC:Events for Adirondack Folk School
REFRESH-INTERVAL;VALUE=DURATION:PT1H
X-Robots-Tag:noindex
X-PUBLISHED-TTL:PT1H
BEGIN:VTIMEZONE
TZID:America/New_York
BEGIN:DAYLIGHT
TZOFFSETFROM:-0500
TZOFFSETTO:-0400
TZNAME:EDT
DTSTART:20230312T070000
END:DAYLIGHT
BEGIN:STANDARD
TZOFFSETFROM:-0400
TZOFFSETTO:-0500
TZNAME:EST
DTSTART:20231105T060000
END:STANDARD
BEGIN:DAYLIGHT
TZOFFSETFROM:-0500
TZOFFSETTO:-0400
TZNAME:EDT
DTSTART:20240310T070000
END:DAYLIGHT
BEGIN:STANDARD
TZOFFSETFROM:-0400
TZOFFSETTO:-0500
TZNAME:EST
DTSTART:20241103T060000
END:STANDARD
BEGIN:DAYLIGHT
TZOFFSETFROM:-0500
TZOFFSETTO:-0400
TZNAME:EDT
DTSTART:20250309T070000
END:DAYLIGHT
BEGIN:STANDARD
TZOFFSETFROM:-0400
TZOFFSETTO:-0500
TZNAME:EST
DTSTART:20251102T060000
END:STANDARD
END:VTIMEZONE
BEGIN:VEVENT
DTSTART;TZID=America/New_York:20240906T090000
DTEND;TZID=America/New_York:20240906T160000
DTSTAMP:20260423T121729
CREATED:20231207T193431Z
LAST-MODIFIED:20231207T193431Z
UID:10002110-1725613200-1725638400@adirondackfolkschool.org
SUMMARY:Chair Caning
DESCRIPTION:Spend a few days learning how to cane your own chair during which you’ll learn how to weave the traditional 7-step caning pattern. Bring along a chair in good condition in need of a new caned seat. Ideally\, the chair seat will be square or rectangular in shape and have fewer than 85 holes drilled into the seat frame. Any repairs and refinishing should be completed before the class begins. Please bring a chair in sound condition\, with the old cane removed\, if possible.
URL:https://adirondackfolkschool.org/event/chair-caning-4/
LOCATION:Adirondack Folk School\, 51 Main St.\, Lake Luzerne\, NY\, 12846\, United States
CATEGORIES:Traditional Crafts
ATTACH;FMTTYPE=image/jpeg:https://adirondackfolkschool.org/wp-content/uploads/2022/12/Chair-Caning_Christine-Hubbard-scaled.jpg
END:VEVENT
BEGIN:VEVENT
DTSTART;TZID=America/New_York:20240907T090000
DTEND;TZID=America/New_York:20240907T160000
DTSTAMP:20260423T121729
CREATED:20231207T193433Z
LAST-MODIFIED:20231207T193433Z
UID:10002111-1725699600-1725724800@adirondackfolkschool.org
SUMMARY:Chair Caning
DESCRIPTION:Spend a few days learning how to cane your own chair during which you’ll learn how to weave the traditional 7-step caning pattern. Bring along a chair in good condition in need of a new caned seat. Ideally\, the chair seat will be square or rectangular in shape and have fewer than 85 holes drilled into the seat frame. Any repairs and refinishing should be completed before the class begins. Please bring a chair in sound condition\, with the old cane removed\, if possible.
URL:https://adirondackfolkschool.org/event/chair-caning-5/
LOCATION:Adirondack Folk School\, 51 Main St.\, Lake Luzerne\, NY\, 12846\, United States
CATEGORIES:Traditional Crafts
ATTACH;FMTTYPE=image/jpeg:https://adirondackfolkschool.org/wp-content/uploads/2022/12/Chair-Caning_Christine-Hubbard-scaled.jpg
END:VEVENT
BEGIN:VEVENT
DTSTART;TZID=America/New_York:20240908T090000
DTEND;TZID=America/New_York:20240908T160000
DTSTAMP:20260423T121729
CREATED:20231207T193510Z
LAST-MODIFIED:20231207T193510Z
UID:10002112-1725786000-1725811200@adirondackfolkschool.org
SUMMARY:Chair Caning
DESCRIPTION:Spend a few days learning how to cane your own chair during which you’ll learn how to weave the traditional 7-step caning pattern. Bring along a chair in good condition in need of a new caned seat. Ideally\, the chair seat will be square or rectangular in shape and have fewer than 85 holes drilled into the seat frame. Any repairs and refinishing should be completed before the class begins. Please bring a chair in sound condition\, with the old cane removed\, if possible.
URL:https://adirondackfolkschool.org/event/chair-caning-6/
LOCATION:Adirondack Folk School\, 51 Main St.\, Lake Luzerne\, NY\, 12846\, United States
CATEGORIES:Traditional Crafts
ATTACH;FMTTYPE=image/jpeg:https://adirondackfolkschool.org/wp-content/uploads/2022/12/Chair-Caning_Christine-Hubbard-scaled.jpg
END:VEVENT
END:VCALENDAR