BEGIN:VCALENDAR
VERSION:2.0
PRODID:-//Adirondack Folk School - ECPv6.15.12.2//NONSGML v1.0//EN
CALSCALE:GREGORIAN
METHOD:PUBLISH
X-ORIGINAL-URL:https://adirondackfolkschool.org
X-WR-CALDESC:Events for Adirondack Folk School
REFRESH-INTERVAL;VALUE=DURATION:PT1H
X-Robots-Tag:noindex
X-PUBLISHED-TTL:PT1H
BEGIN:VTIMEZONE
TZID:America/New_York
BEGIN:DAYLIGHT
TZOFFSETFROM:-0500
TZOFFSETTO:-0400
TZNAME:EDT
DTSTART:20240310T070000
END:DAYLIGHT
BEGIN:STANDARD
TZOFFSETFROM:-0400
TZOFFSETTO:-0500
TZNAME:EST
DTSTART:20241103T060000
END:STANDARD
BEGIN:DAYLIGHT
TZOFFSETFROM:-0500
TZOFFSETTO:-0400
TZNAME:EDT
DTSTART:20250309T070000
END:DAYLIGHT
BEGIN:STANDARD
TZOFFSETFROM:-0400
TZOFFSETTO:-0500
TZNAME:EST
DTSTART:20251102T060000
END:STANDARD
BEGIN:DAYLIGHT
TZOFFSETFROM:-0500
TZOFFSETTO:-0400
TZNAME:EDT
DTSTART:20260308T070000
END:DAYLIGHT
BEGIN:STANDARD
TZOFFSETFROM:-0400
TZOFFSETTO:-0500
TZNAME:EST
DTSTART:20261101T060000
END:STANDARD
END:VTIMEZONE
BEGIN:VEVENT
DTSTART;TZID=America/New_York:20250208T090000
DTEND;TZID=America/New_York:20250208T120000
DTSTAMP:20260423T044604
CREATED:20241211T171415Z
LAST-MODIFIED:20241211T171415Z
UID:10002774-1739005200-1739016000@adirondackfolkschool.org
SUMMARY:Barn Quilt
DESCRIPTION:Barn quilts are all the rage these days! Come and create your own wooden “quilt” to adorn your house\, barn or cottage. In this one and a half day class you will choose a pattern and paint a stunning “quilt” to hang outdoors. No quilting experience necessary.
URL:https://adirondackfolkschool.org/event/barn-quilt-13/
LOCATION:NY
CATEGORIES:Traditional Crafts
ATTACH;FMTTYPE=image/jpeg:https://adirondackfolkschool.org/wp-content/uploads/2023/12/Barn-Quilt-Janet-Flinchbaugh.jpg
END:VEVENT
BEGIN:VEVENT
DTSTART;TZID=America/New_York:20250209T090000
DTEND;TZID=America/New_York:20250209T160000
DTSTAMP:20260423T044604
CREATED:20241211T171415Z
LAST-MODIFIED:20241211T171415Z
UID:10002775-1739091600-1739116800@adirondackfolkschool.org
SUMMARY:Barn Quilt
DESCRIPTION:Barn quilts are all the rage these days! Come and create your own wooden “quilt” to adorn your house\, barn or cottage. In this one and a half day class you will choose a pattern and paint a stunning “quilt” to hang outdoors. No quilting experience necessary.
URL:https://adirondackfolkschool.org/event/barn-quilt-14/
LOCATION:NY
CATEGORIES:Traditional Crafts
ATTACH;FMTTYPE=image/jpeg:https://adirondackfolkschool.org/wp-content/uploads/2023/12/Barn-Quilt-Janet-Flinchbaugh.jpg
END:VEVENT
BEGIN:VEVENT
DTSTART;TZID=America/New_York:20250222T090000
DTEND;TZID=America/New_York:20250222T120000
DTSTAMP:20260423T044604
CREATED:20241211T171955Z
LAST-MODIFIED:20250214T203552Z
UID:10002826-1740214800-1740225600@adirondackfolkschool.org
SUMMARY:Calligraphy with Turkey Quills
DESCRIPTION:Many of our “Founding Feathers” were indeed from turkeys! We will learn how to cut and letter with our own turkey quill pen using ink made from black walnut husks. Black Letter (Gothic) and Roman letter styles will be demonstrated and students will have an opportunity to practice using simple homemade markers.
URL:https://adirondackfolkschool.org/event/calligraphy-with-turkey-quills-3/
LOCATION:Adirondack Folk School\, 51 Main St.\, Lake Luzerne\, NY\, 12846\, United States
CATEGORIES:Traditional Crafts
ATTACH;FMTTYPE=image/jpeg:https://adirondackfolkschool.org/wp-content/uploads/2024/11/feather-pen-into-inkwell-scaled.jpg
END:VEVENT
BEGIN:VEVENT
DTSTART;TZID=America/New_York:20250228T090000
DTEND;TZID=America/New_York:20250228T130000
DTSTAMP:20260423T044604
CREATED:20241211T184423Z
LAST-MODIFIED:20250113T144438Z
UID:10003009-1740733200-1740747600@adirondackfolkschool.org
SUMMARY:Wonder of Nature Mosaic Stepping Stones
DESCRIPTION:What is your favorite vision of Nature? Is it the sunshine\, birds\, flowers\, or a particular scene? Bring your idea or sketch along to this workshop\, and capture your image in tile\, stone and glass? to create a colorful artwork that will enhance your garden or yard for years to come. Beginner to experienced artists welcome! Students will utilize brightly colored porcelain tiles\, as well as glass tiles\, stained glass\, seashells and pebbles. (Bring a couple of permanent items to add to your project\, if you?d like!) Kate has all the ?tesserae\,? tools and expertise you?ll need to shape your pieces and set them in mortar\, which will comprise our first day of work. Day two will be a shorter day\, grouting and admiring your finished piece\, which will be ready to take home! Artist Kate Hartley\, who created the North Creek Mosaic Project Mural with over 2000 volunteers\, will guide you in bringing your own vision into mosaic form. She?s been teaching visual arts to people of all ages for four decades\, and delights in encouraging individual expression in artists of all experience levels.
URL:https://adirondackfolkschool.org/event/wonder-of-nature-mosaic-stepping-stones/
LOCATION:Adirondack Folk School\, 51 Main St.\, Lake Luzerne\, NY\, 12846\, United States
CATEGORIES:Traditional Crafts
ATTACH;FMTTYPE=image/jpeg:https://adirondackfolkschool.org/wp-content/uploads/2024/11/Stepping-Stone-Mosaic-Kate-Hartley.jpg
END:VEVENT
END:VCALENDAR