BEGIN:VCALENDAR
VERSION:2.0
PRODID:-//Adirondack Folk School - ECPv6.15.12.2//NONSGML v1.0//EN
CALSCALE:GREGORIAN
METHOD:PUBLISH
X-WR-CALNAME:Adirondack Folk School
X-ORIGINAL-URL:https://adirondackfolkschool.org
X-WR-CALDESC:Events for Adirondack Folk School
REFRESH-INTERVAL;VALUE=DURATION:PT1H
X-Robots-Tag:noindex
X-PUBLISHED-TTL:PT1H
BEGIN:VTIMEZONE
TZID:America/New_York
BEGIN:DAYLIGHT
TZOFFSETFROM:-0500
TZOFFSETTO:-0400
TZNAME:EDT
DTSTART:20240310T070000
END:DAYLIGHT
BEGIN:STANDARD
TZOFFSETFROM:-0400
TZOFFSETTO:-0500
TZNAME:EST
DTSTART:20241103T060000
END:STANDARD
BEGIN:DAYLIGHT
TZOFFSETFROM:-0500
TZOFFSETTO:-0400
TZNAME:EDT
DTSTART:20250309T070000
END:DAYLIGHT
BEGIN:STANDARD
TZOFFSETFROM:-0400
TZOFFSETTO:-0500
TZNAME:EST
DTSTART:20251102T060000
END:STANDARD
BEGIN:DAYLIGHT
TZOFFSETFROM:-0500
TZOFFSETTO:-0400
TZNAME:EDT
DTSTART:20260308T070000
END:DAYLIGHT
BEGIN:STANDARD
TZOFFSETFROM:-0400
TZOFFSETTO:-0500
TZNAME:EST
DTSTART:20261101T060000
END:STANDARD
END:VTIMEZONE
BEGIN:VEVENT
DTSTART;TZID=America/New_York:20250401T090000
DTEND;TZID=America/New_York:20250401T120000
DTSTAMP:20260423T014438
CREATED:20241211T173120Z
LAST-MODIFIED:20241211T173120Z
UID:10002858-1743498000-1743508800@adirondackfolkschool.org
SUMMARY:Cobweb Chaser Broom
DESCRIPTION:A practical\, functional broom to chase away cobwebs. Broomcorn will be tied to a wooden handle. There will be a decorative section of plaiting (weaving) on the broom. Brooms will be finished with a leather handle for hanging.
URL:https://adirondackfolkschool.org/event/cobweb-chaser-broom/
LOCATION:Adirondack Folk School\, 51 Main St.\, Lake Luzerne\, NY\, 12846\, United States
CATEGORIES:Traditional Crafts
ATTACH;FMTTYPE=image/jpeg:https://adirondackfolkschool.org/wp-content/uploads/2024/11/Cobweb-Chaser-Karen-Koch.jpg
END:VEVENT
BEGIN:VEVENT
DTSTART;TZID=America/New_York:20250401T130000
DTEND;TZID=America/New_York:20250401T160000
DTSTAMP:20260423T014438
CREATED:20241211T184222Z
LAST-MODIFIED:20241211T184222Z
UID:10003004-1743512400-1743523200@adirondackfolkschool.org
SUMMARY:Whisk Broom
DESCRIPTION:A handled\, plaited handle broom that is totally functional for sweeping. Processed and colorfully dyed broomcorn will be used. The broom will be finished with a leather handle for hanging.
URL:https://adirondackfolkschool.org/event/whisk-broom/
LOCATION:Adirondack Folk School\, 51 Main St.\, Lake Luzerne\, NY\, 12846\, United States
CATEGORIES:Traditional Crafts
ATTACH;FMTTYPE=image/jpeg:https://adirondackfolkschool.org/wp-content/uploads/2024/11/Whisk-Broom-Karen-Koch-scaled.jpg
END:VEVENT
BEGIN:VEVENT
DTSTART;TZID=America/New_York:20250412T090000
DTEND;TZID=America/New_York:20250412T160000
DTSTAMP:20260423T014438
CREATED:20241211T172318Z
LAST-MODIFIED:20241211T172318Z
UID:10002840-1744448400-1744473600@adirondackfolkschool.org
SUMMARY:Beginning Stone Carving
DESCRIPTION:In this exciting new AFS class you will learn to carve letters in stone using a hammer and chisels. You’ll develop chiseling techniques\, learn about lettering design and proportion\, and gain insight into letter design under the expert guidance of Charles Austin\, stone mason and carver.
URL:https://adirondackfolkschool.org/event/beginning-stone-carving/
LOCATION:Adirondack Folk School\, 51 Main St.\, Lake Luzerne\, NY\, 12846\, United States
CATEGORIES:Traditional Crafts
ATTACH;FMTTYPE=image/jpeg:https://adirondackfolkschool.org/wp-content/uploads/2024/11/Stone-Carving-Charles-Austin-scaled.jpg
END:VEVENT
BEGIN:VEVENT
DTSTART;TZID=America/New_York:20250419T090000
DTEND;TZID=America/New_York:20250419T160000
DTSTAMP:20260423T014438
CREATED:20241211T171231Z
LAST-MODIFIED:20241211T171231Z
UID:10002743-1745053200-1745078400@adirondackfolkschool.org
SUMMARY:Sharpening and Honing Blades
DESCRIPTION:Sharpening and honing of blades is a mystery to most people these days although our ancestors knew the skill intimately. Technology of honing has definitely improved over the past 100 years and there are many technologies to choose from. Howard will demystify the sharpening process and you will leave the workshop with the skills to sharpen your own blades. Students should bring one or two blades to hone for the class.
URL:https://adirondackfolkschool.org/event/sharpening-and-honing-blades-7/
LOCATION:Adirondack Folk School\, 51 Main St.\, Lake Luzerne\, NY\, 12846\, United States
CATEGORIES:Traditional Crafts
ATTACH;FMTTYPE=image/jpeg:https://adirondackfolkschool.org/wp-content/uploads/2023/12/Sharpening-Honing-Howard-Schechter-scaled.jpg
END:VEVENT
END:VCALENDAR