BEGIN:VCALENDAR
VERSION:2.0
PRODID:-//Adirondack Folk School - ECPv6.15.12.2//NONSGML v1.0//EN
CALSCALE:GREGORIAN
METHOD:PUBLISH
X-WR-CALNAME:Adirondack Folk School
X-ORIGINAL-URL:https://adirondackfolkschool.org
X-WR-CALDESC:Events for Adirondack Folk School
REFRESH-INTERVAL;VALUE=DURATION:PT1H
X-Robots-Tag:noindex
X-PUBLISHED-TTL:PT1H
BEGIN:VTIMEZONE
TZID:America/New_York
BEGIN:DAYLIGHT
TZOFFSETFROM:-0500
TZOFFSETTO:-0400
TZNAME:EDT
DTSTART:20240310T070000
END:DAYLIGHT
BEGIN:STANDARD
TZOFFSETFROM:-0400
TZOFFSETTO:-0500
TZNAME:EST
DTSTART:20241103T060000
END:STANDARD
BEGIN:DAYLIGHT
TZOFFSETFROM:-0500
TZOFFSETTO:-0400
TZNAME:EDT
DTSTART:20250309T070000
END:DAYLIGHT
BEGIN:STANDARD
TZOFFSETFROM:-0400
TZOFFSETTO:-0500
TZNAME:EST
DTSTART:20251102T060000
END:STANDARD
BEGIN:DAYLIGHT
TZOFFSETFROM:-0500
TZOFFSETTO:-0400
TZNAME:EDT
DTSTART:20260308T070000
END:DAYLIGHT
BEGIN:STANDARD
TZOFFSETFROM:-0400
TZOFFSETTO:-0500
TZNAME:EST
DTSTART:20261101T060000
END:STANDARD
END:VTIMEZONE
BEGIN:VEVENT
DTSTART;TZID=America/New_York:20250604T100000
DTEND;TZID=America/New_York:20250604T150000
DTSTAMP:20260422T230524
CREATED:20241211T165155Z
LAST-MODIFIED:20250308T172931Z
UID:10002572-1749031200-1749049200@adirondackfolkschool.org
SUMMARY:Rainbow Splint Stool
DESCRIPTION:In this family-friendly class\, children ages 6 and up\, with the help of a parent\, will weave a rainbow of colored flat reed splint onto a hardwood stool. Stool and weaving materials will be provided.
URL:https://adirondackfolkschool.org/event/rainbow-splint-stool-3/
LOCATION:Adirondack Folk School\, 51 Main St.\, Lake Luzerne\, NY\, 12846\, United States
CATEGORIES:Traditional Crafts
ATTACH;FMTTYPE=image/jpeg:https://adirondackfolkschool.org/wp-content/uploads/2024/11/NEW-Rainbow-Stool-Christine-Hubbard-scaled.jpg
END:VEVENT
BEGIN:VEVENT
DTSTART;TZID=America/New_York:20250614T090000
DTEND;TZID=America/New_York:20250614T120000
DTSTAMP:20260422T230524
CREATED:20241211T171955Z
LAST-MODIFIED:20250214T203541Z
UID:10002827-1749891600-1749902400@adirondackfolkschool.org
SUMMARY:Calligraphy with Turkey Quills
DESCRIPTION:Many of our “Founding Feathers” were indeed from turkeys! We will learn how to cut and letter with our own turkey quill pen using ink made from black walnut husks. Black Letter (Gothic) and Roman letter styles will be demonstrated and students will have an opportunity to practice using simple homemade markers.
URL:https://adirondackfolkschool.org/event/calligraphy-with-turkey-quills-4/
LOCATION:Adirondack Folk School\, 51 Main St.\, Lake Luzerne\, NY\, 12846\, United States
CATEGORIES:Traditional Crafts
ATTACH;FMTTYPE=image/jpeg:https://adirondackfolkschool.org/wp-content/uploads/2024/11/feather-pen-into-inkwell-scaled.jpg
END:VEVENT
END:VCALENDAR