BEGIN:VCALENDAR
VERSION:2.0
PRODID:-//Adirondack Folk School - ECPv6.15.12.2//NONSGML v1.0//EN
CALSCALE:GREGORIAN
METHOD:PUBLISH
X-WR-CALNAME:Adirondack Folk School
X-ORIGINAL-URL:https://adirondackfolkschool.org
X-WR-CALDESC:Events for Adirondack Folk School
REFRESH-INTERVAL;VALUE=DURATION:PT1H
X-Robots-Tag:noindex
X-PUBLISHED-TTL:PT1H
BEGIN:VTIMEZONE
TZID:America/New_York
BEGIN:DAYLIGHT
TZOFFSETFROM:-0500
TZOFFSETTO:-0400
TZNAME:EDT
DTSTART:20240310T070000
END:DAYLIGHT
BEGIN:STANDARD
TZOFFSETFROM:-0400
TZOFFSETTO:-0500
TZNAME:EST
DTSTART:20241103T060000
END:STANDARD
BEGIN:DAYLIGHT
TZOFFSETFROM:-0500
TZOFFSETTO:-0400
TZNAME:EDT
DTSTART:20250309T070000
END:DAYLIGHT
BEGIN:STANDARD
TZOFFSETFROM:-0400
TZOFFSETTO:-0500
TZNAME:EST
DTSTART:20251102T060000
END:STANDARD
BEGIN:DAYLIGHT
TZOFFSETFROM:-0500
TZOFFSETTO:-0400
TZNAME:EDT
DTSTART:20260308T070000
END:DAYLIGHT
BEGIN:STANDARD
TZOFFSETFROM:-0400
TZOFFSETTO:-0500
TZNAME:EST
DTSTART:20261101T060000
END:STANDARD
END:VTIMEZONE
BEGIN:VEVENT
DTSTART;TZID=America/New_York:20250708T190000
DTEND;TZID=America/New_York:20250708T210000
DTSTAMP:20260422T213114
CREATED:20241211T171939Z
LAST-MODIFIED:20250214T203233Z
UID:10002821-1752001200-1752008400@adirondackfolkschool.org
SUMMARY:How to Tell a Story Part 1
DESCRIPTION:Everyone has a story to tell – what matters is how you tell it. In this four-part class\, students will focus on the basics of the personal narrative – a story told in first person that relates the story teller’s own experience. Students will develop a five-minute (750-word) story from start to finish through in-class exercises and take-home assignments. They will learn how to mine their memories for story ideas\, structure their thoughts for maximum effectiveness\, and find the details that will bring their stories to life. At the conclusion of the course\, students will be offered the opportunity to share their work in front of a live audience on a date to be determined by the class as a whole.
URL:https://adirondackfolkschool.org/event/how-to-tell-a-story-part-1-13/
LOCATION:Adirondack Folk School\, 51 Main St.\, Lake Luzerne\, NY\, 12846\, United States
CATEGORIES:Traditional Crafts
ATTACH;FMTTYPE=image/jpeg:https://adirondackfolkschool.org/wp-content/uploads/2024/11/hand-writing-notebook-close-up-scaled.jpg
END:VEVENT
BEGIN:VEVENT
DTSTART;TZID=America/New_York:20250715T190000
DTEND;TZID=America/New_York:20250715T210000
DTSTAMP:20260422T213114
CREATED:20241211T171940Z
LAST-MODIFIED:20250311T192733Z
UID:10002822-1752606000-1752613200@adirondackfolkschool.org
SUMMARY:How to Tell a Story Part 1
DESCRIPTION:Everyone has a story to tell – what matters is how you tell it. In this four-part class\, students will focus on the basics of the personal narrative – a story told in first person that relates the story teller’s own experience. Students will develop a five-minute (750-word) story from start to finish through in-class exercises and take-home assignments. They will learn how to mine their memories for story ideas\, structure their thoughts for maximum effectiveness\, and find the details that will bring their stories to life. At the conclusion of the course\, students will be offered the opportunity to share their work in front of a live audience on a date to be determined by the class as a whole.
URL:https://adirondackfolkschool.org/event/how-to-tell-a-story-part-1-14/
LOCATION:Adirondack Folk School\, 51 Main St.\, Lake Luzerne\, NY\, 12846\, United States
CATEGORIES:Traditional Crafts
ATTACH;FMTTYPE=image/jpeg:https://adirondackfolkschool.org/wp-content/uploads/2024/11/hand-writing-notebook-close-up-scaled.jpg
END:VEVENT
BEGIN:VEVENT
DTSTART;TZID=America/New_York:20250722T190000
DTEND;TZID=America/New_York:20250722T210000
DTSTAMP:20260422T213114
CREATED:20241211T171940Z
LAST-MODIFIED:20250214T203302Z
UID:10002823-1753210800-1753218000@adirondackfolkschool.org
SUMMARY:How to Tell a Story Part 1
DESCRIPTION:Everyone has a story to tell – what matters is how you tell it. In this four-part class\, students will focus on the basics of the personal narrative – a story told in first person that relates the story teller’s own experience. Students will develop a five-minute (750-word) story from start to finish through in-class exercises and take-home assignments. They will learn how to mine their memories for story ideas\, structure their thoughts for maximum effectiveness\, and find the details that will bring their stories to life. At the conclusion of the course\, students will be offered the opportunity to share their work in front of a live audience on a date to be determined by the class as a whole.
URL:https://adirondackfolkschool.org/event/how-to-tell-a-story-part-1-15/
LOCATION:Adirondack Folk School\, 51 Main St.\, Lake Luzerne\, NY\, 12846\, United States
CATEGORIES:Traditional Crafts
ATTACH;FMTTYPE=image/jpeg:https://adirondackfolkschool.org/wp-content/uploads/2024/11/hand-writing-notebook-close-up-scaled.jpg
END:VEVENT
BEGIN:VEVENT
DTSTART;TZID=America/New_York:20250729T190000
DTEND;TZID=America/New_York:20250729T210000
DTSTAMP:20260422T213114
CREATED:20241211T171954Z
LAST-MODIFIED:20250214T203316Z
UID:10002824-1753815600-1753822800@adirondackfolkschool.org
SUMMARY:How to Tell a Story Part 1
DESCRIPTION:Everyone has a story to tell – what matters is how you tell it. In this four-part class\, students will focus on the basics of the personal narrative – a story told in first person that relates the story teller’s own experience. Students will develop a five-minute (750-word) story from start to finish through in-class exercises and take-home assignments. They will learn how to mine their memories for story ideas\, structure their thoughts for maximum effectiveness\, and find the details that will bring their stories to life. At the conclusion of the course\, students will be offered the opportunity to share their work in front of a live audience on a date to be determined by the class as a whole.
URL:https://adirondackfolkschool.org/event/how-to-tell-a-story-part-1-16/
LOCATION:Adirondack Folk School\, 51 Main St.\, Lake Luzerne\, NY\, 12846\, United States
CATEGORIES:Traditional Crafts
ATTACH;FMTTYPE=image/jpeg:https://adirondackfolkschool.org/wp-content/uploads/2024/11/hand-writing-notebook-close-up-scaled.jpg
END:VEVENT
END:VCALENDAR