BEGIN:VCALENDAR
VERSION:2.0
PRODID:-//Adirondack Folk School - ECPv6.15.12.2//NONSGML v1.0//EN
CALSCALE:GREGORIAN
METHOD:PUBLISH
X-WR-CALNAME:Adirondack Folk School
X-ORIGINAL-URL:https://adirondackfolkschool.org
X-WR-CALDESC:Events for Adirondack Folk School
REFRESH-INTERVAL;VALUE=DURATION:PT1H
X-Robots-Tag:noindex
X-PUBLISHED-TTL:PT1H
BEGIN:VTIMEZONE
TZID:America/New_York
BEGIN:DAYLIGHT
TZOFFSETFROM:-0500
TZOFFSETTO:-0400
TZNAME:EDT
DTSTART:20240310T070000
END:DAYLIGHT
BEGIN:STANDARD
TZOFFSETFROM:-0400
TZOFFSETTO:-0500
TZNAME:EST
DTSTART:20241103T060000
END:STANDARD
BEGIN:DAYLIGHT
TZOFFSETFROM:-0500
TZOFFSETTO:-0400
TZNAME:EDT
DTSTART:20250309T070000
END:DAYLIGHT
BEGIN:STANDARD
TZOFFSETFROM:-0400
TZOFFSETTO:-0500
TZNAME:EST
DTSTART:20251102T060000
END:STANDARD
BEGIN:DAYLIGHT
TZOFFSETFROM:-0500
TZOFFSETTO:-0400
TZNAME:EDT
DTSTART:20260308T070000
END:DAYLIGHT
BEGIN:STANDARD
TZOFFSETFROM:-0400
TZOFFSETTO:-0500
TZNAME:EST
DTSTART:20261101T060000
END:STANDARD
END:VTIMEZONE
BEGIN:VEVENT
DTSTART;TZID=America/New_York:20250911T090000
DTEND;TZID=America/New_York:20250911T150000
DTSTAMP:20260422T184327
CREATED:20241211T171330Z
LAST-MODIFIED:20241211T171330Z
UID:10002762-1757581200-1757602800@adirondackfolkschool.org
SUMMARY:Learn How to Create Dry-Laid Stone Walls
DESCRIPTION:If you’ve ever admired the beautiful stone walls you’ve seen in the countryside and wondered how they were made\, this class is for you! In this two-day class you will learn the basic techniques for creating dry-laid stone walls from an accomplished stone mason. Both retaining and freestanding walls will be covered\, along with preparing the base and sub-base\, stone selection and other topics. This hands-on workshop is a must for anyone who wants to build or repair stone walls for their own home.
URL:https://adirondackfolkschool.org/event/learn-how-to-create-dry-laid-stone-walls-7/
LOCATION:Adirondack Folk School\, 51 Main St.\, Lake Luzerne\, NY\, 12846\, United States
CATEGORIES:Traditional Crafts
ATTACH;FMTTYPE=image/jpeg:https://adirondackfolkschool.org/wp-content/uploads/2022/01/Stone-Walls-Orsini-scaled.jpg
END:VEVENT
BEGIN:VEVENT
DTSTART;TZID=America/New_York:20250912T090000
DTEND;TZID=America/New_York:20250912T150000
DTSTAMP:20260422T184327
CREATED:20241211T171331Z
LAST-MODIFIED:20241211T171331Z
UID:10002763-1757667600-1757689200@adirondackfolkschool.org
SUMMARY:Learn How to Create Dry-Laid Stone Walls
DESCRIPTION:If you’ve ever admired the beautiful stone walls you’ve seen in the countryside and wondered how they were made\, this class is for you! In this two-day class you will learn the basic techniques for creating dry-laid stone walls from an accomplished stone mason. Both retaining and freestanding walls will be covered\, along with preparing the base and sub-base\, stone selection and other topics. This hands-on workshop is a must for anyone who wants to build or repair stone walls for their own home.
URL:https://adirondackfolkschool.org/event/learn-how-to-create-dry-laid-stone-walls-8/
LOCATION:Adirondack Folk School\, 51 Main St.\, Lake Luzerne\, NY\, 12846\, United States
CATEGORIES:Traditional Crafts
ATTACH;FMTTYPE=image/jpeg:https://adirondackfolkschool.org/wp-content/uploads/2022/01/Stone-Walls-Orsini-scaled.jpg
END:VEVENT
BEGIN:VEVENT
DTSTART;TZID=America/New_York:20250926T090000
DTEND;TZID=America/New_York:20250926T160000
DTSTAMP:20260422T184327
CREATED:20241211T165353Z
LAST-MODIFIED:20241211T165353Z
UID:10002574-1758877200-1758902400@adirondackfolkschool.org
SUMMARY:Chair Caning
DESCRIPTION:Spend a few days learning how to cane your own chair during which you’ll learn how to weave the traditional 7-step caning pattern. Bring along a chair in good condition in need of a new caned seat. Ideally\, the chair seat will be square or rectangular in shape and have fewer than 85 holes drilled into the seat frame. Any repairs and refinishing should be completed before the class begins. Please bring a chair in sound condition\, with the old cane removed\, if possible.
URL:https://adirondackfolkschool.org/event/chair-caning-7/
LOCATION:Adirondack Folk School\, 51 Main St.\, Lake Luzerne\, NY\, 12846\, United States
CATEGORIES:Traditional Crafts
ATTACH;FMTTYPE=image/jpeg:https://adirondackfolkschool.org/wp-content/uploads/2024/11/NEW-Chair-Caning-Christine-Hubbard-scaled.jpg
END:VEVENT
BEGIN:VEVENT
DTSTART;TZID=America/New_York:20250927T090000
DTEND;TZID=America/New_York:20250927T160000
DTSTAMP:20260422T184327
CREATED:20241211T165354Z
LAST-MODIFIED:20241211T165354Z
UID:10002575-1758963600-1758988800@adirondackfolkschool.org
SUMMARY:Chair Caning
DESCRIPTION:Spend a few days learning how to cane your own chair during which you’ll learn how to weave the traditional 7-step caning pattern. Bring along a chair in good condition in need of a new caned seat. Ideally\, the chair seat will be square or rectangular in shape and have fewer than 85 holes drilled into the seat frame. Any repairs and refinishing should be completed before the class begins. Please bring a chair in sound condition\, with the old cane removed\, if possible.
URL:https://adirondackfolkschool.org/event/chair-caning-8/
LOCATION:Adirondack Folk School\, 51 Main St.\, Lake Luzerne\, NY\, 12846\, United States
CATEGORIES:Traditional Crafts
ATTACH;FMTTYPE=image/jpeg:https://adirondackfolkschool.org/wp-content/uploads/2024/11/NEW-Chair-Caning-Christine-Hubbard-scaled.jpg
END:VEVENT
BEGIN:VEVENT
DTSTART;TZID=America/New_York:20250928T090000
DTEND;TZID=America/New_York:20250928T160000
DTSTAMP:20260422T184327
CREATED:20241211T165355Z
LAST-MODIFIED:20241211T165355Z
UID:10002576-1759050000-1759075200@adirondackfolkschool.org
SUMMARY:Chair Caning
DESCRIPTION:Spend a few days learning how to cane your own chair during which you’ll learn how to weave the traditional 7-step caning pattern. Bring along a chair in good condition in need of a new caned seat. Ideally\, the chair seat will be square or rectangular in shape and have fewer than 85 holes drilled into the seat frame. Any repairs and refinishing should be completed before the class begins. Please bring a chair in sound condition\, with the old cane removed\, if possible.
URL:https://adirondackfolkschool.org/event/chair-caning-9/
LOCATION:Adirondack Folk School\, 51 Main St.\, Lake Luzerne\, NY\, 12846\, United States
CATEGORIES:Traditional Crafts
ATTACH;FMTTYPE=image/jpeg:https://adirondackfolkschool.org/wp-content/uploads/2024/11/NEW-Chair-Caning-Christine-Hubbard-scaled.jpg
END:VEVENT
END:VCALENDAR