BEGIN:VCALENDAR
VERSION:2.0
PRODID:-//Adirondack Folk School - ECPv6.15.12.2//NONSGML v1.0//EN
CALSCALE:GREGORIAN
METHOD:PUBLISH
X-ORIGINAL-URL:https://adirondackfolkschool.org
X-WR-CALDESC:Events for Adirondack Folk School
REFRESH-INTERVAL;VALUE=DURATION:PT1H
X-Robots-Tag:noindex
X-PUBLISHED-TTL:PT1H
BEGIN:VTIMEZONE
TZID:America/New_York
BEGIN:DAYLIGHT
TZOFFSETFROM:-0500
TZOFFSETTO:-0400
TZNAME:EDT
DTSTART:20210314T070000
END:DAYLIGHT
BEGIN:STANDARD
TZOFFSETFROM:-0400
TZOFFSETTO:-0500
TZNAME:EST
DTSTART:20211107T060000
END:STANDARD
BEGIN:DAYLIGHT
TZOFFSETFROM:-0500
TZOFFSETTO:-0400
TZNAME:EDT
DTSTART:20220313T070000
END:DAYLIGHT
BEGIN:STANDARD
TZOFFSETFROM:-0400
TZOFFSETTO:-0500
TZNAME:EST
DTSTART:20221106T060000
END:STANDARD
BEGIN:DAYLIGHT
TZOFFSETFROM:-0500
TZOFFSETTO:-0400
TZNAME:EDT
DTSTART:20230312T070000
END:DAYLIGHT
BEGIN:STANDARD
TZOFFSETFROM:-0400
TZOFFSETTO:-0500
TZNAME:EST
DTSTART:20231105T060000
END:STANDARD
END:VTIMEZONE
BEGIN:VEVENT
DTSTART;TZID=America/New_York:20220405T090000
DTEND;TZID=America/New_York:20220405T170000
DTSTAMP:20260423T051920
CREATED:20220217T234216Z
LAST-MODIFIED:20220217T234216Z
UID:10001502-1649149200-1649178000@adirondackfolkschool.org
SUMMARY:Block Plane
DESCRIPTION:Open a new chapter in your wood working journey by making your own hand tool. Shape the wood body\, harden and temper steel for the blade and make your first shavings all in one day!
URL:https://adirondackfolkschool.org/event/block-plane/
LOCATION:Adirondack Folk School\, 51 Main St.\, Lake Luzerne\, NY\, 12846\, United States
CATEGORIES:Woodworking
ATTACH;FMTTYPE=image/jpeg:https://adirondackfolkschool.org/wp-content/uploads/2022/01/NEW-PIC-Block-Plane-Pintar-scaled.jpg
END:VEVENT
BEGIN:VEVENT
DTSTART;TZID=America/New_York:20220406T090000
DTEND;TZID=America/New_York:20220406T160000
DTSTAMP:20260423T051920
CREATED:20220202T170511Z
LAST-MODIFIED:20220202T170511Z
UID:10001385-1649235600-1649260800@adirondackfolkschool.org
SUMMARY:Shaker Carriers
DESCRIPTION:This two-day workshop yields time enough to explore three styles of Shaker carriers; Fixed Handled\, Swinging Handled and Divided carriers. Construction steps and hardware application will be demonstrated\, and all participants will put their hands-to-work on their own carriers. These projects have a firm place in Shaker history as they were a very popular offering to “The World’s People” by Shaker craftsmen.
URL:https://adirondackfolkschool.org/event/shaker-carriers/
LOCATION:Adirondack Folk School\, 51 Main St.\, Lake Luzerne\, NY\, 12846\, United States
CATEGORIES:Woodworking
ATTACH;FMTTYPE=image/jpeg:https://adirondackfolkschool.org/wp-content/uploads/2022/01/Shaker-Carriers-3-Pintar.jpg
END:VEVENT
BEGIN:VEVENT
DTSTART;TZID=America/New_York:20220407T090000
DTEND;TZID=America/New_York:20220407T160000
DTSTAMP:20260423T051920
CREATED:20220202T170511Z
LAST-MODIFIED:20220202T170511Z
UID:10001386-1649322000-1649347200@adirondackfolkschool.org
SUMMARY:Shaker Carriers
DESCRIPTION:This two-day workshop yields time enough to explore three styles of Shaker carriers; Fixed Handled\, Swinging Handled and Divided carriers. Construction steps and hardware application will be demonstrated\, and all participants will put their hands-to-work on their own carriers. These projects have a firm place in Shaker history as they were a very popular offering to “The World’s People” by Shaker craftsmen.
URL:https://adirondackfolkschool.org/event/shaker-carriers-2/
LOCATION:Adirondack Folk School\, 51 Main St.\, Lake Luzerne\, NY\, 12846\, United States
CATEGORIES:Woodworking
ATTACH;FMTTYPE=image/jpeg:https://adirondackfolkschool.org/wp-content/uploads/2022/01/Shaker-Carriers-3-Pintar.jpg
END:VEVENT
BEGIN:VEVENT
DTSTART;TZID=America/New_York:20220408T090000
DTEND;TZID=America/New_York:20220408T160000
DTSTAMP:20260423T051920
CREATED:20220202T170442Z
LAST-MODIFIED:20220202T170442Z
UID:10001375-1649408400-1649433600@adirondackfolkschool.org
SUMMARY:Shaker Oval Nesting Boxes
DESCRIPTION:One of the most iconic items of Shaker woodworking\, nesting oval boxes share elegance\, simplicity and functionality equally. Using carefully prepared thin strips of wood each participant will carve the “swallowtails” of “fingers” on one end before soaking them in a hot water bath to soften for bending. Copper tacks are installed to hold the oval hoop together before top and bottom boards are fit and held by wooden pegs. Each student will construct five nesting oval boxes from cherry wood in this two-day workshop.
URL:https://adirondackfolkschool.org/event/shaker-oval-nesting-boxes/
LOCATION:Adirondack Folk School\, 51 Main St.\, Lake Luzerne\, NY\, 12846\, United States
CATEGORIES:Woodworking
ATTACH;FMTTYPE=image/jpeg:https://adirondackfolkschool.org/wp-content/uploads/2022/01/NEW-PIC_CLASS-NAME-Shaker-Oval-Nesting-Boxes-Pintar.jpg
END:VEVENT
BEGIN:VEVENT
DTSTART;TZID=America/New_York:20220409T090000
DTEND;TZID=America/New_York:20220409T160000
DTSTAMP:20260423T051920
CREATED:20220202T170442Z
LAST-MODIFIED:20220202T170442Z
UID:10001377-1649494800-1649520000@adirondackfolkschool.org
SUMMARY:Shaker Oval Nesting Boxes
DESCRIPTION:One of the most iconic items of Shaker woodworking\, nesting oval boxes share elegance\, simplicity and functionality equally. Using carefully prepared thin strips of wood each participant will carve the “swallowtails” of “fingers” on one end before soaking them in a hot water bath to soften for bending. Copper tacks are installed to hold the oval hoop together before top and bottom boards are fit and held by wooden pegs. Each student will construct five nesting oval boxes from cherry wood in this two-day workshop.
URL:https://adirondackfolkschool.org/event/shaker-oval-nesting-boxes-2/
LOCATION:Adirondack Folk School\, 51 Main St.\, Lake Luzerne\, NY\, 12846\, United States
CATEGORIES:Woodworking
ATTACH;FMTTYPE=image/jpeg:https://adirondackfolkschool.org/wp-content/uploads/2022/01/NEW-PIC_CLASS-NAME-Shaker-Oval-Nesting-Boxes-Pintar.jpg
END:VEVENT
BEGIN:VEVENT
DTSTART;TZID=America/New_York:20220421T090000
DTEND;TZID=America/New_York:20220421T160000
DTSTAMP:20260423T051920
CREATED:20220217T234830Z
LAST-MODIFIED:20220217T234830Z
UID:10001639-1650531600-1650556800@adirondackfolkschool.org
SUMMARY:Introduction to Pyrography
DESCRIPTION:In this class you will be introduced to the wonderful art of pyrography (wood burning). You will learn all the basics of wood burning\, from the different tips of your wood burning tool\, to how to transfer your design onto the wood.
URL:https://adirondackfolkschool.org/event/introduction-to-pyrography-2/
LOCATION:Adirondack Folk School\, 51 Main St.\, Lake Luzerne\, NY\, 12846\, United States
CATEGORIES:Woodworking
ATTACH;FMTTYPE=image/jpeg:https://adirondackfolkschool.org/wp-content/uploads/2022/01/Intro-to-Pyrography-Collier.jpg
END:VEVENT
BEGIN:VEVENT
DTSTART;TZID=America/New_York:20220423T090000
DTEND;TZID=America/New_York:20220423T160000
DTSTAMP:20260423T051920
CREATED:20220202T170057Z
LAST-MODIFIED:20220202T170057Z
UID:10001286-1650704400-1650729600@adirondackfolkschool.org
SUMMARY:Walking Stick with Inlaid Compass
DESCRIPTION:Take your next hike or walk around the corner with a unique hand-crafted walking stick. Frank will guide you through the process of taking a piece of ironwood and transforming it into a walking stick that will last a lifetime. The inlaid compass will help ensure you don’t lose your way on the trail! Makes a wonderful gift for the hikers in your life!
URL:https://adirondackfolkschool.org/event/walking-stick-with-inlaid-compass/
LOCATION:Adirondack Folk School\, 51 Main St.\, Lake Luzerne\, NY\, 12846\, United States
CATEGORIES:Woodworking
ATTACH;FMTTYPE=image/jpeg:https://adirondackfolkschool.org/wp-content/uploads/2022/01/Walking-Stick-with-Compass-Lagace.jpg
END:VEVENT
END:VCALENDAR