BEGIN:VCALENDAR
VERSION:2.0
PRODID:-//Adirondack Folk School - ECPv6.15.12.2//NONSGML v1.0//EN
CALSCALE:GREGORIAN
METHOD:PUBLISH
X-ORIGINAL-URL:https://adirondackfolkschool.org
X-WR-CALDESC:Events for Adirondack Folk School
REFRESH-INTERVAL;VALUE=DURATION:PT1H
X-Robots-Tag:noindex
X-PUBLISHED-TTL:PT1H
BEGIN:VTIMEZONE
TZID:America/New_York
BEGIN:DAYLIGHT
TZOFFSETFROM:-0500
TZOFFSETTO:-0400
TZNAME:EDT
DTSTART:20210314T070000
END:DAYLIGHT
BEGIN:STANDARD
TZOFFSETFROM:-0400
TZOFFSETTO:-0500
TZNAME:EST
DTSTART:20211107T060000
END:STANDARD
BEGIN:DAYLIGHT
TZOFFSETFROM:-0500
TZOFFSETTO:-0400
TZNAME:EDT
DTSTART:20220313T070000
END:DAYLIGHT
BEGIN:STANDARD
TZOFFSETFROM:-0400
TZOFFSETTO:-0500
TZNAME:EST
DTSTART:20221106T060000
END:STANDARD
BEGIN:DAYLIGHT
TZOFFSETFROM:-0500
TZOFFSETTO:-0400
TZNAME:EDT
DTSTART:20230312T070000
END:DAYLIGHT
BEGIN:STANDARD
TZOFFSETFROM:-0400
TZOFFSETTO:-0500
TZNAME:EST
DTSTART:20231105T060000
END:STANDARD
END:VTIMEZONE
BEGIN:VEVENT
DTSTART;TZID=America/New_York:20220506T090000
DTEND;TZID=America/New_York:20220506T160000
DTSTAMP:20260423T035236
CREATED:20220202T170212Z
LAST-MODIFIED:20220202T170212Z
UID:10001318-1651827600-1651852800@adirondackfolkschool.org
SUMMARY:Sagamore Chair
DESCRIPTION:Over 100 years ago\, the famous Sagamore Hotel was built as an exclusive resort on Lake George in the Adirondacks. Its luxurious and spacious accommodations attracted the millionaires of the day\, and the hotel continues to bring people from around the world to its spectacular spot on the lake. Come create a bit of history as you build a Sagamore chair using patterns struck from one of the original chairs; all the forms and patterns necessary are provided. Learn how to steam bend local Adirondack Red Oak into the graceful forms of this one-of-a-kind chair that is both beautiful and comfortable. Working with a variety of hand tools\, you will bend and fasten the slats\, laminate frame elements\, join everything together and sand\, finish and complete a beautiful chair ready for a prominent spot in your camp or home. Some prior woodworking experience is helpful\, but beginners are welcome too.
URL:https://adirondackfolkschool.org/event/sagamore-chair-5/
LOCATION:NY
CATEGORIES:Woodworking
ATTACH;FMTTYPE=image/jpeg:https://adirondackfolkschool.org/wp-content/uploads/2022/01/Sagamore-Chair-Benjamin.jpeg
END:VEVENT
BEGIN:VEVENT
DTSTART;TZID=America/New_York:20220506T170000
DTEND;TZID=America/New_York:20220506T210000
DTSTAMP:20260423T035236
CREATED:20220217T234515Z
LAST-MODIFIED:20220217T234515Z
UID:10001570-1651856400-1651870800@adirondackfolkschool.org
SUMMARY:Create Your Own Hardwood Cutting Board
DESCRIPTION:Come create a beautiful 12-18″ hardwood cutting board during two\, half-day sessions. The class will discuss the types of wood being used\, such as sapele\, purple heart\, African cherry and hard maple. The wood will be cut to size on a table saw. Then\, using a joiner\, students will make sure all pieces are the same size before gluing the various pieces together and allowing them to dry overnight. On the second day\, the class will use planers to ensure that all boards are level and the same thickness. Students will then use a router to create a well and handles. Finally\, the boards will be sanded.
URL:https://adirondackfolkschool.org/event/create-your-own-hardwood-cutting-board-5/
LOCATION:Adirondack Folk School\, 51 Main St.\, Lake Luzerne\, NY\, 12846\, United States
CATEGORIES:Woodworking
END:VEVENT
BEGIN:VEVENT
DTSTART;TZID=America/New_York:20220507T090000
DTEND;TZID=America/New_York:20220507T130000
DTSTAMP:20260423T035236
CREATED:20220217T234515Z
LAST-MODIFIED:20220217T234515Z
UID:10001571-1651914000-1651928400@adirondackfolkschool.org
SUMMARY:Create Your Own Hardwood Cutting Board
DESCRIPTION:Come create a beautiful 12-18″ hardwood cutting board during two\, half-day sessions. The class will discuss the types of wood being used\, such as sapele\, purple heart\, African cherry and hard maple. The wood will be cut to size on a table saw. Then\, using a joiner\, students will make sure all pieces are the same size before gluing the various pieces together and allowing them to dry overnight. On the second day\, the class will use planers to ensure that all boards are level and the same thickness. Students will then use a router to create a well and handles. Finally\, the boards will be sanded.
URL:https://adirondackfolkschool.org/event/create-your-own-hardwood-cutting-board-6/
LOCATION:Adirondack Folk School\, 51 Main St.\, Lake Luzerne\, NY\, 12846\, United States
CATEGORIES:Woodworking
END:VEVENT
BEGIN:VEVENT
DTSTART;TZID=America/New_York:20220507T090000
DTEND;TZID=America/New_York:20220507T160000
DTSTAMP:20260423T035236
CREATED:20220202T170227Z
LAST-MODIFIED:20220202T170227Z
UID:10001319-1651914000-1651939200@adirondackfolkschool.org
SUMMARY:Sagamore Chair
DESCRIPTION:Over 100 years ago\, the famous Sagamore Hotel was built as an exclusive resort on Lake George in the Adirondacks. Its luxurious and spacious accommodations attracted the millionaires of the day\, and the hotel continues to bring people from around the world to its spectacular spot on the lake. Come create a bit of history as you build a Sagamore chair using patterns struck from one of the original chairs; all the forms and patterns necessary are provided. Learn how to steam bend local Adirondack Red Oak into the graceful forms of this one-of-a-kind chair that is both beautiful and comfortable. Working with a variety of hand tools\, you will bend and fasten the slats\, laminate frame elements\, join everything together and sand\, finish and complete a beautiful chair ready for a prominent spot in your camp or home. Some prior woodworking experience is helpful\, but beginners are welcome too.
URL:https://adirondackfolkschool.org/event/sagamore-chair-6/
LOCATION:NY
CATEGORIES:Woodworking
ATTACH;FMTTYPE=image/jpeg:https://adirondackfolkschool.org/wp-content/uploads/2022/01/Sagamore-Chair-Benjamin.jpeg
END:VEVENT
BEGIN:VEVENT
DTSTART;TZID=America/New_York:20220508T090000
DTEND;TZID=America/New_York:20220508T160000
DTSTAMP:20260423T035236
CREATED:20220202T170227Z
LAST-MODIFIED:20220202T170227Z
UID:10001320-1652000400-1652025600@adirondackfolkschool.org
SUMMARY:Sagamore Chair
DESCRIPTION:Over 100 years ago\, the famous Sagamore Hotel was built as an exclusive resort on Lake George in the Adirondacks. Its luxurious and spacious accommodations attracted the millionaires of the day\, and the hotel continues to bring people from around the world to its spectacular spot on the lake. Come create a bit of history as you build a Sagamore chair using patterns struck from one of the original chairs; all the forms and patterns necessary are provided. Learn how to steam bend local Adirondack Red Oak into the graceful forms of this one-of-a-kind chair that is both beautiful and comfortable. Working with a variety of hand tools\, you will bend and fasten the slats\, laminate frame elements\, join everything together and sand\, finish and complete a beautiful chair ready for a prominent spot in your camp or home. Some prior woodworking experience is helpful\, but beginners are welcome too.
URL:https://adirondackfolkschool.org/event/sagamore-chair-7/
LOCATION:NY
CATEGORIES:Woodworking
ATTACH;FMTTYPE=image/jpeg:https://adirondackfolkschool.org/wp-content/uploads/2022/01/Sagamore-Chair-Benjamin.jpeg
END:VEVENT
BEGIN:VEVENT
DTSTART;TZID=America/New_York:20220509T090000
DTEND;TZID=America/New_York:20220509T160000
DTSTAMP:20260423T035236
CREATED:20220202T170227Z
LAST-MODIFIED:20220202T170227Z
UID:10001321-1652086800-1652112000@adirondackfolkschool.org
SUMMARY:Sagamore Chair
DESCRIPTION:Over 100 years ago\, the famous Sagamore Hotel was built as an exclusive resort on Lake George in the Adirondacks. Its luxurious and spacious accommodations attracted the millionaires of the day\, and the hotel continues to bring people from around the world to its spectacular spot on the lake. Come create a bit of history as you build a Sagamore chair using patterns struck from one of the original chairs; all the forms and patterns necessary are provided. Learn how to steam bend local Adirondack Red Oak into the graceful forms of this one-of-a-kind chair that is both beautiful and comfortable. Working with a variety of hand tools\, you will bend and fasten the slats\, laminate frame elements\, join everything together and sand\, finish and complete a beautiful chair ready for a prominent spot in your camp or home. Some prior woodworking experience is helpful\, but beginners are welcome too.
URL:https://adirondackfolkschool.org/event/sagamore-chair-8/
LOCATION:NY
CATEGORIES:Woodworking
ATTACH;FMTTYPE=image/jpeg:https://adirondackfolkschool.org/wp-content/uploads/2022/01/Sagamore-Chair-Benjamin.jpeg
END:VEVENT
BEGIN:VEVENT
DTSTART;TZID=America/New_York:20220514T090000
DTEND;TZID=America/New_York:20220514T170000
DTSTAMP:20260423T035237
CREATED:20220217T234516Z
LAST-MODIFIED:20220217T234516Z
UID:10001335-1652518800-1652547600@adirondackfolkschool.org
SUMMARY:Dovetailed Shaker Candle Box
DESCRIPTION:In this class\, students will hand craft a beautiful pine wood box reminiscent of the Shaker craftwork. Students will begin with wood already prepared and cut to finished sizes for the project. They will work on the following skills: cutting and joining the sides/dovetail joints\, gluing/planing and sanding the sides\, shaping the lid and base\, attaching the hardware (hinges)\, and finishing techniques.
URL:https://adirondackfolkschool.org/event/dovetailed-shaker-candle-box/
LOCATION:Adirondack Folk School\, 51 Main St.\, Lake Luzerne\, NY\, 12846\, United States
CATEGORIES:Woodworking
ATTACH;FMTTYPE=image/jpeg:https://adirondackfolkschool.org/wp-content/uploads/2022/01/Dovetail-Shaker-Candle-Box-Macica.jpg
END:VEVENT
BEGIN:VEVENT
DTSTART;TZID=America/New_York:20220515T090000
DTEND;TZID=America/New_York:20220515T170000
DTSTAMP:20260423T035237
CREATED:20220217T234529Z
LAST-MODIFIED:20220217T234529Z
UID:10001337-1652605200-1652634000@adirondackfolkschool.org
SUMMARY:Dovetailed Shaker Candle Box
DESCRIPTION:In this class\, students will hand craft a beautiful pine wood box reminiscent of the Shaker craftwork. Students will begin with wood already prepared and cut to finished sizes for the project. They will work on the following skills: cutting and joining the sides/dovetail joints\, gluing/planing and sanding the sides\, shaping the lid and base\, attaching the hardware (hinges)\, and finishing techniques.
URL:https://adirondackfolkschool.org/event/dovetailed-shaker-candle-box-2/
LOCATION:Adirondack Folk School\, 51 Main St.\, Lake Luzerne\, NY\, 12846\, United States
CATEGORIES:Woodworking
ATTACH;FMTTYPE=image/jpeg:https://adirondackfolkschool.org/wp-content/uploads/2022/01/Dovetail-Shaker-Candle-Box-Macica.jpg
END:VEVENT
END:VCALENDAR