BEGIN:VCALENDAR
VERSION:2.0
PRODID:-//Adirondack Folk School - ECPv6.15.12.2//NONSGML v1.0//EN
CALSCALE:GREGORIAN
METHOD:PUBLISH
X-ORIGINAL-URL:https://adirondackfolkschool.org
X-WR-CALDESC:Events for Adirondack Folk School
REFRESH-INTERVAL;VALUE=DURATION:PT1H
X-Robots-Tag:noindex
X-PUBLISHED-TTL:PT1H
BEGIN:VTIMEZONE
TZID:America/New_York
BEGIN:DAYLIGHT
TZOFFSETFROM:-0500
TZOFFSETTO:-0400
TZNAME:EDT
DTSTART:20210314T070000
END:DAYLIGHT
BEGIN:STANDARD
TZOFFSETFROM:-0400
TZOFFSETTO:-0500
TZNAME:EST
DTSTART:20211107T060000
END:STANDARD
BEGIN:DAYLIGHT
TZOFFSETFROM:-0500
TZOFFSETTO:-0400
TZNAME:EDT
DTSTART:20220313T070000
END:DAYLIGHT
BEGIN:STANDARD
TZOFFSETFROM:-0400
TZOFFSETTO:-0500
TZNAME:EST
DTSTART:20221106T060000
END:STANDARD
BEGIN:DAYLIGHT
TZOFFSETFROM:-0500
TZOFFSETTO:-0400
TZNAME:EDT
DTSTART:20230312T070000
END:DAYLIGHT
BEGIN:STANDARD
TZOFFSETFROM:-0400
TZOFFSETTO:-0500
TZNAME:EST
DTSTART:20231105T060000
END:STANDARD
END:VTIMEZONE
BEGIN:VEVENT
DTSTART;TZID=America/New_York:20220810T090000
DTEND;TZID=America/New_York:20220810T160000
DTSTAMP:20260422T230633
CREATED:20220202T165456Z
LAST-MODIFIED:20220202T165456Z
UID:10001171-1660122000-1660147200@adirondackfolkschool.org
SUMMARY:Adirondack Dulcimer Making
DESCRIPTION:Drawing from over 30 years of fine instrument making\, Martin Macica will share his knowledge of the principles and practice of dulcimer making\, leading participants through the process of making their own dulcimer from scratch using hand tools. This intensive course will cover every aspect of dulcimer making\, including the carving of the scroll. Participants will leave with a working knowledge of dulcimer making\, and a handcrafted instrument ready for a lifetime of making music.
URL:https://adirondackfolkschool.org/event/adirondack-dulcimer-making/
LOCATION:Adirondack Folk School\, 51 Main St.\, Lake Luzerne\, NY\, 12846\, United States
CATEGORIES:Woodworking
ATTACH;FMTTYPE=image/jpeg:https://adirondackfolkschool.org/wp-content/uploads/2022/01/Dulcimer-2-scaled.jpg
END:VEVENT
BEGIN:VEVENT
DTSTART;TZID=America/New_York:20220811T090000
DTEND;TZID=America/New_York:20220811T170000
DTSTAMP:20260422T230633
CREATED:20220202T165456Z
LAST-MODIFIED:20220202T165456Z
UID:10001172-1660208400-1660237200@adirondackfolkschool.org
SUMMARY:Adirondack Dulcimer Making
DESCRIPTION:Drawing from over 30 years of fine instrument making\, Martin Macica will share his knowledge of the principles and practice of dulcimer making\, leading participants through the process of making their own dulcimer from scratch using hand tools. This intensive course will cover every aspect of dulcimer making\, including the carving of the scroll. Participants will leave with a working knowledge of dulcimer making\, and a handcrafted instrument ready for a lifetime of making music.
URL:https://adirondackfolkschool.org/event/adirondack-dulcimer-making-2/
LOCATION:Adirondack Folk School\, 51 Main St.\, Lake Luzerne\, NY\, 12846\, United States
CATEGORIES:Woodworking
ATTACH;FMTTYPE=image/jpeg:https://adirondackfolkschool.org/wp-content/uploads/2022/01/Dulcimer-2-scaled.jpg
END:VEVENT
BEGIN:VEVENT
DTSTART;TZID=America/New_York:20220812T090000
DTEND;TZID=America/New_York:20220812T160000
DTSTAMP:20260422T230633
CREATED:20220202T170227Z
LAST-MODIFIED:20220202T170227Z
UID:10001322-1660294800-1660320000@adirondackfolkschool.org
SUMMARY:Sagamore Chair
DESCRIPTION:Over 100 years ago\, the famous Sagamore Hotel was built as an exclusive resort on Lake George in the Adirondacks. Its luxurious and spacious accommodations attracted the millionaires of the day\, and the hotel continues to bring people from around the world to its spectacular spot on the lake. Come create a bit of history as you build a Sagamore chair using patterns struck from one of the original chairs; all the forms and patterns necessary are provided. Learn how to steam bend local Adirondack Red Oak into the graceful forms of this one-of-a-kind chair that is both beautiful and comfortable. Working with a variety of hand tools\, you will bend and fasten the slats\, laminate frame elements\, join everything together and sand\, finish and complete a beautiful chair ready for a prominent spot in your camp or home. Some prior woodworking experience is helpful\, but beginners are welcome too.
URL:https://adirondackfolkschool.org/event/sagamore-chair-9/
LOCATION:NY
CATEGORIES:Woodworking
ATTACH;FMTTYPE=image/jpeg:https://adirondackfolkschool.org/wp-content/uploads/2022/01/Sagamore-Chair-Benjamin.jpeg
END:VEVENT
BEGIN:VEVENT
DTSTART;TZID=America/New_York:20220812T090000
DTEND;TZID=America/New_York:20220812T180000
DTSTAMP:20260422T230633
CREATED:20220202T165456Z
LAST-MODIFIED:20220202T165456Z
UID:10001174-1660294800-1660327200@adirondackfolkschool.org
SUMMARY:Adirondack Dulcimer Making
DESCRIPTION:Drawing from over 30 years of fine instrument making\, Martin Macica will share his knowledge of the principles and practice of dulcimer making\, leading participants through the process of making their own dulcimer from scratch using hand tools. This intensive course will cover every aspect of dulcimer making\, including the carving of the scroll. Participants will leave with a working knowledge of dulcimer making\, and a handcrafted instrument ready for a lifetime of making music.
URL:https://adirondackfolkschool.org/event/adirondack-dulcimer-making-3/
LOCATION:Adirondack Folk School\, 51 Main St.\, Lake Luzerne\, NY\, 12846\, United States
CATEGORIES:Woodworking
ATTACH;FMTTYPE=image/jpeg:https://adirondackfolkschool.org/wp-content/uploads/2022/01/Dulcimer-2-scaled.jpg
END:VEVENT
BEGIN:VEVENT
DTSTART;TZID=America/New_York:20220813T090000
DTEND;TZID=America/New_York:20220813T160000
DTSTAMP:20260422T230633
CREATED:20220202T170227Z
LAST-MODIFIED:20220202T170227Z
UID:10001323-1660381200-1660406400@adirondackfolkschool.org
SUMMARY:Sagamore Chair
DESCRIPTION:Over 100 years ago\, the famous Sagamore Hotel was built as an exclusive resort on Lake George in the Adirondacks. Its luxurious and spacious accommodations attracted the millionaires of the day\, and the hotel continues to bring people from around the world to its spectacular spot on the lake. Come create a bit of history as you build a Sagamore chair using patterns struck from one of the original chairs; all the forms and patterns necessary are provided. Learn how to steam bend local Adirondack Red Oak into the graceful forms of this one-of-a-kind chair that is both beautiful and comfortable. Working with a variety of hand tools\, you will bend and fasten the slats\, laminate frame elements\, join everything together and sand\, finish and complete a beautiful chair ready for a prominent spot in your camp or home. Some prior woodworking experience is helpful\, but beginners are welcome too.
URL:https://adirondackfolkschool.org/event/sagamore-chair-10/
LOCATION:NY
CATEGORIES:Woodworking
ATTACH;FMTTYPE=image/jpeg:https://adirondackfolkschool.org/wp-content/uploads/2022/01/Sagamore-Chair-Benjamin.jpeg
END:VEVENT
BEGIN:VEVENT
DTSTART;TZID=America/New_York:20220813T090000
DTEND;TZID=America/New_York:20220813T170000
DTSTAMP:20260422T230633
CREATED:20220202T165456Z
LAST-MODIFIED:20220202T165456Z
UID:10001176-1660381200-1660410000@adirondackfolkschool.org
SUMMARY:Adirondack Dulcimer Making
DESCRIPTION:Drawing from over 30 years of fine instrument making\, Martin Macica will share his knowledge of the principles and practice of dulcimer making\, leading participants through the process of making their own dulcimer from scratch using hand tools. This intensive course will cover every aspect of dulcimer making\, including the carving of the scroll. Participants will leave with a working knowledge of dulcimer making\, and a handcrafted instrument ready for a lifetime of making music.
URL:https://adirondackfolkschool.org/event/adirondack-dulcimer-making-4/
LOCATION:Adirondack Folk School\, 51 Main St.\, Lake Luzerne\, NY\, 12846\, United States
CATEGORIES:Woodworking
ATTACH;FMTTYPE=image/jpeg:https://adirondackfolkschool.org/wp-content/uploads/2022/01/Dulcimer-2-scaled.jpg
END:VEVENT
BEGIN:VEVENT
DTSTART;TZID=America/New_York:20220814T090000
DTEND;TZID=America/New_York:20220814T160000
DTSTAMP:20260422T230633
CREATED:20220202T170241Z
LAST-MODIFIED:20220202T170241Z
UID:10001324-1660467600-1660492800@adirondackfolkschool.org
SUMMARY:Sagamore Chair
DESCRIPTION:Over 100 years ago\, the famous Sagamore Hotel was built as an exclusive resort on Lake George in the Adirondacks. Its luxurious and spacious accommodations attracted the millionaires of the day\, and the hotel continues to bring people from around the world to its spectacular spot on the lake. Come create a bit of history as you build a Sagamore chair using patterns struck from one of the original chairs; all the forms and patterns necessary are provided. Learn how to steam bend local Adirondack Red Oak into the graceful forms of this one-of-a-kind chair that is both beautiful and comfortable. Working with a variety of hand tools\, you will bend and fasten the slats\, laminate frame elements\, join everything together and sand\, finish and complete a beautiful chair ready for a prominent spot in your camp or home. Some prior woodworking experience is helpful\, but beginners are welcome too.
URL:https://adirondackfolkschool.org/event/sagamore-chair-11/
LOCATION:NY
CATEGORIES:Woodworking
ATTACH;FMTTYPE=image/jpeg:https://adirondackfolkschool.org/wp-content/uploads/2022/01/Sagamore-Chair-Benjamin.jpeg
END:VEVENT
BEGIN:VEVENT
DTSTART;TZID=America/New_York:20220815T090000
DTEND;TZID=America/New_York:20220815T160000
DTSTAMP:20260422T230633
CREATED:20220202T170241Z
LAST-MODIFIED:20220202T170241Z
UID:10001325-1660554000-1660579200@adirondackfolkschool.org
SUMMARY:Sagamore Chair
DESCRIPTION:Over 100 years ago\, the famous Sagamore Hotel was built as an exclusive resort on Lake George in the Adirondacks. Its luxurious and spacious accommodations attracted the millionaires of the day\, and the hotel continues to bring people from around the world to its spectacular spot on the lake. Come create a bit of history as you build a Sagamore chair using patterns struck from one of the original chairs; all the forms and patterns necessary are provided. Learn how to steam bend local Adirondack Red Oak into the graceful forms of this one-of-a-kind chair that is both beautiful and comfortable. Working with a variety of hand tools\, you will bend and fasten the slats\, laminate frame elements\, join everything together and sand\, finish and complete a beautiful chair ready for a prominent spot in your camp or home. Some prior woodworking experience is helpful\, but beginners are welcome too.
URL:https://adirondackfolkschool.org/event/sagamore-chair-12/
LOCATION:NY
CATEGORIES:Woodworking
ATTACH;FMTTYPE=image/jpeg:https://adirondackfolkschool.org/wp-content/uploads/2022/01/Sagamore-Chair-Benjamin.jpeg
END:VEVENT
BEGIN:VEVENT
DTSTART;TZID=America/New_York:20220820T090000
DTEND;TZID=America/New_York:20220820T120000
DTSTAMP:20260422T230633
CREATED:20220217T234217Z
LAST-MODIFIED:20220217T234217Z
UID:10001503-1660986000-1660996800@adirondackfolkschool.org
SUMMARY:Build a Rustic Birdhouse
DESCRIPTION:Anyone can learn to make a rustic birdhouse in just a few hours. A birdhouse is a simple structure with seven basic parts: two sides\, a front and back\, a bottom\, and two pieces for the top. Power tools are not necessary to cut the wood; it can be done with a handsaw. Using rough-cut lumber\, you will construct a rustic birdhouse that can be functional and/or decorative. Choose from several birdhouse designs. There will be a short discussion about nesting birds\, feeding birds and suitable houses for area birds. Participants are encouraged to bring objects (such as old drawer pulls\, doorknobs\, hardware\, etc.) from home. Adults and teens welcome; children ages 10-14 must be accompanied by an adult.
URL:https://adirondackfolkschool.org/event/build-a-rustic-birdhouse/
LOCATION:Adirondack Folk School\, 51 Main St.\, Lake Luzerne\, NY\, 12846\, United States
CATEGORIES:Woodworking
ATTACH;FMTTYPE=image/jpeg:https://adirondackfolkschool.org/wp-content/uploads/2022/01/Build-a-Rustic-Birdhouse-scaled.jpg
END:VEVENT
BEGIN:VEVENT
DTSTART;TZID=America/New_York:20220821T090000
DTEND;TZID=America/New_York:20220821T120000
DTSTAMP:20260422T230633
CREATED:20220217T234714Z
LAST-MODIFIED:20220217T234714Z
UID:10001363-1661072400-1661083200@adirondackfolkschool.org
SUMMARY:Hiking Stick
DESCRIPTION:Learn how to make your very own personal hiking stick. Begin by selecting the perfect stick collected by the instructor. Then you will learn how to shave and carve your hiking stick. Once you are happy with your creation\, the sticks will be completed by drilling a hole in them and adding a lanyard. Once finished\, put your stick to good use on the trail running right by our school!
URL:https://adirondackfolkschool.org/event/hiking-stick/
LOCATION:Adirondack Folk School\, 51 Main St.\, Lake Luzerne\, NY\, 12846\, United States
CATEGORIES:Woodworking
ATTACH;FMTTYPE=image/jpeg:https://adirondackfolkschool.org/wp-content/uploads/2022/01/Walking-Stick-2.jpg
END:VEVENT
END:VCALENDAR