BEGIN:VCALENDAR
VERSION:2.0
PRODID:-//Adirondack Folk School - ECPv6.15.12.2//NONSGML v1.0//EN
CALSCALE:GREGORIAN
METHOD:PUBLISH
X-ORIGINAL-URL:https://adirondackfolkschool.org
X-WR-CALDESC:Events for Adirondack Folk School
REFRESH-INTERVAL;VALUE=DURATION:PT1H
X-Robots-Tag:noindex
X-PUBLISHED-TTL:PT1H
BEGIN:VTIMEZONE
TZID:America/New_York
BEGIN:DAYLIGHT
TZOFFSETFROM:-0500
TZOFFSETTO:-0400
TZNAME:EDT
DTSTART:20210314T070000
END:DAYLIGHT
BEGIN:STANDARD
TZOFFSETFROM:-0400
TZOFFSETTO:-0500
TZNAME:EST
DTSTART:20211107T060000
END:STANDARD
BEGIN:DAYLIGHT
TZOFFSETFROM:-0500
TZOFFSETTO:-0400
TZNAME:EDT
DTSTART:20220313T070000
END:DAYLIGHT
BEGIN:STANDARD
TZOFFSETFROM:-0400
TZOFFSETTO:-0500
TZNAME:EST
DTSTART:20221106T060000
END:STANDARD
BEGIN:DAYLIGHT
TZOFFSETFROM:-0500
TZOFFSETTO:-0400
TZNAME:EDT
DTSTART:20230312T070000
END:DAYLIGHT
BEGIN:STANDARD
TZOFFSETFROM:-0400
TZOFFSETTO:-0500
TZNAME:EST
DTSTART:20231105T060000
END:STANDARD
END:VTIMEZONE
BEGIN:VEVENT
DTSTART;TZID=America/New_York:20220911T090000
DTEND;TZID=America/New_York:20220911T160000
DTSTAMP:20260422T213227
CREATED:20220217T234702Z
LAST-MODIFIED:20220217T234702Z
UID:10001361-1662886800-1662912000@adirondackfolkschool.org
SUMMARY:Scroll Saw Puzzle Making
DESCRIPTION:Wooden puzzles are a great project whether you are a beginner or experienced woodworker. In this class students will learn the basics of the safe operation of a scroll saw\, proper blade selection and installation\, pattern transfer\, proper cutting techniques and proper body positioning at the saw table. Each student will progress from learning to make moderate curves to tight curves using the scroll saw by producing\, first\, a wood maple leaf and progressing through more difficult patterns to a final puzzle which will require attention to detail and care in cutting. Come learn the secret tricks to ensure your puzzle is a success. It can make the perfect gift\, too.
URL:https://adirondackfolkschool.org/event/scroll-saw-puzzle-making-2/
LOCATION:Adirondack Folk School\, 51 Main St.\, Lake Luzerne\, NY\, 12846\, United States
CATEGORIES:Woodworking
ATTACH;FMTTYPE=image/jpeg:https://adirondackfolkschool.org/wp-content/uploads/2022/01/Scroll-Saw-Puzzles-Ulrich.jpeg
END:VEVENT
BEGIN:VEVENT
DTSTART;TZID=America/New_York:20220917T090000
DTEND;TZID=America/New_York:20220917T120000
DTSTAMP:20260422T213227
CREATED:20220217T234230Z
LAST-MODIFIED:20220217T234230Z
UID:10001504-1663405200-1663416000@adirondackfolkschool.org
SUMMARY:Build a Rustic Birdhouse
DESCRIPTION:Anyone can learn to make a rustic birdhouse in just a few hours. A birdhouse is a simple structure with seven basic parts: two sides\, a front and back\, a bottom\, and two pieces for the top. Power tools are not necessary to cut the wood; it can be done with a handsaw. Using rough-cut lumber\, you will construct a rustic birdhouse that can be functional and/or decorative. Choose from several birdhouse designs. There will be a short discussion about nesting birds\, feeding birds and suitable houses for area birds. Participants are encouraged to bring objects (such as old drawer pulls\, doorknobs\, hardware\, etc.) from home. Adults and teens welcome; children ages 10-14 must be accompanied by an adult.
URL:https://adirondackfolkschool.org/event/build-a-rustic-birdhouse-2/
LOCATION:Adirondack Folk School\, 51 Main St.\, Lake Luzerne\, NY\, 12846\, United States
CATEGORIES:Woodworking
ATTACH;FMTTYPE=image/jpeg:https://adirondackfolkschool.org/wp-content/uploads/2022/01/Build-a-Rustic-Birdhouse-scaled.jpg
END:VEVENT
BEGIN:VEVENT
DTSTART;TZID=America/New_York:20220918T090000
DTEND;TZID=America/New_York:20220918T120000
DTSTAMP:20260422T213227
CREATED:20220217T234715Z
LAST-MODIFIED:20220217T234715Z
UID:10001364-1663491600-1663502400@adirondackfolkschool.org
SUMMARY:Hiking Stick
DESCRIPTION:Learn how to make your very own personal hiking stick. Begin by selecting the perfect stick collected by the instructor. Then you will learn how to shave and carve your hiking stick. Once you are happy with your creation\, the sticks will be completed by drilling a hole in them and adding a lanyard. Once finished\, put your stick to good use on the trail running right by our school!
URL:https://adirondackfolkschool.org/event/hiking-stick-2/
LOCATION:Adirondack Folk School\, 51 Main St.\, Lake Luzerne\, NY\, 12846\, United States
CATEGORIES:Woodworking
ATTACH;FMTTYPE=image/jpeg:https://adirondackfolkschool.org/wp-content/uploads/2022/01/Walking-Stick-2.jpg
END:VEVENT
BEGIN:VEVENT
DTSTART;TZID=America/New_York:20220923T090000
DTEND;TZID=America/New_York:20220923T160000
DTSTAMP:20260422T213227
CREATED:20220202T170112Z
LAST-MODIFIED:20220202T170112Z
UID:10001288-1663923600-1663948800@adirondackfolkschool.org
SUMMARY:Walking Stick with Inlaid Compass
DESCRIPTION:Take your next hike or walk around the corner with a unique hand-crafted walking stick. Frank will guide you through the process of taking a piece of ironwood and transforming it into a walking stick that will last a lifetime. The inlaid compass will help ensure you don’t lose your way on the trail! Makes a wonderful gift for the hikers in your life!
URL:https://adirondackfolkschool.org/event/walking-stick-with-inlaid-compass-3/
LOCATION:Adirondack Folk School\, 51 Main St.\, Lake Luzerne\, NY\, 12846\, United States
CATEGORIES:Woodworking
ATTACH;FMTTYPE=image/jpeg:https://adirondackfolkschool.org/wp-content/uploads/2022/01/Walking-Stick-with-Compass-Lagace.jpg
END:VEVENT
END:VCALENDAR