BEGIN:VCALENDAR
VERSION:2.0
PRODID:-//Adirondack Folk School - ECPv6.15.12.2//NONSGML v1.0//EN
CALSCALE:GREGORIAN
METHOD:PUBLISH
X-ORIGINAL-URL:https://adirondackfolkschool.org
X-WR-CALDESC:Events for Adirondack Folk School
REFRESH-INTERVAL;VALUE=DURATION:PT1H
X-Robots-Tag:noindex
X-PUBLISHED-TTL:PT1H
BEGIN:VTIMEZONE
TZID:America/New_York
BEGIN:DAYLIGHT
TZOFFSETFROM:-0500
TZOFFSETTO:-0400
TZNAME:EDT
DTSTART:20210314T070000
END:DAYLIGHT
BEGIN:STANDARD
TZOFFSETFROM:-0400
TZOFFSETTO:-0500
TZNAME:EST
DTSTART:20211107T060000
END:STANDARD
BEGIN:DAYLIGHT
TZOFFSETFROM:-0500
TZOFFSETTO:-0400
TZNAME:EDT
DTSTART:20220313T070000
END:DAYLIGHT
BEGIN:STANDARD
TZOFFSETFROM:-0400
TZOFFSETTO:-0500
TZNAME:EST
DTSTART:20221106T060000
END:STANDARD
BEGIN:DAYLIGHT
TZOFFSETFROM:-0500
TZOFFSETTO:-0400
TZNAME:EDT
DTSTART:20230312T070000
END:DAYLIGHT
BEGIN:STANDARD
TZOFFSETFROM:-0400
TZOFFSETTO:-0500
TZNAME:EST
DTSTART:20231105T060000
END:STANDARD
END:VTIMEZONE
BEGIN:VEVENT
DTSTART;TZID=America/New_York:20221201T090000
DTEND;TZID=America/New_York:20221201T160000
DTSTAMP:20260422T171929
CREATED:20220217T234832Z
LAST-MODIFIED:20220217T234832Z
UID:10001644-1669885200-1669910400@adirondackfolkschool.org
SUMMARY:Introduction to Pyrography
DESCRIPTION:In this class you will be introduced to the wonderful art of pyrography (wood burning). You will learn all the basics of wood burning\, from the different tips of your wood burning tool\, to how to transfer your design onto the wood.
URL:https://adirondackfolkschool.org/event/introduction-to-pyrography-5/
LOCATION:Adirondack Folk School\, 51 Main St.\, Lake Luzerne\, NY\, 12846\, United States
CATEGORIES:Woodworking
ATTACH;FMTTYPE=image/jpeg:https://adirondackfolkschool.org/wp-content/uploads/2022/01/Intro-to-Pyrography-Collier.jpg
END:VEVENT
BEGIN:VEVENT
DTSTART;TZID=America/New_York:20221210T090000
DTEND;TZID=America/New_York:20221210T160000
DTSTAMP:20260422T171929
CREATED:20220217T234500Z
LAST-MODIFIED:20220217T234500Z
UID:10001565-1670662800-1670688000@adirondackfolkschool.org
SUMMARY:Children's Wooden Roller Coaster Toy
DESCRIPTION:Interested in building an heirloom toy for family or friends? This solid wood roller coaster with wooden cars\, which you will also build\, is sure to bring a smile to their faces! No previous woodworking skills required.
URL:https://adirondackfolkschool.org/event/childrens-wooden-roller-coaster-toy-3/
LOCATION:Adirondack Folk School\, 51 Main St.\, Lake Luzerne\, NY\, 12846\, United States
CATEGORIES:Woodworking
ATTACH;FMTTYPE=image/jpeg:https://adirondackfolkschool.org/wp-content/uploads/2022/01/Children_s-Wood-Roller-Coaster-Toy-Lagace-rotated.jpg
END:VEVENT
END:VCALENDAR