BEGIN:VCALENDAR
VERSION:2.0
PRODID:-//Adirondack Folk School - ECPv6.15.12.2//NONSGML v1.0//EN
CALSCALE:GREGORIAN
METHOD:PUBLISH
X-WR-CALNAME:Adirondack Folk School
X-ORIGINAL-URL:https://adirondackfolkschool.org
X-WR-CALDESC:Events for Adirondack Folk School
REFRESH-INTERVAL;VALUE=DURATION:PT1H
X-Robots-Tag:noindex
X-PUBLISHED-TTL:PT1H
BEGIN:VTIMEZONE
TZID:America/New_York
BEGIN:DAYLIGHT
TZOFFSETFROM:-0500
TZOFFSETTO:-0400
TZNAME:EDT
DTSTART:20220313T070000
END:DAYLIGHT
BEGIN:STANDARD
TZOFFSETFROM:-0400
TZOFFSETTO:-0500
TZNAME:EST
DTSTART:20221106T060000
END:STANDARD
BEGIN:DAYLIGHT
TZOFFSETFROM:-0500
TZOFFSETTO:-0400
TZNAME:EDT
DTSTART:20230312T070000
END:DAYLIGHT
BEGIN:STANDARD
TZOFFSETFROM:-0400
TZOFFSETTO:-0500
TZNAME:EST
DTSTART:20231105T060000
END:STANDARD
BEGIN:DAYLIGHT
TZOFFSETFROM:-0500
TZOFFSETTO:-0400
TZNAME:EDT
DTSTART:20240310T070000
END:DAYLIGHT
BEGIN:STANDARD
TZOFFSETFROM:-0400
TZOFFSETTO:-0500
TZNAME:EST
DTSTART:20241103T060000
END:STANDARD
END:VTIMEZONE
BEGIN:VEVENT
DTSTART;TZID=America/New_York:20230403T090000
DTEND;TZID=America/New_York:20230403T170000
DTSTAMP:20260421T120028
CREATED:20221214T231306Z
LAST-MODIFIED:20221214T231306Z
UID:10001938-1680512400-1680541200@adirondackfolkschool.org
SUMMARY:Block Plane
DESCRIPTION:Open a new chapter in your wood working journey by making your own hand tool. Shape the wood body\, harden and temper steel for the blade and make your first shavings all in one day!
URL:https://adirondackfolkschool.org/event/block-plane-2/
LOCATION:Adirondack Folk School\, 51 Main St.\, Lake Luzerne\, NY\, 12846\, United States
CATEGORIES:Woodworking
ATTACH;FMTTYPE=image/jpeg:https://adirondackfolkschool.org/wp-content/uploads/2022/01/NEW-PIC-Block-Plane-Pintar-scaled.jpg
END:VEVENT
BEGIN:VEVENT
DTSTART;TZID=America/New_York:20230404T090000
DTEND;TZID=America/New_York:20230404T160000
DTSTAMP:20260421T120028
CREATED:20221214T230536Z
LAST-MODIFIED:20221214T230536Z
UID:10001627-1680598800-1680624000@adirondackfolkschool.org
SUMMARY:Shaker Carriers
DESCRIPTION:This two-day workshop yields time enough to explore three styles of Shaker carriers; Fixed Handled\, Swinging Handled and Divided carriers. Construction steps and hardware application will be demonstrated\, and all participants will put their hands-to-work on their own carriers. These projects have a firm place in Shaker history as they were a very popular offering to “The World’s People” by Shaker craftsmen.
URL:https://adirondackfolkschool.org/event/shaker-carriers-5/
LOCATION:Adirondack Folk School\, 51 Main St.\, Lake Luzerne\, NY\, 12846\, United States
CATEGORIES:Woodworking
ATTACH;FMTTYPE=image/jpeg:https://adirondackfolkschool.org/wp-content/uploads/2022/01/Shaker-Carriers-Pintar.jpg
END:VEVENT
BEGIN:VEVENT
DTSTART;TZID=America/New_York:20230405T090000
DTEND;TZID=America/New_York:20230405T160000
DTSTAMP:20260421T120028
CREATED:20221214T230536Z
LAST-MODIFIED:20221214T230536Z
UID:10001906-1680685200-1680710400@adirondackfolkschool.org
SUMMARY:Shaker Carriers
DESCRIPTION:This two-day workshop yields time enough to explore three styles of Shaker carriers; Fixed Handled\, Swinging Handled and Divided carriers. Construction steps and hardware application will be demonstrated\, and all participants will put their hands-to-work on their own carriers. These projects have a firm place in Shaker history as they were a very popular offering to “The World’s People” by Shaker craftsmen.
URL:https://adirondackfolkschool.org/event/shaker-carriers-6/
LOCATION:Adirondack Folk School\, 51 Main St.\, Lake Luzerne\, NY\, 12846\, United States
CATEGORIES:Woodworking
ATTACH;FMTTYPE=image/jpeg:https://adirondackfolkschool.org/wp-content/uploads/2022/01/Shaker-Carriers-Pintar.jpg
END:VEVENT
BEGIN:VEVENT
DTSTART;TZID=America/New_York:20230406T090000
DTEND;TZID=America/New_York:20230406T160000
DTSTAMP:20260421T120028
CREATED:20221214T230437Z
LAST-MODIFIED:20221214T230437Z
UID:10001609-1680771600-1680796800@adirondackfolkschool.org
SUMMARY:Shaker Oval Nesting Boxes
DESCRIPTION:One of the most iconic items of Shaker woodworking\, nesting oval boxes share elegance\, simplicity and functionality equally. Using carefully prepared thin strips of wood each participant will carve the “swallowtails” or “fingers” on one end before soaking them in a hot water bath to soften for bending. Copper tacks are installed to hold the oval hoop together before top and bottom boards are fit and held by wooden pegs. Each student will construct five nesting oval boxes from cherry wood in this two-day workshop.
URL:https://adirondackfolkschool.org/event/shaker-oval-nesting-boxes-7/
LOCATION:Adirondack Folk School\, 51 Main St.\, Lake Luzerne\, NY\, 12846\, United States
CATEGORIES:Woodworking
ATTACH;FMTTYPE=image/jpeg:https://adirondackfolkschool.org/wp-content/uploads/2022/01/NEW-PIC_CLASS-NAME-Shaker-Oval-Nesting-Boxes-Pintar.jpg
END:VEVENT
BEGIN:VEVENT
DTSTART;TZID=America/New_York:20230407T090000
DTEND;TZID=America/New_York:20230407T160000
DTSTAMP:20260421T120028
CREATED:20221214T230437Z
LAST-MODIFIED:20221214T230437Z
UID:10001612-1680858000-1680883200@adirondackfolkschool.org
SUMMARY:Shaker Oval Nesting Boxes
DESCRIPTION:One of the most iconic items of Shaker woodworking\, nesting oval boxes share elegance\, simplicity and functionality equally. Using carefully prepared thin strips of wood each participant will carve the “swallowtails” or “fingers” on one end before soaking them in a hot water bath to soften for bending. Copper tacks are installed to hold the oval hoop together before top and bottom boards are fit and held by wooden pegs. Each student will construct five nesting oval boxes from cherry wood in this two-day workshop.
URL:https://adirondackfolkschool.org/event/shaker-oval-nesting-boxes-8/
LOCATION:Adirondack Folk School\, 51 Main St.\, Lake Luzerne\, NY\, 12846\, United States
CATEGORIES:Woodworking
ATTACH;FMTTYPE=image/jpeg:https://adirondackfolkschool.org/wp-content/uploads/2022/01/NEW-PIC_CLASS-NAME-Shaker-Oval-Nesting-Boxes-Pintar.jpg
END:VEVENT
BEGIN:VEVENT
DTSTART;TZID=America/New_York:20230414T170000
DTEND;TZID=America/New_York:20230414T210000
DTSTAMP:20260421T120028
CREATED:20221214T231752Z
LAST-MODIFIED:20221214T231752Z
UID:10001671-1681491600-1681506000@adirondackfolkschool.org
SUMMARY:Create Your Own Hardwood Cutting Board
DESCRIPTION:Come create a beautiful 12″-18″ hardwood cutting board during two\, half-day sessions. The class will discuss the types of wood being used\, such as sapele\, purple heart\, African cherry and hard maple. The wood will be cut to size on a table saw. Then\, using a joiner\, students will make sure all pieces are the same size before gluing the various pieces together and allowing them to dry overnight. On the second day\, the class will use planers to ensure that all boards are level and the same thickness. Students will then use a router to create a well and handles. Finally\, the boards will be sanded.
URL:https://adirondackfolkschool.org/event/create-your-own-hardwood-cutting-board-9/
LOCATION:Adirondack Folk School\, 51 Main St.\, Lake Luzerne\, NY\, 12846\, United States
CATEGORIES:Woodworking
END:VEVENT
BEGIN:VEVENT
DTSTART;TZID=America/New_York:20230415T090000
DTEND;TZID=America/New_York:20230415T130000
DTSTAMP:20260421T120028
CREATED:20221214T231753Z
LAST-MODIFIED:20221214T231753Z
UID:10001673-1681549200-1681563600@adirondackfolkschool.org
SUMMARY:Create Your Own Hardwood Cutting Board
DESCRIPTION:Come create a beautiful 12″-18″ hardwood cutting board during two\, half-day sessions. The class will discuss the types of wood being used\, such as sapele\, purple heart\, African cherry and hard maple. The wood will be cut to size on a table saw. Then\, using a joiner\, students will make sure all pieces are the same size before gluing the various pieces together and allowing them to dry overnight. On the second day\, the class will use planers to ensure that all boards are level and the same thickness. Students will then use a router to create a well and handles. Finally\, the boards will be sanded.
URL:https://adirondackfolkschool.org/event/create-your-own-hardwood-cutting-board-10/
LOCATION:Adirondack Folk School\, 51 Main St.\, Lake Luzerne\, NY\, 12846\, United States
CATEGORIES:Woodworking
END:VEVENT
BEGIN:VEVENT
DTSTART;TZID=America/New_York:20230428T090000
DTEND;TZID=America/New_York:20230428T160000
DTSTAMP:20260421T120028
CREATED:20221214T232122Z
LAST-MODIFIED:20221214T232122Z
UID:10001982-1682672400-1682697600@adirondackfolkschool.org
SUMMARY:Scroll Saw Puzzle Making
DESCRIPTION:Wooden puzzles are a great project whether you are a beginner or experienced woodworker. In this class students will learn the basics of the safe operation of a scroll saw\, proper blade selection and installation\, pattern transfer\, proper cutting techniques and proper body positioning at the saw table. Each student will progress from learning to make moderate curves to tight curves using the scroll saw by producing\, first\, a wood maple leaf and progressing through more difficult patterns to a final puzzle which will require attention to detail and care in cutting. Come learn the secret tricks to ensure your puzzle is a success. It can make the perfect gift\, too.
URL:https://adirondackfolkschool.org/event/scroll-saw-puzzle-making-3/
LOCATION:Adirondack Folk School\, 51 Main St.\, Lake Luzerne\, NY\, 12846\, United States
CATEGORIES:Woodworking
ATTACH;FMTTYPE=image/jpeg:https://adirondackfolkschool.org/wp-content/uploads/2022/01/Scroll-Saw-Puzzles-Ulrich.jpeg
END:VEVENT
BEGIN:VEVENT
DTSTART;TZID=America/New_York:20230430T090000
DTEND;TZID=America/New_York:20230430T160000
DTSTAMP:20260421T120028
CREATED:20221214T232738Z
LAST-MODIFIED:20221214T232738Z
UID:10001728-1682845200-1682870400@adirondackfolkschool.org
SUMMARY:Make Your Own Adirondack Chair
DESCRIPTION:In 1903\, the first Adirondack chair was built in the town of Westport\, N.Y. and has since taken the world by storm. Its contoured seat and back\, along with its wide arms make it the perfect chair for lounging in after a hard day’s work. You will start with surfaced pine\, cut the pieces\, shape them on a router table\, sand them and then assemble your own Adirondack chair.
URL:https://adirondackfolkschool.org/event/make-your-own-adirondack-chair-3/
LOCATION:Adirondack Folk School\, 51 Main St.\, Lake Luzerne\, NY\, 12846\, United States
CATEGORIES:Woodworking
ATTACH;FMTTYPE=image/jpeg:https://adirondackfolkschool.org/wp-content/uploads/2022/01/Cerveny-ADK-Chair-2.jpg
END:VEVENT
END:VCALENDAR