BEGIN:VCALENDAR
VERSION:2.0
PRODID:-//Adirondack Folk School - ECPv6.15.12.2//NONSGML v1.0//EN
CALSCALE:GREGORIAN
METHOD:PUBLISH
X-WR-CALNAME:Adirondack Folk School
X-ORIGINAL-URL:https://adirondackfolkschool.org
X-WR-CALDESC:Events for Adirondack Folk School
REFRESH-INTERVAL;VALUE=DURATION:PT1H
X-Robots-Tag:noindex
X-PUBLISHED-TTL:PT1H
BEGIN:VTIMEZONE
TZID:America/New_York
BEGIN:DAYLIGHT
TZOFFSETFROM:-0500
TZOFFSETTO:-0400
TZNAME:EDT
DTSTART:20220313T070000
END:DAYLIGHT
BEGIN:STANDARD
TZOFFSETFROM:-0400
TZOFFSETTO:-0500
TZNAME:EST
DTSTART:20221106T060000
END:STANDARD
BEGIN:DAYLIGHT
TZOFFSETFROM:-0500
TZOFFSETTO:-0400
TZNAME:EDT
DTSTART:20230312T070000
END:DAYLIGHT
BEGIN:STANDARD
TZOFFSETFROM:-0400
TZOFFSETTO:-0500
TZNAME:EST
DTSTART:20231105T060000
END:STANDARD
BEGIN:DAYLIGHT
TZOFFSETFROM:-0500
TZOFFSETTO:-0400
TZNAME:EDT
DTSTART:20240310T070000
END:DAYLIGHT
BEGIN:STANDARD
TZOFFSETFROM:-0400
TZOFFSETTO:-0500
TZNAME:EST
DTSTART:20241103T060000
END:STANDARD
END:VTIMEZONE
BEGIN:VEVENT
DTSTART;TZID=America/New_York:20231208T090000
DTEND;TZID=America/New_York:20231208T160000
DTSTAMP:20260419T232055
CREATED:20221214T224851Z
LAST-MODIFIED:20221214T224851Z
UID:10001833-1702026000-1702051200@adirondackfolkschool.org
SUMMARY:Bird Condo Tower
DESCRIPTION:If you’re a fan of birdwatching and want to create a space for the birds that call your yard home\, then this is the class for you! Create your own unique “Bird Condo” with plenty of space for backyard birds to roost.
URL:https://adirondackfolkschool.org/event/bird-condo-tower-3/
LOCATION:Adirondack Folk School\, 51 Main St.\, Lake Luzerne\, NY\, 12846\, United States
CATEGORIES:Woodworking
ATTACH;FMTTYPE=image/jpeg:https://adirondackfolkschool.org/wp-content/uploads/2022/12/Bird-Condo-Tower_Frank-Lagace.jpg
END:VEVENT
BEGIN:VEVENT
DTSTART;TZID=America/New_York:20231209T090000
DTEND;TZID=America/New_York:20231209T160000
DTSTAMP:20260419T232055
CREATED:20221214T224852Z
LAST-MODIFIED:20221214T224852Z
UID:10001834-1702112400-1702137600@adirondackfolkschool.org
SUMMARY:Bird Condo Tower
DESCRIPTION:If you’re a fan of birdwatching and want to create a space for the birds that call your yard home\, then this is the class for you! Create your own unique “Bird Condo” with plenty of space for backyard birds to roost.
URL:https://adirondackfolkschool.org/event/bird-condo-tower-4/
LOCATION:Adirondack Folk School\, 51 Main St.\, Lake Luzerne\, NY\, 12846\, United States
CATEGORIES:Woodworking
ATTACH;FMTTYPE=image/jpeg:https://adirondackfolkschool.org/wp-content/uploads/2022/12/Bird-Condo-Tower_Frank-Lagace.jpg
END:VEVENT
BEGIN:VEVENT
DTSTART;TZID=America/New_York:20231215T170000
DTEND;TZID=America/New_York:20231215T210000
DTSTAMP:20260419T232055
CREATED:20221214T231753Z
LAST-MODIFIED:20221214T231753Z
UID:10001675-1702659600-1702674000@adirondackfolkschool.org
SUMMARY:Create Your Own Hardwood Cutting Board
DESCRIPTION:Come create a beautiful 12″-18″ hardwood cutting board during two\, half-day sessions. The class will discuss the types of wood being used\, such as sapele\, purple heart\, African cherry and hard maple. The wood will be cut to size on a table saw. Then\, using a joiner\, students will make sure all pieces are the same size before gluing the various pieces together and allowing them to dry overnight. On the second day\, the class will use planers to ensure that all boards are level and the same thickness. Students will then use a router to create a well and handles. Finally\, the boards will be sanded.
URL:https://adirondackfolkschool.org/event/create-your-own-hardwood-cutting-board-11/
LOCATION:Adirondack Folk School\, 51 Main St.\, Lake Luzerne\, NY\, 12846\, United States
CATEGORIES:Woodworking
END:VEVENT
BEGIN:VEVENT
DTSTART;TZID=America/New_York:20231216T090000
DTEND;TZID=America/New_York:20231216T130000
DTSTAMP:20260419T232055
CREATED:20221214T231806Z
LAST-MODIFIED:20221214T231806Z
UID:10001677-1702717200-1702731600@adirondackfolkschool.org
SUMMARY:Create Your Own Hardwood Cutting Board
DESCRIPTION:Come create a beautiful 12″-18″ hardwood cutting board during two\, half-day sessions. The class will discuss the types of wood being used\, such as sapele\, purple heart\, African cherry and hard maple. The wood will be cut to size on a table saw. Then\, using a joiner\, students will make sure all pieces are the same size before gluing the various pieces together and allowing them to dry overnight. On the second day\, the class will use planers to ensure that all boards are level and the same thickness. Students will then use a router to create a well and handles. Finally\, the boards will be sanded.
URL:https://adirondackfolkschool.org/event/create-your-own-hardwood-cutting-board-12/
LOCATION:Adirondack Folk School\, 51 Main St.\, Lake Luzerne\, NY\, 12846\, United States
CATEGORIES:Woodworking
END:VEVENT
END:VCALENDAR